Workbook
Name _GoBack: SO!$H$6

Sheet Introduction

Sheet SO
A1: Strategic Objective | J1: Hide these columns
A2: Increased stewardship of and strengthened enabling environment for effective, equitable and sustainable family planning programming
A3: Country: | E3: Date:
A4: Indicator | D4: Response | G4: Score | H4: Comments
A5: SO.1: Instances of a government-led council, coalition or entity that oversees and actively manages the family planning program | J5: Green | K5: Yellow | L5: Orange | M5: Red
A6: SO.1.1 | B6: Is there a government-led council or coalition that oversees FP? | J6: =IF(D6='Programming 1'!$A$10,1,"") | M6: =IF(D6='Programming 1'!$A$11,1,"") | O6: SO.1.1 is "No"
A7: SO.1.2 | B7: Does the council or coalition have influence? | J7: =IF($O7=1,"",IF($D7='Programming 1'!$A$3,1,"")) | K7: =IF($O7=1,"",IF($D7='Programming 1'!$A$4,1,"")) | L7: =IF($O7=1,"",IF($D7='Programming 1'!$A$5,1,"")) | M7: =IF(OR($O7=1,$D7='Programming 1'!$A$6),1,"") | O7: =IF($M$6=1,1,"")
A8: SO.1.3 | B8: Does the council or coalition have its own funding? | J8: =IF($O8=1,"",IF(D8='Programming 1'!$A$10,1,"")) | M8: =IF(OR($O8=1,$D8='Programming 1'!$A$11),1,"") | O8: =IF($M$6=1,1,"")
A9: SO.1.4 | B9: Does the council or coalition control how funding is allocated? | J9: =IF($O9=1,"",IF($D9='Programming 1'!$A$75,1,"")) | K9: =IF($O9=1,"",IF($D9='Programming 1'!$A$76,1,"")) | L9: =IF($O9=1,"",IF($D9='Programming 1'!$A$77,1,"")) | M9: =IF(OR($O9=1,$D9='Programming 1'!$A$78),1,"") | O9: =IF($M$6=1,1,"")
A10: SO.1.5 | B10: Does the council or coalition actively coordinate and manage the national FP program? | J10: =IF($O10=1,"",IF(D10='Programming 1'!$A$10,1,"")) | M10: =IF(OR($O10=1,$D10='Programming 1'!$A$11),1,"") | O10: =IF($M$6=1,1,"")
A11: SO.2: Evidence of documented improvement in the enabling environment for family planning using a validated instrument
A12: Indicator | C12: Applicable? | D12: Data Point 1 (required) | E12: Data Point 2 (required) | F12: Regional or Target (optional) | G12: Score | H12: Comments | O12: Not applicable | P12: No data | Q12: No regional target | R12: Trend | S12: Point 2 relative to region
A13: SO.2.1 | B13: Does the most recent FPES show improvement in the FP enabling environment? (Please enter most recent score along with a historical score and regional comparison) | C13: Applicable | J13: =IF($O13=1,"",IF($P13=1,"",IF($Q13=1,IF($R13="up",1,""),IF(AND($R13="up",$S13="above"),1,"")))) | K13: =IF($O13=1,"",IF($P13=1,"",IF($Q13=1,"",IF(OR(AND($R13="up",$S13="equal"),AND($R13="flat",$S13="above"),AND($R13="down",$S13="above"),AND($R13="up",$S13="below")),1,"")))) | L13: =IF($O13=1,"",IF($P13=1,"",IF($Q13=1,IF($R13="flat",1,""),IF(OR(AND($R13="down",$S13="equal"),AND($R13="flat",$S13="below"),AND($R13="flat",$S13="equal")),1,"")))) | M13: =IF($O13=1,"",IF($P13=1,"",IF($Q13=1,IF($R13="down",1,""),IF(AND($R13="down",$S13="below"),1,"")))) | O13: =IF($C13='Programming 1'!$A$81,1,IF($C13='Programming 1'!$A$80,"","ERROR")) | P13: =IF(AND(ISBLANK($D13),ISBLANK($E13),ISBLANK($F13)),1,"") -> 1 | Q13: =IF(ISBLANK($F13),1,"") -> 1 | R13: =IF($E13>$D13,"up",IF($E13=$D13,"flat",IF($E13<$D13,"down","ERROR"))) -> flat | S13: =IF(ISBLANK($F13),"no target",IF($E13>$F13,"above",IF($E13=$F13,"equal",IF($E13<$F13,"below","ERROR")))) -> no target
A14: SO.2.2 | B14: Does the most recent PES show improvement in the FP enabling environment? (Please enter most recent score along with a historical score and regional comparison) | C14: Not applicable | J14: =IF($O14=1,"",IF($P14=1,"",IF($Q14=1,IF($R14="up",1,""),IF(AND($R14="up",$S14="above"),1,"")))) | K14: =IF($O14=1,"",IF($P14=1,"",IF($Q14=1,"",IF(OR(AND($R14="up",$S14="equal"),AND($R14="flat",$S14="above"),AND($R14="down",$S14="above"),AND($R14="up",$S14="below")),1,"")))) | L14: =IF($O14=1,"",IF($P14=1,"",IF($Q14=1,IF($R14="flat",1,""),IF(OR(AND($R14="down",$S14="equal"),AND($R14="flat",$S14="below"),AND($R14="flat",$S14="equal")),1,"")))) | M14: =IF($O14=1,"",IF($P14=1,"",IF($Q14=1,IF($R14="down",1,""),IF(AND($R14="down",$S14="below"),1,"")))) | O14: =IF($C14='Programming 1'!$A$81,1,IF($C14='Programming 1'!$A$80,"","ERROR")) -> 1 | P14: =IF(AND(ISBLANK($D14),ISBLANK($E14),ISBLANK($F14)),1,"") -> 1 | Q14: =IF(ISBLANK($F14),1,"") -> 1 | R14: =IF($E14>$D14,"up",IF($E14=$D14,"flat",IF($E14<$D14,"down","ERROR"))) -> flat | S14: =IF(ISBLANK($F14),"no target",IF($E14>$F14,"above",IF($E14=$F14,"equal",IF($E14<$F14,"below","ERROR")))) -> no target
A15: SO.2.3 | B15: Does the most recent Maternal and Neonatal Program Effort Index (MNPI) show improvement in the FP enabling environment? (Please enter most recent score along with a historical score and regional comparison) | C15: Applicable | J15: =IF($O15=1,"",IF($P15=1,"",IF($Q15=1,IF($R15="up",1,""),IF(AND($R15="up",$S15="above"),1,"")))) | K15: =IF($O15=1,"",IF($P15=1,"",IF($Q15=1,"",IF(OR(AND($R15="up",$S15="equal"),AND($R15="flat",$S15="above"),AND($R15="down",$S15="above"),AND($R15="up",$S15="below")),1,"")))) | L15: =IF($O15=1,"",IF($P15=1,"",IF($Q15=1,IF($R15="flat",1,""),IF(OR(AND($R15="down",$S15="equal"),AND($R15="flat",$S15="below"),AND($R15="flat",$S15="equal")),1,"")))) | M15: =IF($O15=1,"",IF($P15=1,"",IF($Q15=1,IF($R15="down",1,""),IF(AND($R15="down",$S15="below"),1,"")))) | O15: =IF($C15='Programming 1'!$A$81,1,IF($C15='Programming 1'!$A$80,"","ERROR")) | P15: =IF(AND(ISBLANK($D15),ISBLANK($E15),ISBLANK($F15)),1,"") -> 1 | Q15: =IF(ISBLANK($F15),1,"") -> 1 | R15: =IF($E15>$D15,"up",IF($E15=$D15,"flat",IF($E15<$D15,"down","ERROR"))) -> flat | S15: =IF(ISBLANK($F15),"no target",IF($E15>$F15,"above",IF($E15=$F15,"equal",IF($E15<$F15,"below","ERROR")))) -> no target
A16: SO.2.4 | B16: Does the most recent CS Index show improvement in the FP enabling environment? (Please enter most recent score along with a historical score and regional comparison) | C16: Not applicable | J16: =IF($O16=1,"",IF($P16=1,"",IF($Q16=1,IF($R16="up",1,""),IF(AND($R16="up",$S16="above"),1,"")))) | K16: =IF($O16=1,"",IF($P16=1,"",IF($Q16=1,"",IF(OR(AND($R16="up",$S16="equal"),AND($R16="flat",$S16="above"),AND($R16="down",$S16="above"),AND($R16="up",$S16="below")),1,"")))) | L16: =IF($O16=1,"",IF($P16=1,"",IF($Q16=1,IF($R16="flat",1,""),IF(OR(AND($R16="down",$S16="equal"),AND($R16="flat",$S16="below"),AND($R16="flat",$S16="equal")),1,"")))) | M16: =IF($O16=1,"",IF($P16=1,"",IF($Q16=1,IF($R16="down",1,""),IF(AND($R16="down",$S16="below"),1,"")))) | O16: =IF($C16='Programming 1'!$A$81,1,IF($C16='Programming 1'!$A$80,"","ERROR")) -> 1 | P16: =IF(AND(ISBLANK($D16),ISBLANK($E16),ISBLANK($F16)),1,"") -> 1 | Q16: =IF(ISBLANK($F16),1,"") -> 1 | R16: =IF($E16>$D16,"up",IF($E16=$D16,"flat",IF($E16<$D16,"down","ERROR"))) -> flat | S16: =IF(ISBLANK($F16),"no target",IF($E16>$F16,"above",IF($E16=$F16,"equal",IF($E16<$F16,"below","ERROR")))) -> no target
A17: SO.2.5 | B17: Is there another validated measure that shows improvement in the FP enabling environment? (specify measure in comments and enter most recent score along with a historical score and regional comparison) | C17: Applicable | J17: =IF($O17=1,"",IF($P17=1,"",IF($Q17=1,IF($R17="up",1,""),IF(AND($R17="up",$S17="above"),1,"")))) | K17: =IF($O17=1,"",IF($P17=1,"",IF($Q17=1,"",IF(OR(AND($R17="up",$S17="equal"),AND($R17="flat",$S17="above"),AND($R17="down",$S17="above"),AND($R17="up",$S17="below")),1,"")))) | L17: =IF($O17=1,"",IF($P17=1,"",IF($Q17=1,IF($R17="flat",1,""),IF(OR(AND($R17="down",$S17="equal"),AND($R17="flat",$S17="below"),AND($R17="flat",$S17="equal")),1,"")))) | M17: =IF($O17=1,"",IF($P17=1,"",IF($Q17=1,IF($R17="down",1,""),IF(AND($R17="down",$S17="below"),1,"")))) | O17: =IF($C17='Programming 1'!$A$81,1,IF($C17='Programming 1'!$A$80,"","ERROR")) | P17: =IF(AND(ISBLANK($D17),ISBLANK($E17),ISBLANK($F17)),1,"") -> 1 | Q17: =IF(ISBLANK($F17),1,"") -> 1 | R17: =IF($E17>$D17,"up",IF($E17=$D17,"flat",IF($E17<$D17,"down","ERROR"))) -> flat | S17: =IF(ISBLANK($F17),"no target",IF($E17>$F17,"above",IF($E17=$F17,"equal",IF($E17<$F17,"below","ERROR")))) -> no target
A18: SO.3: Evidence of FP policies implemented, resources allocated and subsequently used in relation to the same FP policies
A19: Indicator | D19: Response | G19: Score | H19: Comments
A20: SO.3.1 | B20: Is there evidence of policy implementation? | J20: =IF($D20='Programming 1'!$A$3,1,"") | K20: =IF($D20='Programming 1'!$A$4,1,"") | L20: =IF($D20='Programming 1'!$A$5,1,"") | M20: =IF($D20='Programming 1'!$A$6,1,"")
A21: SO.3.2 | B21: Were resources allocated to support FP policy? | J21: =IF($D21='Programming 1'!$A$3,1,"") | K21: =IF($D21='Programming 1'!$A$4,1,"") | L21: =IF($D21='Programming 1'!$A$5,1,"") | M21: =IF($D21='Programming 1'!$A$6,1,"")
A22: SO.3.3 | B22: Were resources released to support FP policy? | J22: =IF($D22='Programming 1'!$A$3,1,"") | K22: =IF($D22='Programming 1'!$A$4,1,"") | L22: =IF($D22='Programming 1'!$A$5,1,"") | M22: =IF($D22='Programming 1'!$A$6,1,"")
A23: SO.3.4 | B23: Were resources expended /used to support the FP policy? | J23: =IF($D23='Programming 1'!$A$3,1,"") | K23: =IF($D23='Programming 1'!$A$4,1,"") | L23: =IF($D23='Programming 1'!$A$5,1,"") | M23: =IF($D23='Programming 1'!$A$6,1,"")
J24: =SUM(J6:J23) -> 0 | K24: =SUM(K6:K23) -> 0 | L24: =SUM(L6:L23) -> 0 | M24: =SUM(M6:M23) -> 0 | N24: =SUM(J24:M24) -> 0

Sheet IR1
A1: Intermediate Result 1 | K1: Hide these columns
A2: Resources for family planning increased, allocated, and spent more effectively and equitably
A3: Country: | E3: Date:
A4: Indicator | D4: Data Point 1 (required) | E4: Data Point 2 (required) | F4: Regional or Target (optional) | G4: Score | H4: Comments
A5: IR1.1: Total resources spent on FP (by source and by activity/program area
B6: Total FP spending or breakdown according to source? | D6: FP spending according to source | K6: Green | L6: Yellow | M6: Orange | N6: Red | P6: Total or breakdown | Q6: No data | R6: No regional target | S6: Trend | T6: Point 2 relative to region
A7: IR1.1.1 | B7: How much was spent on FP from all sources in the last budget year? | K7: =IF($P7="breakdown","",IF($Q7=1,"",IF($R7=1,IF($S7="up",1,""),IF(AND($S7="up",$T7="above"),1,"")))) | L7: =IF($P7="breakdown","",IF($Q7=1,"",IF($R7=1,"",IF(OR(AND($S7="up",$T7="equal"),AND($S7="flat",$T7="above"),AND($S7="down",$T7="above"),AND($S7="up",$T7="below")),1,"")))) | M7: =IF($P7="breakdown","",IF($Q7=1,"",IF($R7=1,IF($S7="flat",1,""),IF(OR(AND($S7="down",$T7="equal"),AND($S7="flat",$T7="below"),AND($S7="flat",$T7="equal")),1,"")))) | N7: =IF($P7="breakdown","",IF($Q7=1,"",IF($R7=1,IF($S7="down",1,""),IF(AND($S7="down",$T7="below"),1,"")))) | P7: =IF($D$6='Programming 1'!$A$127,"breakdown",IF($D$6='Programming 1'!$A$128,"total","ERROR")) -> breakdown | Q7: =IF(AND(ISBLANK($D7),ISBLANK($E7),ISBLANK($F7)),1,"") -> 1 | R7: =IF(ISBLANK($F7),1,"") -> 1 | S7: =IF($E7>$D7,"up",IF($E7=$D7,"flat",IF($E7<$D7,"down","ERROR"))) -> flat | T7: =IF(ISBLANK($F7),"no target",IF($E7>$F7,"above",IF($E7=$F7,"equal",IF($E7<$F7,"below","ERROR")))) -> no target
B8: How much was spent on FP from the following sources in the last budget year?
A9: IR1.1.2 | B9: Government | K9: =IF($P9="total","",IF($Q9=1,"",IF($R9=1,IF($S9="up",1,""),IF(AND($S9="up",$T9="above"),1,"")))) | L9: =IF($P9="total","",IF($Q9=1,"",IF($R9=1,"",IF(OR(AND($S9="up",$T9="equal"),AND($S9="flat",$T9="above"),AND($S9="down",$T9="above"),AND($S9="up",$T9="below")),1,"")))) | M9: =IF($P9="total","",IF($Q9=1,"",IF($R9=1,IF($S9="flat",1,""),IF(OR(AND($S9="down",$T9="equal"),AND($S9="flat",$T9="below"),AND($S9="flat",$T9="equal")),1,"")))) | N9: =IF($P9="total","",IF($Q9=1,"",IF($R9=1,IF($S9="down",1,""),IF(AND($S9="down",$T9="below"),1,"")))) | P9: =IF($D$6='Programming 1'!$A$127,"breakdown",IF($D$6='Programming 1'!$A$128,"total","ERROR")) -> breakdown | Q9: =IF(AND(ISBLANK($D9),ISBLANK($E9),ISBLANK($F9)),1,"") -> 1 | R9: =IF(ISBLANK($F9),1,"") -> 1 | S9: =IF($E9>$D9,"up",IF($E9=$D9,"flat",IF($E9<$D9,"down","ERROR"))) -> flat | T9: =IF(ISBLANK($F9),"no target",IF($E9>$F9,"above",IF($E9=$F9,"equal",IF($E9<$F9,"below","ERROR")))) -> no target
A10: IR1.1.3 | B10: Donors | K10: =IF($P10="total","",IF($Q10=1,"",IF($R10=1,IF($S10="up",1,""),IF(AND($S10="up",$T10="above"),1,"")))) | L10: =IF($P10="total","",IF($Q10=1,"",IF($R10=1,"",IF(OR(AND($S10="up",$T10="equal"),AND($S10="flat",$T10="above"),AND($S10="down",$T10="above"),AND($S10="up",$T10="below")),1,"")))) | M10: =IF($P10="total","",IF($Q10=1,"",IF($R10=1,IF($S10="flat",1,""),IF(OR(AND($S10="down",$T10="equal"),AND($S10="flat",$T10="below"),AND($S10="flat",$T10="equal")),1,"")))) | N10: =IF($P10="total","",IF($Q10=1,"",IF($R10=1,IF($S10="down",1,""),IF(AND($S10="down",$T10="below"),1,"")))) | P10: =IF($D$6='Programming 1'!$A$127,"breakdown",IF($D$6='Programming 1'!$A$128,"total","ERROR")) -> breakdown | Q10: =IF(AND(ISBLANK($D10),ISBLANK($E10),ISBLANK($F10)),1,"") -> 1 | R10: =IF(ISBLANK($F10),1,"") -> 1 | S10: =IF($E10>$D10,"up",IF($E10=$D10,"flat",IF($E10<$D10,"down","ERROR"))) -> flat | T10: =IF(ISBLANK($F10),"no target",IF($E10>$F10,"above",IF($E10=$F10,"equal",IF($E10<$F10,"below","ERROR")))) -> no target
A11: IR1.1.4 | B11: Private sector | K11: =IF($P11="total","",IF($Q11=1,"",IF($R11=1,IF($S11="up",1,""),IF(AND($S11="up",$T11="above"),1,"")))) | L11: =IF($P11="total","",IF($Q11=1,"",IF($R11=1,"",IF(OR(AND($S11="up",$T11="equal"),AND($S11="flat",$T11="above"),AND($S11="down",$T11="above"),AND($S11="up",$T11="below")),1,"")))) | M11: =IF($P11="total","",IF($Q11=1,"",IF($R11=1,IF($S11="flat",1,""),IF(OR(AND($S11="down",$T11="equal"),AND($S11="flat",$T11="below"),AND($S11="flat",$T11="equal")),1,"")))) | N11: =IF($P11="total","",IF($Q11=1,"",IF($R11=1,IF($S11="down",1,""),IF(AND($S11="down",$T11="below"),1,"")))) | P11: =IF($D$6='Programming 1'!$A$127,"breakdown",IF($D$6='Programming 1'!$A$128,"total","ERROR")) -> breakdown | Q11: =IF(AND(ISBLANK($D11),ISBLANK($E11),ISBLANK($F11)),1,"") -> 1 | R11: =IF(ISBLANK($F11),1,"") -> 1 | S11: =IF($E11>$D11,"up",IF($E11=$D11,"flat",IF($E11<$D11,"down","ERROR"))) -> flat | T11: =IF(ISBLANK($F11),"no target",IF($E11>$F11,"above",IF($E11=$F11,"equal",IF($E11<$F11,"below","ERROR")))) -> no target
A12: IR1.1.5 | B12: FP User | K12: =IF($P12="total","",IF($Q12=1,"",IF($R12=1,IF($S12="up",1,""),IF(AND($S12="up",$T12="above"),1,"")))) | L12: =IF($P12="total","",IF($Q12=1,"",IF($R12=1,"",IF(OR(AND($S12="up",$T12="equal"),AND($S12="flat",$T12="above"),AND($S12="down",$T12="above"),AND($S12="up",$T12="below")),1,"")))) | M12: =IF($P12="total","",IF($Q12=1,"",IF($R12=1,IF($S12="flat",1,""),IF(OR(AND($S12="down",$T12="equal"),AND($S12="flat",$T12="below"),AND($S12="flat",$T12="equal")),1,"")))) | N12: =IF($P12="total","",IF($Q12=1,"",IF($R12=1,IF($S12="down",1,""),IF(AND($S12="down",$T12="below"),1,"")))) | P12: =IF($D$6='Programming 1'!$A$127,"breakdown",IF($D$6='Programming 1'!$A$128,"total","ERROR")) -> breakdown | Q12: =IF(AND(ISBLANK($D12),ISBLANK($E12),ISBLANK($F12)),1,"") -> 1 | R12: =IF(ISBLANK($F12),1,"") -> 1 | S12: =IF($E12>$D12,"up",IF($E12=$D12,"flat",IF($E12<$D12,"down","ERROR"))) -> flat | T12: =IF(ISBLANK($F12),"no target",IF($E12>$F12,"above",IF($E12=$F12,"equal",IF($E12<$F12,"below","ERROR")))) -> no target
B13: Totals | D13: =IF(AND(ISBLANK(D9),ISBLANK(D10),ISBLANK(D11),ISBLANK(D12)),"",SUM(D9:D12)) | E13: =IF(AND(ISBLANK(E9),ISBLANK(E10),ISBLANK(E11),ISBLANK(E12)),"",SUM(E9:E12)) | F13: =IF(AND(ISBLANK(F9),ISBLANK(F10),ISBLANK(F11),ISBLANK(F12)),"",SUM(F9:F12))
B14: Of that how much was spent on:
A15: IR1.1.6 | B15: Commodities | K15: =IF($Q15=1,"",IF($R15=1,IF($S15="up",1,""),IF(AND($S15="up",$T15="above"),1,""))) | L15: =IF($Q15=1,"",IF($R15=1,"",IF(OR(AND($S15="up",$T15="equal"),AND($S15="flat",$T15="above"),AND($S15="down",$T15="above"),AND($S15="up",$T15="below")),1,""))) | M15: =IF($Q15=1,"",IF($R15=1,IF($S15="flat",1,""),IF(OR(AND($S15="down",$T15="equal"),AND($S15="flat",$T15="below"),AND($S15="flat",$T15="equal")),1,""))) | N15: =IF($Q15=1,"",IF($R15=1,IF($S15="down",1,""),IF(AND($S15="down",$T15="below"),1,""))) | Q15: =IF(AND(ISBLANK($D15),ISBLANK($E15),ISBLANK($F15)),1,"") -> 1 | R15: =IF(ISBLANK($F15),1,"") -> 1 | S15: =IF($E15>$D15,"up",IF($E15=$D15,"flat",IF($E15<$D15,"down","ERROR"))) -> flat | T15: =IF(ISBLANK($F15),"no target",IF($E15>$F15,"above",IF($E15=$F15,"equal",IF($E15<$F15,"below","ERROR")))) -> no target
A16: IR1.1.7 | B16: Capacity Building | K16: =IF($Q16=1,"",IF($R16=1,IF($S16="up",1,""),IF(AND($S16="up",$T16="above"),1,""))) | L16: =IF($Q16=1,"",IF($R16=1,"",IF(OR(AND($S16="up",$T16="equal"),AND($S16="flat",$T16="above"),AND($S16="down",$T16="above"),AND($S16="up",$T16="below")),1,""))) | M16: =IF($Q16=1,"",IF($R16=1,IF($S16="flat",1,""),IF(OR(AND($S16="down",$T16="equal"),AND($S16="flat",$T16="below"),AND($S16="flat",$T16="equal")),1,""))) | N16: =IF($Q16=1,"",IF($R16=1,IF($S16="down",1,""),IF(AND($S16="down",$T16="below"),1,""))) | Q16: =IF(AND(ISBLANK($D16),ISBLANK($E16),ISBLANK($F16)),1,"") -> 1 | R16: =IF(ISBLANK($F16),1,"") -> 1 | S16: =IF($E16>$D16,"up",IF($E16=$D16,"flat",IF($E16<$D16,"down","ERROR"))) -> flat | T16: =IF(ISBLANK($F16),"no target",IF($E16>$F16,"above",IF($E16=$F16,"equal",IF($E16<$F16,"below","ERROR")))) -> no target
A17: IR1.1.8 | B17: Service Delivery | K17: =IF($Q17=1,"",IF($R17=1,IF($S17="up",1,""),IF(AND($S17="up",$T17="above"),1,""))) | L17: =IF($Q17=1,"",IF($R17=1,"",IF(OR(AND($S17="up",$T17="equal"),AND($S17="flat",$T17="above"),AND($S17="down",$T17="above"),AND($S17="up",$T17="below")),1,""))) | M17: =IF($Q17=1,"",IF($R17=1,IF($S17="flat",1,""),IF(OR(AND($S17="down",$T17="equal"),AND($S17="flat",$T17="below"),AND($S17="flat",$T17="equal")),1,""))) | N17: =IF($Q17=1,"",IF($R17=1,IF($S17="down",1,""),IF(AND($S17="down",$T17="below"),1,""))) | Q17: =IF(AND(ISBLANK($D17),ISBLANK($E17),ISBLANK($F17)),1,"") -> 1 | R17: =IF(ISBLANK($F17),1,"") -> 1 | S17: =IF($E17>$D17,"up",IF($E17=$D17,"flat",IF($E17<$D17,"down","ERROR"))) -> flat | T17: =IF(ISBLANK($F17),"no target",IF($E17>$F17,"above",IF($E17=$F17,"equal",IF($E17<$F17,"below","ERROR")))) -> no target
A18: IR1.1.9 | B18: Advocacy | K18: =IF($Q18=1,"",IF($R18=1,IF($S18="up",1,""),IF(AND($S18="up",$T18="above"),1,""))) | L18: =IF($Q18=1,"",IF($R18=1,"",IF(OR(AND($S18="up",$T18="equal"),AND($S18="flat",$T18="above"),AND($S18="down",$T18="above"),AND($S18="up",$T18="below")),1,""))) | M18: =IF($Q18=1,"",IF($R18=1,IF($S18="flat",1,""),IF(OR(AND($S18="down",$T18="equal"),AND($S18="flat",$T18="below"),AND($S18="flat",$T18="equal")),1,""))) | N18: =IF($Q18=1,"",IF($R18=1,IF($S18="down",1,""),IF(AND($S18="down",$T18="below"),1,""))) | Q18: =IF(AND(ISBLANK($D18),ISBLANK($E18),ISBLANK($F18)),1,"") -> 1 | R18: =IF(ISBLANK($F18),1,"") -> 1 | S18: =IF($E18>$D18,"up",IF($E18=$D18,"flat",IF($E18<$D18,"down","ERROR"))) -> flat | T18: =IF(ISBLANK($F18),"no target",IF($E18>$F18,"above",IF($E18=$F18,"equal",IF($E18<$F18,"below","ERROR")))) -> no target
A19: IR1.1.10 | B19: Management / HMIS | K19: =IF($Q19=1,"",IF($R19=1,IF($S19="up",1,""),IF(AND($S19="up",$T19="above"),1,""))) | L19: =IF($Q19=1,"",IF($R19=1,"",IF(OR(AND($S19="up",$T19="equal"),AND($S19="flat",$T19="above"),AND($S19="down",$T19="above"),AND($S19="up",$T19="below")),1,""))) | M19: =IF($Q19=1,"",IF($R19=1,IF($S19="flat",1,""),IF(OR(AND($S19="down",$T19="equal"),AND($S19="flat",$T19="below"),AND($S19="flat",$T19="equal")),1,""))) | N19: =IF($Q19=1,"",IF($R19=1,IF($S19="down",1,""),IF(AND($S19="down",$T19="below"),1,""))) | Q19: =IF(AND(ISBLANK($D19),ISBLANK($E19),ISBLANK($F19)),1,"") -> 1 | R19: =IF(ISBLANK($F19),1,"") -> 1 | S19: =IF($E19>$D19,"up",IF($E19=$D19,"flat",IF($E19<$D19,"down","ERROR"))) -> flat | T19: =IF(ISBLANK($F19),"no target",IF($E19>$F19,"above",IF($E19=$F19,"equal",IF($E19<$F19,"below","ERROR")))) -> no target
A20: IR1.1.11 | B20: Other | C20: (specify) | K20: =IF($Q20=1,"",IF($R20=1,IF($S20="up",1,""),IF(AND($S20="up",$T20="above"),1,""))) | L20: =IF($Q20=1,"",IF($R20=1,"",IF(OR(AND($S20="up",$T20="equal"),AND($S20="flat",$T20="above"),AND($S20="down",$T20="above"),AND($S20="up",$T20="below")),1,""))) | M20: =IF($Q20=1,"",IF($R20=1,IF($S20="flat",1,""),IF(OR(AND($S20="down",$T20="equal"),AND($S20="flat",$T20="below"),AND($S20="flat",$T20="equal")),1,""))) | N20: =IF($Q20=1,"",IF($R20=1,IF($S20="down",1,""),IF(AND($S20="down",$T20="below"),1,""))) | Q20: =IF(AND(ISBLANK($D20),ISBLANK($E20),ISBLANK($F20)),1,"") -> 1 | R20: =IF(ISBLANK($F20),1,"") -> 1 | S20: =IF($E20>$D20,"up",IF($E20=$D20,"flat",IF($E20<$D20,"down","ERROR"))) -> flat | T20: =IF(ISBLANK($F20),"no target",IF($E20>$F20,"above",IF($E20=$F20,"equal",IF($E20<$F20,"below","ERROR")))) -> no target
A21: IR1.1.12 | B21: Other | C21: (specify) | K21: =IF($Q21=1,"",IF($R21=1,IF($S21="up",1,""),IF(AND($S21="up",$T21="above"),1,""))) | L21: =IF($Q21=1,"",IF($R21=1,"",IF(OR(AND($S21="up",$T21="equal"),AND($S21="flat",$T21="above"),AND($S21="down",$T21="above"),AND($S21="up",$T21="below")),1,""))) | M21: =IF($Q21=1,"",IF($R21=1,IF($S21="flat",1,""),IF(OR(AND($S21="down",$T21="equal"),AND($S21="flat",$T21="below"),AND($S21="flat",$T21="equal")),1,""))) | N21: =IF($Q21=1,"",IF($R21=1,IF($S21="down",1,""),IF(AND($S21="down",$T21="below"),1,""))) | Q21: =IF(AND(ISBLANK($D21),ISBLANK($E21),ISBLANK($F21)),1,"") -> 1 | R21: =IF(ISBLANK($F21),1,"") -> 1 | S21: =IF($E21>$D21,"up",IF($E21=$D21,"flat",IF($E21<$D21,"down","ERROR"))) -> flat | T21: =IF(ISBLANK($F21),"no target",IF($E21>$F21,"above",IF($E21=$F21,"equal",IF($E21<$F21,"below","ERROR")))) -> no target
A22: IR1.1.13 | B22: What percent of the overall government health budget is spent on FP/SRH? | K22: =IF($Q22=1,"",IF($R22=1,IF($S22="up",1,""),IF(AND($S22="up",$T22="above"),1,""))) | L22: =IF($Q22=1,"",IF($R22=1,"",IF(OR(AND($S22="up",$T22="equal"),AND($S22="flat",$T22="above"),AND($S22="down",$T22="above"),AND($S22="up",$T22="below")),1,""))) | M22: =IF($Q22=1,"",IF($R22=1,IF($S22="flat",1,""),IF(OR(AND($S22="down",$T22="equal"),AND($S22="flat",$T22="below"),AND($S22="flat",$T22="equal")),1,""))) | N22: =IF($Q22=1,"",IF($R22=1,IF($S22="down",1,""),IF(AND($S22="down",$T22="below"),1,""))) | Q22: =IF(AND(ISBLANK($D22),ISBLANK($E22),ISBLANK($F22)),1,"") -> 1 | R22: =IF(ISBLANK($F22),1,"") -> 1 | S22: =IF($E22>$D22,"up",IF($E22=$D22,"flat",IF($E22<$D22,"down","ERROR"))) -> flat | T22: =IF(ISBLANK($F22),"no target",IF($E22>$F22,"above",IF($E22=$F22,"equal",IF($E22<$F22,"below","ERROR")))) -> no target
A23: IR1.2: Evidence of new financing mechanisms for family planning identified, tested, and / or scaled-up
A24: IR1.2.1 | B24: Have new financing mechanisms for family planning been identified, tested, and or scaled-up in the last 2 years? | K24: =IF($D24='Programming 1'!$A$26,1,"") | L24: =IF($D24='Programming 1'!$A$27,1,"") | M24: =IF($D24='Programming 1'!$A$28,1,"") | N24: =IF($D24='Programming 1'!$A$29,1,"")
A25: IR1.3: Total resources allocated to FP (by source and by activity)
B26: Total FP allocation or breakdown according to source? | D26: FP allocation according to source | P26: Total or breakdown
A27: IR1.3.1 | B27: How much was allocated to FP from all sources in the last budget year? | K27: =IF($P27="breakdown","",IF($Q27=1,"",IF($R27=1,IF($S27="up",1,""),IF(AND($S27="up",$T27="above"),1,"")))) | L27: =IF($P7="breakdown","",IF($Q27=1,"",IF($R27=1,"",IF(OR(AND($S27="up",$T27="equal"),AND($S27="flat",$T27="above"),AND($S27="down",$T27="above"),AND($S27="up",$T27="below")),1,"")))) | M27: =IF($P7="breakdown","",IF($Q27=1,"",IF($R27=1,IF($S27="flat",1,""),IF(OR(AND($S27="down",$T27="equal"),AND($S27="flat",$T27="below"),AND($S27="flat",$T27="equal")),1,"")))) | N27: =IF($P7="breakdown","",IF($Q27=1,"",IF($R27=1,IF($S27="down",1,""),IF(AND($S27="down",$T27="below"),1,"")))) | P27: =IF($D$26='Programming 1'!$A$130,"breakdown",IF($D$26='Programming 1'!$A$131,"total","ERROR")) -> breakdown | Q27: =IF(AND(ISBLANK($D27),ISBLANK($E27),ISBLANK($F27)),1,"") -> 1 | R27: =IF(ISBLANK($F27),1,"") -> 1 | S27: =IF($E27>$D27,"up",IF($E27=$D27,"flat",IF($E27<$D27,"down","ERROR"))) -> flat | T27: =IF(ISBLANK($F27),"no target",IF($E27>$F27,"above",IF($E27=$F27,"equal",IF($E27<$F27,"below","ERROR")))) -> no target
B28: How much was allocated to FP from the following sources in the last budget year?
A29: IR1.3.2 | B29: Government | K29: =IF($P29="total","",IF($Q29=1,"",IF($R29=1,IF($S29="up",1,""),IF(AND($S29="up",$T29="above"),1,"")))) | L29: =IF($P29="total","",IF($Q29=1,"",IF($R29=1,"",IF(OR(AND($S29="up",$T29="equal"),AND($S29="flat",$T29="above"),AND($S29="down",$T29="above"),AND($S29="up",$T29="below")),1,"")))) | M29: =IF($P29="total","",IF($Q29=1,"",IF($R29=1,IF($S29="flat",1,""),IF(OR(AND($S29="down",$T29="equal"),AND($S29="flat",$T29="below"),AND($S29="flat",$T29="equal")),1,"")))) | N29: =IF($P29="total","",IF($Q29=1,"",IF($R29=1,IF($S29="down",1,""),IF(AND($S29="down",$T29="below"),1,"")))) | P29: =IF($D$26='Programming 1'!$A$130,"breakdown",IF($D$26='Programming 1'!$A$131,"total","ERROR")) -> breakdown | Q29: =IF(AND(ISBLANK($D29),ISBLANK($E29),ISBLANK($F29)),1,"") -> 1 | R29: =IF(ISBLANK($F29),1,"") -> 1 | S29: =IF($E29>$D29,"up",IF($E29=$D29,"flat",IF($E29<$D29,"down","ERROR"))) -> flat | T29: =IF(ISBLANK($F29),"no target",IF($E29>$F29,"above",IF($E29=$F29,"equal",IF($E29<$F29,"below","ERROR")))) -> no target
A30: IR1.3.3 | B30: Donors | K30: =IF($P30="total","",IF($Q30=1,"",IF($R30=1,IF($S30="up",1,""),IF(AND($S30="up",$T30="above"),1,"")))) | L30: =IF($P30="total","",IF($Q30=1,"",IF($R30=1,"",IF(OR(AND($S30="up",$T30="equal"),AND($S30="flat",$T30="above"),AND($S30="down",$T30="above"),AND($S30="up",$T30="below")),1,"")))) | M30: =IF($P30="total","",IF($Q30=1,"",IF($R30=1,IF($S30="flat",1,""),IF(OR(AND($S30="down",$T30="equal"),AND($S30="flat",$T30="below"),AND($S30="flat",$T30="equal")),1,"")))) | N30: =IF($P30="total","",IF($Q30=1,"",IF($R30=1,IF($S30="down",1,""),IF(AND($S30="down",$T30="below"),1,"")))) | P30: =IF($D$26='Programming 1'!$A$130,"breakdown",IF($D$26='Programming 1'!$A$131,"total","ERROR")) -> breakdown | Q30: =IF(AND(ISBLANK($D30),ISBLANK($E30),ISBLANK($F30)),1,"") -> 1 | R30: =IF(ISBLANK($F30),1,"") -> 1 | S30: =IF($E30>$D30,"up",IF($E30=$D30,"flat",IF($E30<$D30,"down","ERROR"))) -> flat | T30: =IF(ISBLANK($F30),"no target",IF($E30>$F30,"above",IF($E30=$F30,"equal",IF($E30<$F30,"below","ERROR")))) -> no target
A31: IR1.3.4 | B31: Private sector | K31: =IF($P31="total","",IF($Q31=1,"",IF($R31=1,IF($S31="up",1,""),IF(AND($S31="up",$T31="above"),1,"")))) | L31: =IF($P31="total","",IF($Q31=1,"",IF($R31=1,"",IF(OR(AND($S31="up",$T31="equal"),AND($S31="flat",$T31="above"),AND($S31="down",$T31="above"),AND($S31="up",$T31="below")),1,"")))) | M31: =IF($P31="total","",IF($Q31=1,"",IF($R31=1,IF($S31="flat",1,""),IF(OR(AND($S31="down",$T31="equal"),AND($S31="flat",$T31="below"),AND($S31="flat",$T31="equal")),1,"")))) | N31: =IF($P31="total","",IF($Q31=1,"",IF($R31=1,IF($S31="down",1,""),IF(AND($S31="down",$T31="below"),1,"")))) | P31: =IF($D$26='Programming 1'!$A$130,"breakdown",IF($D$26='Programming 1'!$A$131,"total","ERROR")) -> breakdown | Q31: =IF(AND(ISBLANK($D31),ISBLANK($E31),ISBLANK($F31)),1,"") -> 1 | R31: =IF(ISBLANK($F31),1,"") -> 1 | S31: =IF($E31>$D31,"up",IF($E31=$D31,"flat",IF($E31<$D31,"down","ERROR"))) -> flat | T31: =IF(ISBLANK($F31),"no target",IF($E31>$F31,"above",IF($E31=$F31,"equal",IF($E31<$F31,"below","ERROR")))) -> no target
A32: IR1.3.5 | B32: FP User | K32: =IF($P32="total","",IF($Q32=1,"",IF($R32=1,IF($S32="up",1,""),IF(AND($S32="up",$T32="above"),1,"")))) | L32: =IF($P32="total","",IF($Q32=1,"",IF($R32=1,"",IF(OR(AND($S32="up",$T32="equal"),AND($S32="flat",$T32="above"),AND($S32="down",$T32="above"),AND($S32="up",$T32="below")),1,"")))) | M32: =IF($P32="total","",IF($Q32=1,"",IF($R32=1,IF($S32="flat",1,""),IF(OR(AND($S32="down",$T32="equal"),AND($S32="flat",$T32="below"),AND($S32="flat",$T32="equal")),1,"")))) | N32: =IF($P32="total","",IF($Q32=1,"",IF($R32=1,IF($S32="down",1,""),IF(AND($S32="down",$T32="below"),1,"")))) | P32: =IF($D$26='Programming 1'!$A$130,"breakdown",IF($D$26='Programming 1'!$A$131,"total","ERROR")) -> breakdown | Q32: =IF(AND(ISBLANK($D32),ISBLANK($E32),ISBLANK($F32)),1,"") -> 1 | R32: =IF(ISBLANK($F32),1,"") -> 1 | S32: =IF($E32>$D32,"up",IF($E32=$D32,"flat",IF($E32<$D32,"down","ERROR"))) -> flat | T32: =IF(ISBLANK($F32),"no target",IF($E32>$F32,"above",IF($E32=$F32,"equal",IF($E32<$F32,"below","ERROR")))) -> no target
B33: Totals | D33: =IF(AND(ISBLANK(D29),ISBLANK(D30),ISBLANK(D31),ISBLANK(D32)),"",SUM(D29:D32)) | E33: =IF(AND(ISBLANK(E29),ISBLANK(E30),ISBLANK(E31),ISBLANK(E32)),"",SUM(E29:E32)) | F33: =IF(AND(ISBLANK(F29),ISBLANK(F30),ISBLANK(F31),ISBLANK(F32)),"",SUM(F29:F32))
B34: Of that how much was allocated to:
A35: IR1.3.6 | B35: Commodities | K35: =IF($Q35=1,"",IF($R35=1,IF($S35="up",1,""),IF(AND($S35="up",$T35="above"),1,""))) | L35: =IF($Q35=1,"",IF($R35=1,"",IF(OR(AND($S35="up",$T35="equal"),AND($S35="flat",$T35="above"),AND($S35="down",$T35="above"),AND($S35="up",$T35="below")),1,""))) | M35: =IF($Q35=1,"",IF($R35=1,IF($S35="flat",1,""),IF(OR(AND($S35="down",$T35="equal"),AND($S35="flat",$T35="below"),AND($S35="flat",$T35="equal")),1,""))) | N35: =IF($Q35=1,"",IF($R35=1,IF($S35="down",1,""),IF(AND($S35="down",$T35="below"),1,""))) | Q35: =IF(AND(ISBLANK($D35),ISBLANK($E35),ISBLANK($F35)),1,"") -> 1 | R35: =IF(ISBLANK($F35),1,"") -> 1 | S35: =IF($E35>$D35,"up",IF($E35=$D35,"flat",IF($E35<$D35,"down","ERROR"))) -> flat | T35: =IF(ISBLANK($F35),"no target",IF($E35>$F35,"above",IF($E35=$F35,"equal",IF($E35<$F35,"below","ERROR")))) -> no target
A36: IR1.3.7 | B36: Capacity Building | K36: =IF($Q36=1,"",IF($R36=1,IF($S36="up",1,""),IF(AND($S36="up",$T36="above"),1,""))) | L36: =IF($Q36=1,"",IF($R36=1,"",IF(OR(AND($S36="up",$T36="equal"),AND($S36="flat",$T36="above"),AND($S36="down",$T36="above"),AND($S36="up",$T36="below")),1,""))) | M36: =IF($Q36=1,"",IF($R36=1,IF($S36="flat",1,""),IF(OR(AND($S36="down",$T36="equal"),AND($S36="flat",$T36="below"),AND($S36="flat",$T36="equal")),1,""))) | N36: =IF($Q36=1,"",IF($R36=1,IF($S36="down",1,""),IF(AND($S36="down",$T36="below"),1,""))) | Q36: =IF(AND(ISBLANK($D36),ISBLANK($E36),ISBLANK($F36)),1,"") -> 1 | R36: =IF(ISBLANK($F36),1,"") -> 1 | S36: =IF($E36>$D36,"up",IF($E36=$D36,"flat",IF($E36<$D36,"down","ERROR"))) -> flat | T36: =IF(ISBLANK($F36),"no target",IF($E36>$F36,"above",IF($E36=$F36,"equal",IF($E36<$F36,"below","ERROR")))) -> no target
A37: IR1.3.8 | B37: Service Delivery | K37: =IF($Q37=1,"",IF($R37=1,IF($S37="up",1,""),IF(AND($S37="up",$T37="above"),1,""))) | L37: =IF($Q37=1,"",IF($R37=1,"",IF(OR(AND($S37="up",$T37="equal"),AND($S37="flat",$T37="above"),AND($S37="down",$T37="above"),AND($S37="up",$T37="below")),1,""))) | M37: =IF($Q37=1,"",IF($R37=1,IF($S37="flat",1,""),IF(OR(AND($S37="down",$T37="equal"),AND($S37="flat",$T37="below"),AND($S37="flat",$T37="equal")),1,""))) | N37: =IF($Q37=1,"",IF($R37=1,IF($S37="down",1,""),IF(AND($S37="down",$T37="below"),1,""))) | Q37: =IF(AND(ISBLANK($D37),ISBLANK($E37),ISBLANK($F37)),1,"") -> 1 | R37: =IF(ISBLANK($F37),1,"") -> 1 | S37: =IF($E37>$D37,"up",IF($E37=$D37,"flat",IF($E37<$D37,"down","ERROR"))) -> flat | T37: =IF(ISBLANK($F37),"no target",IF($E37>$F37,"above",IF($E37=$F37,"equal",IF($E37<$F37,"below","ERROR")))) -> no target
A38: IR1.3.9 | B38: Advocacy | K38: =IF($Q38=1,"",IF($R38=1,IF($S38="up",1,""),IF(AND($S38="up",$T38="above"),1,""))) | L38: =IF($Q38=1,"",IF($R38=1,"",IF(OR(AND($S38="up",$T38="equal"),AND($S38="flat",$T38="above"),AND($S38="down",$T38="above"),AND($S38="up",$T38="below")),1,""))) | M38: =IF($Q38=1,"",IF($R38=1,IF($S38="flat",1,""),IF(OR(AND($S38="down",$T38="equal"),AND($S38="flat",$T38="below"),AND($S38="flat",$T38="equal")),1,""))) | N38: =IF($Q38=1,"",IF($R38=1,IF($S38="down",1,""),IF(AND($S38="down",$T38="below"),1,""))) | Q38: =IF(AND(ISBLANK($D38),ISBLANK($E38),ISBLANK($F38)),1,"") -> 1 | R38: =IF(ISBLANK($F38),1,"") -> 1 | S38: =IF($E38>$D38,"up",IF($E38=$D38,"flat",IF($E38<$D38,"down","ERROR"))) -> flat | T38: =IF(ISBLANK($F38),"no target",IF($E38>$F38,"above",IF($E38=$F38,"equal",IF($E38<$F38,"below","ERROR")))) -> no target
A39: IR1.3.10 | B39: Management / HMIS | K39: =IF($Q39=1,"",IF($R39=1,IF($S39="up",1,""),IF(AND($S39="up",$T39="above"),1,""))) | L39: =IF($Q39=1,"",IF($R39=1,"",IF(OR(AND($S39="up",$T39="equal"),AND($S39="flat",$T39="above"),AND($S39="down",$T39="above"),AND($S39="up",$T39="below")),1,""))) | M39: =IF($Q39=1,"",IF($R39=1,IF($S39="flat",1,""),IF(OR(AND($S39="down",$T39="equal"),AND($S39="flat",$T39="below"),AND($S39="flat",$T39="equal")),1,""))) | N39: =IF($Q39=1,"",IF($R39=1,IF($S39="down",1,""),IF(AND($S39="down",$T39="below"),1,""))) | Q39: =IF(AND(ISBLANK($D39),ISBLANK($E39),ISBLANK($F39)),1,"") -> 1 | R39: =IF(ISBLANK($F39),1,"") -> 1 | S39: =IF($E39>$D39,"up",IF($E39=$D39,"flat",IF($E39<$D39,"down","ERROR"))) -> flat | T39: =IF(ISBLANK($F39),"no target",IF($E39>$F39,"above",IF($E39=$F39,"equal",IF($E39<$F39,"below","ERROR")))) -> no target
A40: IR1.3.11 | B40: Other | C40: (specify) | K40: =IF($Q40=1,"",IF($R40=1,IF($S40="up",1,""),IF(AND($S40="up",$T40="above"),1,""))) | L40: =IF($Q40=1,"",IF($R40=1,"",IF(OR(AND($S40="up",$T40="equal"),AND($S40="flat",$T40="above"),AND($S40="down",$T40="above"),AND($S40="up",$T40="below")),1,""))) | M40: =IF($Q40=1,"",IF($R40=1,IF($S40="flat",1,""),IF(OR(AND($S40="down",$T40="equal"),AND($S40="flat",$T40="below"),AND($S40="flat",$T40="equal")),1,""))) | N40: =IF($Q40=1,"",IF($R40=1,IF($S40="down",1,""),IF(AND($S40="down",$T40="below"),1,""))) | Q40: =IF(AND(ISBLANK($D40),ISBLANK($E40),ISBLANK($F40)),1,"") -> 1 | R40: =IF(ISBLANK($F40),1,"") -> 1 | S40: =IF($E40>$D40,"up",IF($E40=$D40,"flat",IF($E40<$D40,"down","ERROR"))) -> flat | T40: =IF(ISBLANK($F40),"no target",IF($E40>$F40,"above",IF($E40=$F40,"equal",IF($E40<$F40,"below","ERROR")))) -> no target
A41: IR1.3.12 | B41: Other | C41: (specify) | K41: =IF($Q41=1,"",IF($R41=1,IF($S41="up",1,""),IF(AND($S41="up",$T41="above"),1,""))) | L41: =IF($Q41=1,"",IF($R41=1,"",IF(OR(AND($S41="up",$T41="equal"),AND($S41="flat",$T41="above"),AND($S41="down",$T41="above"),AND($S41="up",$T41="below")),1,""))) | M41: =IF($Q41=1,"",IF($R41=1,IF($S41="flat",1,""),IF(OR(AND($S41="down",$T41="equal"),AND($S41="flat",$T41="below"),AND($S41="flat",$T41="equal")),1,""))) | N41: =IF($Q41=1,"",IF($R41=1,IF($S41="down",1,""),IF(AND($S41="down",$T41="below"),1,""))) | Q41: =IF(AND(ISBLANK($D41),ISBLANK($E41),ISBLANK($F41)),1,"") -> 1 | R41: =IF(ISBLANK($F41),1,"") -> 1 | S41: =IF($E41>$D41,"up",IF($E41=$D41,"flat",IF($E41<$D41,"down","ERROR"))) -> flat | T41: =IF(ISBLANK($F41),"no target",IF($E41>$F41,"above",IF($E41=$F41,"equal",IF($E41<$F41,"below","ERROR")))) -> no target
A42: IR1.4: New and/or increased resources are committed to FP in the last two years
B43: Have new and/or increased resources been committed to FP in the last 2 years?
A44: IR1.4.1 | B44: Money | K44: =IF($D44='Programming 1'!$A$32,1,"") | L44: =IF($D44='Programming 1'!$A$33,1,"") | M44: =IF($D44='Programming 1'!$A$34,1,"") | N44: =IF($D44='Programming 1'!$A$35,1,"")
A45: IR1.4.2 | B45: Commodities | K45: =IF($D45='Programming 1'!$A$32,1,"") | L45: =IF($D45='Programming 1'!$A$33,1,"") | M45: =IF($D45='Programming 1'!$A$34,1,"") | N45: =IF($D45='Programming 1'!$A$35,1,"")
K46: =SUM(K7:K45) -> 0 | L46: =SUM(L7:L45) -> 0 | M46: =SUM(M7:M45) -> 0 | N46: =SUM(N7:N45) -> 0 | O46: =SUM(K46:N46) -> 0

Sheet IR2
A1: Intermediate Result 2 | K1: Hide these columns
A2: Increased multisectoral coordination in the design, implementation, and financing of family planning policies and programs
A3: Country: | E3: Date:
A4: Indicator | D4: Response | E4: Score | F4: Comments
A5: IR2.1: Evidence of family planning programs incorporated into national strategic and development plans | K5: Green | L5: Yellow | M5: Orange | N5: Red
A6: IR2.1.1 | B6: Is there evidence of FP incorporated into national strategic and development plans? (non-FP) | K6: =IF(D6='Programming 1'!$A$10,1,"") | N6: =IF(D6='Programming 1'!$A$11,1,"")
B7: Do the following ministries have policies or strategies that include FP or SRH?
A8: IR2.1.2 | B8: Population | K8: =IF(D8='Programming 1'!$A$10,1,"") | N8: =IF(D8='Programming 1'!$A$11,1,"")
A9: IR2.1.3 | B9: Gender | K9: =IF(D9='Programming 1'!$A$10,1,"") | N9: =IF(D9='Programming 1'!$A$11,1,"")
A10: IR2.1.4 | B10: Health | K10: =IF(D10='Programming 1'!$A$10,1,"") | N10: =IF(D10='Programming 1'!$A$11,1,"")
A11: IR2.1.5 | B11: Education | K11: =IF(D11='Programming 1'!$A$10,1,"") | N11: =IF(D11='Programming 1'!$A$11,1,"")
A12: IR2.1.6 | B12: Environment | K12: =IF(D12='Programming 1'!$A$10,1,"") | N12: =IF(D12='Programming 1'!$A$11,1,"")
A13: IR2.1.7 | B13: Labor | K13: =IF(D13='Programming 1'!$A$10,1,"") | N13: =IF(D13='Programming 1'!$A$11,1,"")
A14: IR2.1.8 | B14: Agriculture | K14: =IF(D14='Programming 1'!$A$10,1,"") | N14: =IF(D14='Programming 1'!$A$11,1,"")
A15: IR2.2: Evidence of governments engaging multiple sectors in family planning activities
B16: Is the government engaging the following sectors/disciplines in FP activities?
B17: Private sector
A18: IR2.2.1 | B18: Pharmacists | K18: =IF($D18='Programming 1'!$A$84,1,"") | L18: =IF($D18='Programming 1'!$A$85,1,"") | M18: =IF($D18='Programming 1'!$A$86,1,"") | N18: =IF($D18='Programming 1'!$A$87,1,"")
A19: IR2.2.2 | B19: Private facilities | K19: =IF($D19='Programming 1'!$A$84,1,"") | L19: =IF($D19='Programming 1'!$A$85,1,"") | M19: =IF($D19='Programming 1'!$A$86,1,"") | N19: =IF($D19='Programming 1'!$A$87,1,"")
A20: IR2.2.3 | B20: Other business | K20: =IF($D20='Programming 1'!$A$84,1,"") | L20: =IF($D20='Programming 1'!$A$85,1,"") | M20: =IF($D20='Programming 1'!$A$86,1,"") | N20: =IF($D20='Programming 1'!$A$87,1,"")
A21: IR2.2.4 | B21: Private provider | K21: =IF($D21='Programming 1'!$A$84,1,"") | L21: =IF($D21='Programming 1'!$A$85,1,"") | M21: =IF($D21='Programming 1'!$A$86,1,"") | N21: =IF($D21='Programming 1'!$A$87,1,"")
B22: Public sector
A23: IR2.2.5 | B23: Education | K23: =IF($D23='Programming 1'!$A$84,1,"") | L23: =IF($D23='Programming 1'!$A$85,1,"") | M23: =IF($D23='Programming 1'!$A$86,1,"") | N23: =IF($D23='Programming 1'!$A$87,1,"")
A24: IR2.2.6 | B24: Development | K24: =IF($D24='Programming 1'!$A$84,1,"") | L24: =IF($D24='Programming 1'!$A$85,1,"") | M24: =IF($D24='Programming 1'!$A$86,1,"") | N24: =IF($D24='Programming 1'!$A$87,1,"")
A25: IR2.2.7 | B25: Population | K25: =IF($D25='Programming 1'!$A$84,1,"") | L25: =IF($D25='Programming 1'!$A$85,1,"") | M25: =IF($D25='Programming 1'!$A$86,1,"") | N25: =IF($D25='Programming 1'!$A$87,1,"")
A26: IR2.2.8 | B26: Environment | K26: =IF($D26='Programming 1'!$A$84,1,"") | L26: =IF($D26='Programming 1'!$A$85,1,"") | M26: =IF($D26='Programming 1'!$A$86,1,"") | N26: =IF($D26='Programming 1'!$A$87,1,"")
A27: IR2.2.9 | B27: Labor | K27: =IF($D27='Programming 1'!$A$84,1,"") | L27: =IF($D27='Programming 1'!$A$85,1,"") | M27: =IF($D27='Programming 1'!$A$86,1,"") | N27: =IF($D27='Programming 1'!$A$87,1,"")
A28: IR2.2.10 | B28: Agriculture | K28: =IF($D28='Programming 1'!$A$84,1,"") | L28: =IF($D28='Programming 1'!$A$85,1,"") | M28: =IF($D28='Programming 1'!$A$86,1,"") | N28: =IF($D28='Programming 1'!$A$87,1,"")
A29: IR2.2.11 | B29: Gender / Women's Affairs | K29: =IF($D29='Programming 1'!$A$84,1,"") | L29: =IF($D29='Programming 1'!$A$85,1,"") | M29: =IF($D29='Programming 1'!$A$86,1,"") | N29: =IF($D29='Programming 1'!$A$87,1,"")
A30: IR2.2.12 | B30: Health | K30: =IF($D30='Programming 1'!$A$84,1,"") | L30: =IF($D30='Programming 1'!$A$85,1,"") | M30: =IF($D30='Programming 1'!$A$86,1,"") | N30: =IF($D30='Programming 1'!$A$87,1,"")
A31: IR2.2.13 | B31: NGOs | K31: =IF($D31='Programming 1'!$A$84,1,"") | L31: =IF($D31='Programming 1'!$A$85,1,"") | M31: =IF($D31='Programming 1'!$A$86,1,"") | N31: =IF($D31='Programming 1'!$A$87,1,"")
A32: IR2.2.14 | B32: Local NGOs | K32: =IF($D32='Programming 1'!$A$84,1,"") | L32: =IF($D32='Programming 1'!$A$85,1,"") | M32: =IF($D32='Programming 1'!$A$86,1,"") | N32: =IF($D32='Programming 1'!$A$87,1,"")
A33: IR2.2.15 | B33: FBOs | K33: =IF($D33='Programming 1'!$A$84,1,"") | L33: =IF($D33='Programming 1'!$A$85,1,"") | M33: =IF($D33='Programming 1'!$A$86,1,"") | N33: =IF($D33='Programming 1'!$A$87,1,"")
A34: IR2.2.16 | B34: Donors | K34: =IF($D34='Programming 1'!$A$84,1,"") | L34: =IF($D34='Programming 1'!$A$85,1,"") | M34: =IF($D34='Programming 1'!$A$86,1,"") | N34: =IF($D34='Programming 1'!$A$87,1,"")
A35: IR2.3: Evidence of multisectoral structures that are established or strengthened to promote FP policy
A36: IR2.3.1 | B36: Is there a multisectoral structure or group to strengthen FP? | K36: =IF(D36='Programming 1'!$A$10,1,"") | N36: =IF(D36='Programming 1'!$A$11,1,"")
B37: If so, which sectors / disciplines are represented?
B38: Private sector: | P38: IR2.3.1 is "No"
A39: IR2.3.2 | B39: Pharmacists | K39: =IF($P39=1,"",IF($D39='Programming 1'!$A$122,1,"")) | L39: =IF($P39=1,"",IF($D39='Programming 1'!$A$123,1,"")) | M39: =IF($P39=1,"",IF($D39='Programming 1'!$A$124,1,"")) | N39: =IF($P39=1,"",IF($D39='Programming 1'!$A$125,1,"")) | P39: =IF($N$36=1,1,"")
A40: IR2.3.3 | B40: Private facilities | K40: =IF($P40=1,"",IF($D40='Programming 1'!$A$122,1,"")) | L40: =IF($P40=1,"",IF($D40='Programming 1'!$A$123,1,"")) | M40: =IF($P40=1,"",IF($D40='Programming 1'!$A$124,1,"")) | N40: =IF($P40=1,"",IF($D40='Programming 1'!$A$125,1,"")) | P40: =IF($N$36=1,1,"")
A41: IR2.3.4 | B41: Other business | K41: =IF($P41=1,"",IF($D41='Programming 1'!$A$122,1,"")) | L41: =IF($P41=1,"",IF($D41='Programming 1'!$A$123,1,"")) | M41: =IF($P41=1,"",IF($D41='Programming 1'!$A$124,1,"")) | N41: =IF($P41=1,"",IF($D41='Programming 1'!$A$125,1,"")) | P41: =IF($N$36=1,1,"")
A42: IR2.3.5 | B42: Private provider | K42: =IF($P42=1,"",IF($D42='Programming 1'!$A$122,1,"")) | L42: =IF($P42=1,"",IF($D42='Programming 1'!$A$123,1,"")) | M42: =IF($P42=1,"",IF($D42='Programming 1'!$A$124,1,"")) | N42: =IF($P42=1,"",IF($D42='Programming 1'!$A$125,1,"")) | P42: =IF($N$36=1,1,"")
B43: Public sector: | P43: =IF($N$36=1,1,"")
A44: IR2.3.6 | B44: Education | K44: =IF($P44=1,"",IF($D44='Programming 1'!$A$122,1,"")) | L44: =IF($P44=1,"",IF($D44='Programming 1'!$A$123,1,"")) | M44: =IF($P44=1,"",IF($D44='Programming 1'!$A$124,1,"")) | N44: =IF($P44=1,"",IF($D44='Programming 1'!$A$125,1,"")) | P44: =IF($N$36=1,1,"")
A45: IR2.3.7 | B45: Development | K45: =IF($P45=1,"",IF($D45='Programming 1'!$A$122,1,"")) | L45: =IF($P45=1,"",IF($D45='Programming 1'!$A$123,1,"")) | M45: =IF($P45=1,"",IF($D45='Programming 1'!$A$124,1,"")) | N45: =IF($P45=1,"",IF($D45='Programming 1'!$A$125,1,"")) | P45: =IF($N$36=1,1,"")
A46: IR2.3.8 | B46: Population | K46: =IF($P46=1,"",IF($D46='Programming 1'!$A$122,1,"")) | L46: =IF($P46=1,"",IF($D46='Programming 1'!$A$123,1,"")) | M46: =IF($P46=1,"",IF($D46='Programming 1'!$A$124,1,"")) | N46: =IF($P46=1,"",IF($D46='Programming 1'!$A$125,1,"")) | P46: =IF($N$36=1,1,"")
A47: IR2.3.9 | B47: Environment | K47: =IF($P47=1,"",IF($D47='Programming 1'!$A$122,1,"")) | L47: =IF($P47=1,"",IF($D47='Programming 1'!$A$123,1,"")) | M47: =IF($P47=1,"",IF($D47='Programming 1'!$A$124,1,"")) | N47: =IF($P47=1,"",IF($D47='Programming 1'!$A$125,1,"")) | P47: =IF($N$36=1,1,"")
A48: IR2.3.10 | B48: Labor | K48: =IF($P48=1,"",IF($D48='Programming 1'!$A$122,1,"")) | L48: =IF($P48=1,"",IF($D48='Programming 1'!$A$123,1,"")) | M48: =IF($P48=1,"",IF($D48='Programming 1'!$A$124,1,"")) | N48: =IF($P48=1,"",IF($D48='Programming 1'!$A$125,1,"")) | P48: =IF($N$36=1,1,"")
A49: IR2.3.11 | B49: Agriculture | K49: =IF($P49=1,"",IF($D49='Programming 1'!$A$122,1,"")) | L49: =IF($P49=1,"",IF($D49='Programming 1'!$A$123,1,"")) | M49: =IF($P49=1,"",IF($D49='Programming 1'!$A$124,1,"")) | N49: =IF($P49=1,"",IF($D49='Programming 1'!$A$125,1,"")) | P49: =IF($N$36=1,1,"")
A50: IR2.3.12 | B50: Gender / Women's Affairs | K50: =IF($P50=1,"",IF($D50='Programming 1'!$A$122,1,"")) | L50: =IF($P50=1,"",IF($D50='Programming 1'!$A$123,1,"")) | M50: =IF($P50=1,"",IF($D50='Programming 1'!$A$124,1,"")) | N50: =IF($P50=1,"",IF($D50='Programming 1'!$A$125,1,"")) | P50: =IF($N$36=1,1,"")
A51: IR2.3.13 | B51: Health | K51: =IF($P51=1,"",IF($D51='Programming 1'!$A$122,1,"")) | L51: =IF($P51=1,"",IF($D51='Programming 1'!$A$123,1,"")) | M51: =IF($P51=1,"",IF($D51='Programming 1'!$A$124,1,"")) | N51: =IF($P51=1,"",IF($D51='Programming 1'!$A$125,1,"")) | P51: =IF($N$36=1,1,"")
A52: IR2.3.14 | B52: NGOs | K52: =IF($P52=1,"",IF($D52='Programming 1'!$A$122,1,"")) | L52: =IF($P52=1,"",IF($D52='Programming 1'!$A$123,1,"")) | M52: =IF($P52=1,"",IF($D52='Programming 1'!$A$124,1,"")) | N52: =IF($P52=1,"",IF($D52='Programming 1'!$A$125,1,"")) | P52: =IF($N$36=1,1,"")
A53: IR2.3.15 | B53: CBOs | K53: =IF($P53=1,"",IF($D53='Programming 1'!$A$122,1,"")) | L53: =IF($P53=1,"",IF($D53='Programming 1'!$A$123,1,"")) | M53: =IF($P53=1,"",IF($D53='Programming 1'!$A$124,1,"")) | N53: =IF($P53=1,"",IF($D53='Programming 1'!$A$125,1,"")) | P53: =IF($N$36=1,1,"")
A54: IR2.3.16 | B54: FBOs | K54: =IF($P54=1,"",IF($D54='Programming 1'!$A$122,1,"")) | L54: =IF($P54=1,"",IF($D54='Programming 1'!$A$123,1,"")) | M54: =IF($P54=1,"",IF($D54='Programming 1'!$A$124,1,"")) | N54: =IF($P54=1,"",IF($D54='Programming 1'!$A$125,1,"")) | P54: =IF($N$36=1,1,"")
A55: IR2.3.17 | B55: Donors | K55: =IF($P55=1,"",IF($D55='Programming 1'!$A$122,1,"")) | L55: =IF($P55=1,"",IF($D55='Programming 1'!$A$123,1,"")) | M55: =IF($P55=1,"",IF($D55='Programming 1'!$A$124,1,"")) | N55: =IF($P55=1,"",IF($D55='Programming 1'!$A$125,1,""))
A56: IR2.3.18 | B56: Does the group have government support or authority? | K56: =IF($P56=1,"",IF($D56='Programming 1'!$A$3,1,"")) | L56: =IF($P56=1,"",IF($D56='Programming 1'!$A$4,1,"")) | M56: =IF($P56=1,"",IF($D56='Programming 1'!$A$5,1,"")) | N56: =IF($P56=1,"",IF($D56='Programming 1'!$A$6,1,"")) | P56: =IF($N$36=1,1,"")
A57: IR2.3.19 | B57: How frequently does the structure /group meet? | K57: =IF($P57=1,"",IF($D57='Programming 1'!$A$20,1,"")) | L57: =IF($P57=1,"",IF($D57='Programming 1'!$A$21,1,"")) | M57: =IF($P57=1,"",IF($D57='Programming 1'!$A$22,1,"")) | N57: =IF($P57=1,"",IF($D57='Programming 1'!$A$23,1,"")) | P57: =IF($N$36=1,1,"")
A58: IR2.4: Evidence of government support for private sector participation in FP
A59: IR2.4.1 | B59: Are there barriers to private sector participation which need to be addressed? | K59: =IF($D$59='Programming 1'!$A$11,1,"") | N59: =IF($D$59='Programming 1'!$A$10,1,"")
B60: Does the government support or enhance the private sector's efforts to provide FP through any of the following incentives?
A61: IR2.4.2 | B61: Commodities | K61: =IF(D61='Programming 1'!$A$10,1,"") | N61: =IF(D61='Programming 1'!$A$11,1,"")
A62: IR2.4.3 | B62: Technical support | K62: =IF(D62='Programming 1'!$A$10,1,"") | N62: =IF(D62='Programming 1'!$A$11,1,"")
A63: IR2.4.4 | B63: Space / facilities | K63: =IF(D63='Programming 1'!$A$10,1,"") | N63: =IF(D63='Programming 1'!$A$11,1,"")
A64: IR2.4.5 | B64: Tax Breaks | K64: =IF(D64='Programming 1'!$A$10,1,"") | N64: =IF(D64='Programming 1'!$A$11,1,"")
A65: IR2.4.6 | B65: Other | C65: (specify) | K65: =IF(D65='Programming 1'!$A$10,1,"") | N65: =IF(D65='Programming 1'!$A$11,1,"")
A66: IR2.4.7 | B66: Other | C66: (specify) | K66: =IF(D66='Programming 1'!$A$10,1,"") | N66: =IF(D66='Programming 1'!$A$11,1,"")
K67: =SUM(K6:K66) -> 0 | L67: =SUM(L6:L66) -> 0 | M67: =SUM(M6:M66) -> 0 | N67: =SUM(N6:N66) -> 0 | O67: =SUM(K67:N67) -> 0

Sheet IR3
A1: Intermediate Result 3 | J1: Hide these columns
A2: Adoption and implementation of policies that improve equitable and affordable access to high-quality family planning services and information
A3: Country: | E3: Date:
A4: Indicator | D4: Response | E4: Score | F4: Comments
A5: IR3.1: Existence of national or subnational policies or strategic plans that promote access to family planning services and information | J5: Green | K5: Yellow | L5: Orange | M5: Red
A6: IR3.1.1 | B6: Existence of a RH/FP strategy | J6: =IF(D6='Programming 1'!$A$10,1,"") | M6: =IF(D6='Programming 1'!$A$11,1,"")
A7: IR3.1.2 | B7: Existence of national SRH/FP policies | J7: =IF(D7='Programming 1'!$A$10,1,"") | M7: =IF(D7='Programming 1'!$A$11,1,"")
A8: IR3.1.3 | B8: Existence of RH guidelines | J8: =IF(D8='Programming 1'!$A$10,1,"") | M8: =IF(D8='Programming 1'!$A$11,1,"")
A9: IR3.1.4 | B9: Do the plans/policies promote access? | J9: =IF($D9='Programming 1'!$A$3,1,"") | K9: =IF($D9='Programming 1'!$A$4,1,"") | L9: =IF($D9='Programming 1'!$A$5,1,"") | M9: =IF($D9='Programming 1'!$A$6,1,"")
A10: IR3.1.5 | B10: Do the plans/policies promote quality? | J10: =IF($D10='Programming 1'!$A$3,1,"") | K10: =IF($D10='Programming 1'!$A$4,1,"") | L10: =IF($D10='Programming 1'!$A$5,1,"") | M10: =IF($D10='Programming 1'!$A$6,1,"")
A11: IR3.2: Existence of national or subnational policies or strategic plans that promote access to family planning services and information for underserved populations
A12: IR3.2.1 | B12: Existence of a RH/FP strategy | J12: =IF(D12='Programming 1'!$A$10,1,"") | M12: =IF(D12='Programming 1'!$A$11,1,"")
A13: IR3.2.2 | B13: Existence of national SRH/FP policies | J13: =IF(D13='Programming 1'!$A$10,1,"") | M13: =IF(D13='Programming 1'!$A$11,1,"")
A14: IR3.2.3 | B14: Existence of RH guidance documents | J14: =IF(D14='Programming 1'!$A$10,1,"") | M14: =IF(D14='Programming 1'!$A$11,1,"")
A15: IR3.2.4 | B15: Do the plans/policies promote access? | J15: =IF($D15='Programming 1'!$A$3,1,"") | K15: =IF($D15='Programming 1'!$A$4,1,"") | L15: =IF($D15='Programming 1'!$A$5,1,"") | M15: =IF($D15='Programming 1'!$A$6,1,"")
A16: IR3.2.5 | B16: Do the plans/policies promote quality? | J16: =IF($D16='Programming 1'!$A$3,1,"") | K16: =IF($D16='Programming 1'!$A$4,1,"") | L16: =IF($D16='Programming 1'!$A$5,1,"") | M16: =IF($D16='Programming 1'!$A$6,1,"")
A17: IR3.2.6 | B17: Do the plans address FP needs of youth? | J17: =IF($D17='Programming 1'!$A$3,1,"") | K17: =IF($D17='Programming 1'!$A$4,1,"") | L17: =IF($D17='Programming 1'!$A$5,1,"") | M17: =IF($D17='Programming 1'!$A$6,1,"")
A18: IR3.2.7 | B18: Do plans outline / address male involvement in FP? | J18: =IF($D18='Programming 1'!$A$3,1,"") | K18: =IF($D18='Programming 1'!$A$4,1,"") | L18: =IF($D18='Programming 1'!$A$5,1,"") | M18: =IF($D18='Programming 1'!$A$6,1,"")
A19: IR3.2.8 | B19: Do the plans address another important underserved population? | C19: (specify) | J19: =IF($D19='Programming 1'!$A$3,1,"") | K19: =IF($D19='Programming 1'!$A$4,1,"") | L19: =IF($D19='Programming 1'!$A$5,1,"") | M19: =IF($D19='Programming 1'!$A$6,1,"")
A20: IR3.2.9 | B20: Do the plans address another important underserved population? | C20: (specify) | J20: =IF($D20='Programming 1'!$A$3,1,"") | K20: =IF($D20='Programming 1'!$A$4,1,"") | L20: =IF($D20='Programming 1'!$A$5,1,"") | M20: =IF($D20='Programming 1'!$A$6,1,"")
A21: IR3.3: Documentation of instances in which a formal implementation or operational directive or plan is issued to accompany a national or subnational FP policy
A22: IR3.3.1 | B22: Do policies/laws have implementation plans? | J22: =IF($D22='Programming 1'!$A$3,1,"") | K22: =IF($D22='Programming 1'!$A$4,1,"") | L22: =IF($D22='Programming 1'!$A$5,1,"") | M22: =IF($D22='Programming 1'!$A$6,1,"") | O22: IR3.3.1 is "No, not at all"
A23: IR3.3.2 | B23: Are the implementation plans costed? | J23: =IF($O23=1,"",IF(D23='Programming 1'!$A$10,1,"")) | M23: =IF($O23=1,"",IF(D23='Programming 1'!$A$11,1,"")) | O23: =IF($M$22=1,1,"")
A24: IR3.3.3 | B24: Are the implementation plans complete – meaning do they cover every aspect of the policy or law? | J24: =IF($O23=1,"",IF($D24='Programming 1'!$A$3,1,"")) | K24: =IF($O23=1,"",IF($D24='Programming 1'!$A$4,1,"")) | L24: =IF($O23=1,"",IF($D24='Programming 1'!$A$5,1,"")) | M24: =IF($O23=1,"",IF($D24='Programming 1'!$A$6,1,"")) | O24: =IF($M$22=1,1,"")
A25: IR3.4: Evidence that policy barriers to access to family planning services and information have been identified, and/or removed
A26: IR3.4.1 | B26: Have policy barriers been identified? | J26: =IF(D26='Programming 1'!$A$10,1,"") | M26: =IF(D26='Programming 1'!$A$11,1,"")
A27: IR3.4.2 | B27: Have attempts been made to address policy barriers? | J27: =IF($D27='Programming 1'!$A$3,1,"") | K27: =IF($D27='Programming 1'!$A$4,1,"") | L27: =IF($D27='Programming 1'!$A$5,1,"") | M27: =IF($D27='Programming 1'!$A$6,1,"")
A28: IR3.4.3 | B28: Have policy barriers been removed? | J28: =IF($D28='Programming 1'!$A$3,1,"") | K28: =IF($D28='Programming 1'!$A$4,1,"") | L28: =IF($D28='Programming 1'!$A$5,1,"") | M28: =IF($D28='Programming 1'!$A$6,1,"")
A29: IR3.4.4 | B29: Are there additional barriers which need to be addressed? | J29: =IF($D29='Programming 1'!$A$57,1,"") | K29: =IF($D29='Programming 1'!$A$58,1,"") | L29: =IF($D29='Programming 1'!$A$59,1,"") | M29: =IF($D29='Programming 1'!$A$60,1,"")
A30: IR3.5: Evidence of the implementation of policies that promote family planning services and information
B31: Costed action/implementation plan developed | D31: =IF(AND(OR($D$22='Programming 1'!$A$3,$D$22='Programming 1'!$A$4,$D$22='Programming 1'!$A$5),$D$23='Programming 1'!$A$10),'Programming 1'!$A$10,IF(OR($D$22='Programming 1'!$A$6,$D$23='Programming 1'!$A$11),'Programming 1'!$A$11,""))
B32: Are there dissemination, awareness raising and education activities to promote the policy?
A33: IR3.5.1 | B33: At the national level | J33: =IF($D33='Programming 1'!$A$90,1,"") | K33: =IF($D33='Programming 1'!$A$91,1,"") | L33: =IF($D33='Programming 1'!$A$92,1,"") | M33: =IF($D33='Programming 1'!$A$93,1,"")
A34: IR3.5.2 | B34: At the subnational level | J34: =IF($D34='Programming 1'!$A$90,1,"") | K34: =IF($D34='Programming 1'!$A$91,1,"") | L34: =IF($D34='Programming 1'!$A$92,1,"") | M34: =IF($D34='Programming 1'!$A$93,1,"") | O34: IR3.5.1 is "No"
A35: IR3.5.3 | B35: Have activities from the costed implementation plan been carried out in support of the policy? | J35: =IF($O35=1,"",IF($D35='Programming 1'!$A$90,1,"")) | K35: =IF($O35=1,"",IF($D35='Programming 1'!$A$91,1,"")) | L35: =IF($O35=1,"",IF($D35='Programming 1'!$A$92,1,"")) | M35: =IF($O35=1,"",IF($D35='Programming 1'!$A$93,1,"")) | O35: =IF($D$31='Programming 1'!$A$11,1,"")
A36: IR3.5.4 | B36: Evidence of FP policy incorporated by sub-national levels | J36: =IF($D36='Programming 1'!$A$90,1,"") | K36: =IF($D36='Programming 1'!$A$91,1,"") | L36: =IF($D36='Programming 1'!$A$92,1,"") | M36: =IF($D36='Programming 1'!$A$93,1,"")
A37: IR3.5.5 | B37: Are there accountability measures and/or a monitoring plan for implementation of the policy? | J37: =IF($O37=1,"",IF(D37='Programming 1'!$A$10,1,"")) | M37: =IF($O37=1,"",IF(D37='Programming 1'!$A$11,1,"")) | O37: =IF($D$31='Programming 1'!$A$11,1,"")
J38: =SUM(J6:J37) -> 0 | K38: =SUM(K6:K37) -> 0 | L38: =SUM(L6:L37) -> 0 | M38: =SUM(M6:M37) -> 0 | N38: =SUM(J38:M38) -> 0

Sheet IR4
A1: Intermediate Result 4 | J1: Hide these columns
A2: Evidence-based data or information used to inform advocacy, policy dialogue, policy development, planning, resource allocation, budgeting, program design, guidelines, regulations, program improvement and management
A3: Country: | E3: Date:
A4: Indicator | D4: Response | E4: Score | F4: Comments
A5: IR4.1: Evidence of data or information used to support repositioning family planning efforts | J5: Green | K5: Yellow | L5: Orange | M5: Red
A6: IR4.1.1 | B6: Evidence of data used to set RH/FP strategy | J6: =IF($D6='Programming 1'!$A$3,1,"") | K6: =IF($D6='Programming 1'!$A$4,1,"") | L6: =IF($D6='Programming 1'!$A$5,1,"") | M6: =IF($D6='Programming 1'!$A$6,1,"")
A7: IR4.1.2 | B7: Evidence of data used in creation of national SRH/FP policies | J7: =IF($D7='Programming 1'!$A$3,1,"") | K7: =IF($D7='Programming 1'!$A$4,1,"") | L7: =IF($D7='Programming 1'!$A$5,1,"") | M7: =IF($D7='Programming 1'!$A$6,1,"")
A8: IR4.1.3 | B8: Evidence of data used in creation of RH guidelines | J8: =IF($D8='Programming 1'!$A$3,1,"") | K8: =IF($D8='Programming 1'!$A$4,1,"") | L8: =IF($D8='Programming 1'!$A$5,1,"") | M8: =IF($D8='Programming 1'!$A$6,1,"")
A9: IR4.1.4 | B9: Evidence of costing data used in creation of RH/FP policy implementation plan | J9: =IF($D9='Programming 1'!$A$3,1,"") | K9: =IF($D9='Programming 1'!$A$4,1,"") | L9: =IF($D9='Programming 1'!$A$5,1,"") | M9: =IF($D9='Programming 1'!$A$6,1,"")
A10: IR4.1.5 | B10: Evidence of data used in creation of advocacy messages | J10: =IF($D10='Programming 1'!$A$3,1,"") | K10: =IF($D10='Programming 1'!$A$4,1,"") | L10: =IF($D10='Programming 1'!$A$5,1,"") | M10: =IF($D10='Programming 1'!$A$6,1,"")
A11: IR4.1.6 | B11: Other example of data use for RH/FP? | C11: (specify) | J11: =IF($D11='Programming 1'!$A$3,1,"") | K11: =IF($D11='Programming 1'!$A$4,1,"") | L11: =IF($D11='Programming 1'!$A$5,1,"") | M11: =IF($D11='Programming 1'!$A$6,1,"")
A12: IR4.1.7 | B12: Other example of data use for RH/FP? | C12: (specify) | J12: =IF($D12='Programming 1'!$A$3,1,"") | K12: =IF($D12='Programming 1'!$A$4,1,"") | L12: =IF($D12='Programming 1'!$A$5,1,"") | M12: =IF($D12='Programming 1'!$A$6,1,"")
A13: IR4.2: Evidence of international family planning best practices incorporated into national health standards
A14: IR4.2.1 | B14: Do current national health standards exist? | J14: =IF(D14='Programming 1'!$A$10,1,"") | M14: =IF(D14='Programming 1'!$A$11,1,"")
B15: Do the national standards: | O15: IR4.2.1 is "No"
A16: IR4.2.2 | B16: ensure contraceptive choice by making a wide range of family planning methods available? | J16: =IF($O16=1,"",IF($D16='Programming 1'!$A$3,1,"")) | K16: =IF($O16=1,"",IF($D16='Programming 1'!$A$4,1,"")) | L16: =IF($O16=1,"",IF($D16='Programming 1'!$A$5,1,"")) | M16: =IF($O16=1,"",IF($D16='Programming 1'!$A$6,1,"")) | O16: =IF($M$14=1,1,"")
A17: IR4.2.3 | B17: train, equip, and support community health workers (CHWs) to provide a wide range of family planning methods? | J17: =IF($O17=1,"",IF($D17='Programming 1'!$A$3,1,"")) | K17: =IF($O17=1,"",IF($D17='Programming 1'!$A$4,1,"")) | L17: =IF($O17=1,"",IF($D17='Programming 1'!$A$5,1,"")) | M17: =IF($O17=1,"",IF($D17='Programming 1'!$A$6,1,"")) | O17: =IF($M$14=1,1,"")
A18: IR4.2.4 | B18: provide family planning counseling and services at the same time and location where women receive services related to spontaneous or induced abortion? | J18: =IF($O18=1,"",IF($D18='Programming 1'!$A$3,1,"")) | K18: =IF($O18=1,"",IF($D18='Programming 1'!$A$4,1,"")) | L18: =IF($O18=1,"",IF($D18='Programming 1'!$A$5,1,"")) | M18: =IF($O18=1,"",IF($D18='Programming 1'!$A$6,1,"")) | O18: =IF($M$14=1,1,"")
A19: IR4.2.5 | B19: support distribution of a wide range of family planning methods and promotion of healthy contraceptive behaviors through social marketing? | J19: =IF($O19=1,"",IF($D19='Programming 1'!$A$3,1,"")) | K19: =IF($O19=1,"",IF($D19='Programming 1'!$A$4,1,"")) | L19: =IF($O19=1,"",IF($D19='Programming 1'!$A$5,1,"")) | M19: =IF($O19=1,"",IF($D19='Programming 1'!$A$6,1,"")) | O19: =IF($M$14=1,1,"")
A20: IR4.2.6 | B20: provide a wide range of family planning methods through mobile outreach services? | J20: =IF($O20=1,"",IF($D20='Programming 1'!$A$3,1,"")) | K20: =IF($O20=1,"",IF($D20='Programming 1'!$A$4,1,"")) | L20: =IF($O20=1,"",IF($D20='Programming 1'!$A$5,1,"")) | M20: =IF($O20=1,"",IF($D20='Programming 1'!$A$6,1,"")) | O20: =IF($M$14=1,1,"")
A21: IR4.2.7 | B21: train and support pharmacists and drug shop keepers to provide a wide range of family planning methods? | J21: =IF($O21=1,"",IF($D21='Programming 1'!$A$3,1,"")) | K21: =IF($O21=1,"",IF($D21='Programming 1'!$A$4,1,"")) | L21: =IF($O21=1,"",IF($D21='Programming 1'!$A$5,1,"")) | M21: =IF($O21=1,"",IF($D21='Programming 1'!$A$6,1,"")) | O21: =IF($M$14=1,1,"")
A22: IR4.2.8 | B22: offer family planning services to postpartum women (up to 12 months after birth), such as screening women during routine child immunization contacts? | J22: =IF($O22=1,"",IF($D22='Programming 1'!$A$3,1,"")) | K22: =IF($O22=1,"",IF($D22='Programming 1'!$A$4,1,"")) | L22: =IF($O22=1,"",IF($D22='Programming 1'!$A$5,1,"")) | M22: =IF($O22=1,"",IF($D22='Programming 1'!$A$6,1,"")) | O22: =IF($M$14=1,1,"")
A23: IR4.3: Evidence of a defined and funded research agenda in family planning
A24: IR4.3.1 | B24: Is there a national research agenda for FP? | J24: =IF($D24='Programming 1'!$A$96,1,"") | K24: =IF($D24='Programming 1'!$A$97,1,"") | L24: =IF($D24='Programming 1'!$A$98,1,"") | M24: =IF($D24='Programming 1'!$A$99,1,"")
A25: IR4.3.2 | B25: Is there funding allocated to implement this research agenda? | J25: =IF($D$25='Programming 1'!$A103,1,"") | K25: =IF($D$25='Programming 1'!$A104,1,"") | L25: =IF($D$25='Programming 1'!$A105,1,"") | M25: =IF($D$25='Programming 1'!$A106,1,"") | O25: IR4.3.1 is "Not started" or "Just started"
A26: IR4.3.3 | B26: Are there currently any research projects ongoing from this agenda? | J26: =IF($O26=1,"",IF($D26='Programming 1'!$A$3,1,"")) | K26: =IF($O26=1,"",IF($D26='Programming 1'!$A$4,1,"")) | L26: =IF($O26=1,"",IF($D26='Programming 1'!$A$5,1,"")) | M26: =IF($O26=1,"",IF($D26='Programming 1'!$A$6,1,"")) | O26: =IF(OR($M$24=1,$L$24=1),1,"")
A27: IR4.3.4 | B27: Were there any research projects from this agenda completed within the last year? | J27: =IF($O27=1,"",IF(D27='Programming 1'!$A$10,1,"")) | M27: =IF($O27=1,"",IF(D27='Programming 1'!$A$11,1,"")) | O27: =IF(OR($M$24=1,$L$24=1),1,"")
A28: IR4.4: Evidence of in-country organizational technical capacity for the collection, analysis and communication of FP information
B29: Does the ministry responsible for FP have staff with the knowledge needed to:
A30: IR4.4.1 | B30: Collect data | J30: =IF($D30='Programming 1'!$A$3,1,"") | K30: =IF($D30='Programming 1'!$A$4,1,"") | L30: =IF($D30='Programming 1'!$A$5,1,"") | M30: =IF($D30='Programming 1'!$A$6,1,"")
A31: IR4.4.2 | B31: Analyze data | J31: =IF($D31='Programming 1'!$A$3,1,"") | K31: =IF($D31='Programming 1'!$A$4,1,"") | L31: =IF($D31='Programming 1'!$A$5,1,"") | M31: =IF($D31='Programming 1'!$A$6,1,"")
A32: IR4.4.3 | B32: Interpret data | J32: =IF($D32='Programming 1'!$A$3,1,"") | K32: =IF($D32='Programming 1'!$A$4,1,"") | L32: =IF($D32='Programming 1'!$A$5,1,"") | M32: =IF($D32='Programming 1'!$A$6,1,"")
A33: IR4.4.4 | B33: Communicate data | J33: =IF($D33='Programming 1'!$A$3,1,"") | K33: =IF($D33='Programming 1'!$A$4,1,"") | L33: =IF($D33='Programming 1'!$A$5,1,"") | M33: =IF($D33='Programming 1'!$A$6,1,"")
B34: Does the ministry responsible for FP have the resources (computer, software, etc.) needed to:
A35: IR4.4.5 | B35: Collect data | J35: =IF($D35='Programming 1'!$A$3,1,"") | K35: =IF($D35='Programming 1'!$A$4,1,"") | L35: =IF($D35='Programming 1'!$A$5,1,"") | M35: =IF($D35='Programming 1'!$A$6,1,"")
A36: IR4.4.6 | B36: Analyze data | J36: =IF($D36='Programming 1'!$A$3,1,"") | K36: =IF($D36='Programming 1'!$A$4,1,"") | L36: =IF($D36='Programming 1'!$A$5,1,"") | M36: =IF($D36='Programming 1'!$A$6,1,"")
A37: IR4.4.7 | B37: Interpret data | J37: =IF($D37='Programming 1'!$A$3,1,"") | K37: =IF($D37='Programming 1'!$A$4,1,"") | L37: =IF($D37='Programming 1'!$A$5,1,"") | M37: =IF($D37='Programming 1'!$A$6,1,"")
A38: IR4.4.8 | B38: Communicate data | J38: =IF($D38='Programming 1'!$A$3,1,"") | K38: =IF($D38='Programming 1'!$A$4,1,"") | L38: =IF($D38='Programming 1'!$A$5,1,"") | M38: =IF($D38='Programming 1'!$A$6,1,"")
B39: Does the ministry responsible for FP have sufficient staff to:
A40: IR4.4.9 | B40: Collect data | J40: =IF($D40='Programming 1'!$A$3,1,"") | K40: =IF($D40='Programming 1'!$A$4,1,"") | L40: =IF($D40='Programming 1'!$A$5,1,"") | M40: =IF($D40='Programming 1'!$A$6,1,"")
A41: IR4.4.10 | B41: Analyze data | J41: =IF($D41='Programming 1'!$A$3,1,"") | K41: =IF($D41='Programming 1'!$A$4,1,"") | L41: =IF($D41='Programming 1'!$A$5,1,"") | M41: =IF($D41='Programming 1'!$A$6,1,"")
A42: IR4.4.11 | B42: Interpret data | J42: =IF($D42='Programming 1'!$A$3,1,"") | K42: =IF($D42='Programming 1'!$A$4,1,"") | L42: =IF($D42='Programming 1'!$A$5,1,"") | M42: =IF($D42='Programming 1'!$A$6,1,"")
A43: IR4.4.12 | B43: Communicate data | J43: =IF($D43='Programming 1'!$A$3,1,"") | K43: =IF($D43='Programming 1'!$A$4,1,"") | L43: =IF($D43='Programming 1'!$A$5,1,"") | M43: =IF($D43='Programming 1'!$A$6,1,"")
J44: =SUM(J6:J43) -> 0 | K44: =SUM(K6:K43) -> 0 | L44: =SUM(L6:L43) -> 0 | M44: =SUM(M6:M43) -> 0 | N44: =SUM(J44:M44) -> 0

Sheet IR5
A1: Intermediate Result 5 | J1: Hide these columns
A2: Individual or institutional capacity strengthened in the public sector, civil society, and private sector to assume leadership and/or support the family planning agenda
A3: Country: | D3: Date:
A4: Indicator | C4: Response | D4: Score | E4: Comments
A5: IR5.1: Evidence of entities provided with donor assistance that demonstrate capacity to independently implement repositioning family planning activities | J5: Green | K5: Yellow | L5: Orange | M5: Red
A6: IR5.1.1 | B6: Are local CBOs independently implementing repositioning FP activities? | J6: =IF($C6='Programming 1'!$A$3,1,"") | K6: =IF($C6='Programming 1'!$A$4,1,"") | L6: =IF($C6='Programming 1'!$A$5,1,"") | M6: =IF($C6='Programming 1'!$A$6,1,"")
A7: IR5.1.2 | B7: Is the public sector independently implementing repositioning FP activities? | J7: =IF($C7='Programming 1'!$A$3,1,"") | K7: =IF($C7='Programming 1'!$A$4,1,"") | L7: =IF($C7='Programming 1'!$A$5,1,"") | M7: =IF($C7='Programming 1'!$A$6,1,"")
A8: IR5.1.3 | B8: Are local civil society groups independently implementing repositioning FP activities? | J8: =IF($C8='Programming 1'!$A$3,1,"") | K8: =IF($C8='Programming 1'!$A$4,1,"") | L8: =IF($C8='Programming 1'!$A$5,1,"") | M8: =IF($C8='Programming 1'!$A$6,1,"")
A9: IR5.1.4 | B9: Is the private sector independently implementing repositioning FP activities? | J9: =IF($C9='Programming 1'!$A$3,1,"") | K9: =IF($C9='Programming 1'!$A$4,1,"") | L9: =IF($C9='Programming 1'!$A$5,1,"") | M9: =IF($C9='Programming 1'!$A$6,1,"")
A10: IR5.1.5 | B10: Evidence of civil society involved in FP/population program design, budgeting, or implementation | J10: =IF($C10='Programming 1'!$A$3,1,"") | K10: =IF($C10='Programming 1'!$A$4,1,"") | L10: =IF($C10='Programming 1'!$A$5,1,"") | M10: =IF($C10='Programming 1'!$A$6,1,"")
A11: IR5.2: Evidence of government departments or other entities established or strengthened to support the family planning agenda
A12: IR5.2.1 | B12: Is there a government led family planning program? | J12: =IF(C12='Programming 1'!$A$10,1,"") | M12: =IF(C12='Programming 1'!$A$11,1,"")
A13: IR5.2.2 | B13: Is the FP program located within the appropriate ministry? | J13: =IF(C13='Programming 1'!$A$10,1,"") | M13: =IF(C13='Programming 1'!$A$11,1,"")
A14: IR5.2.3 | B14: Is the head of the FP program located in the heirarchy of the ministry in a position that provides adequate authority to accomplish objectives? | J14: =IF(C14='Programming 1'!$A$10,1,"") | M14: =IF(C14='Programming 1'!$A$11,1,"")
A15: IR5.2.4 | B15: Is there a parliamentary sub-committee on SRH/FP? | J15: =IF($C15='Programming 1'!$A$110,1,"") | K15: =IF($C15='Programming 1'!$A$111,1,"") | M15: =IF($C15='Programming 1'!$A$112,1,"")
A16: IR5.2.5 | B16: What is the level of activity of the sub-committee? | J16: =IF($C16='Programming 1'!$A$115,1,"") | K16: =IF($C16='Programming 1'!$A$116,1,"") | L16: =IF($C16='Programming 1'!$A$117,1,"") | M16: =IF($C16='Programming 1'!$A$118,1,"")
A17: IR5.3: Evidence of targeted public and private sector officials, FBO, or community leaders publicly demonstrating new or increased commitment to FP
A18: IR5.3.1 | B18: Do recent speeches, written statements, Op-ed pieces, blogs, etc. by traditional or religious leaders show support for FP? | J18: =IF($C18='Programming 1'!$A$69,1,"") | K18: =IF($C18='Programming 1'!$A$70,1,"") | L18: =IF($C18='Programming 1'!$A$71,1,"") | M18: =IF($C18='Programming 1'!$A$72,1,"")
A19: IR5.3.2 | B19: Do recent speeches, written statements, Op-ed pieces, blogs, etc. by public sector leaders show support for FP? | J19: =IF($C19='Programming 1'!$A$69,1,"") | K19: =IF($C19='Programming 1'!$A$70,1,"") | L19: =IF($C19='Programming 1'!$A$71,1,"") | M19: =IF($C19='Programming 1'!$A$72,1,"")
A20: IR5.3.3 | B20: Do recent speeches, written statements, Op-ed pieces, blogs, etc. by private sector leaders show support for FP? | J20: =IF($C20='Programming 1'!$A$69,1,"") | K20: =IF($C20='Programming 1'!$A$70,1,"") | L20: =IF($C20='Programming 1'!$A$71,1,"") | M20: =IF($C20='Programming 1'!$A$72,1,"")
A21: IR5.3.4 | B21: Do recent speeches, written statements, Op-ed pieces, blogs, etc. by civil society leaders show support for FP? | J21: =IF($C21='Programming 1'!$A$69,1,"") | K21: =IF($C21='Programming 1'!$A$70,1,"") | L21: =IF($C21='Programming 1'!$A$71,1,"") | M21: =IF($C21='Programming 1'!$A$72,1,"")
A22: IR5.4: Evidence of regional/national centers or collaboratives for shared education and research in family planning
A23: IR5.4.1 | B23: Is there a national university or research institution that has at least one department focused on FP/SRH/Demography? | J23: =IF(C23='Programming 1'!$A$10,1,"") | M23: =IF(C23='Programming 1'!$A$11,1,"")
A24: IR5.4.2 | B24: Is there a regional university or research institution that has at least one department focused on FP/SRH/Demography? | J24: =IF(C24='Programming 1'!$A$10,1,"") | M24: =IF(C24='Programming 1'!$A$11,1,"")
B25: Are any of these centers involved in: | O25: IR5.4.1 is "No" | P25: IR5.4.2 is "No"
A26: IR5.4.3 | B26: Advocacy? | J26: =IF(AND($O26=1,$P26=1),"",IF(C26='Programming 1'!$A$10,1,"")) | M26: =IF(AND($O26=1,$P26=1),"",IF(C26='Programming 1'!$A$11,1,"")) | O26: =IF($M$23=1,1,"") | P26: =IF($M$24=1,1,"")
A27: IR5.4.4 | B27: Research? | J27: =IF(AND($O26=1,$P26=1),"",IF(C27='Programming 1'!$A$10,1,"")) | M27: =IF(AND($O26=1,$P26=1),"",IF(C27='Programming 1'!$A$11,1,"")) | O27: =IF($M$23=1,1,"") | P27: =IF($M$24=1,1,"")
A28: IR5.4.5 | B28: Training healthcare workers? | J28: =IF(AND($O26=1,$P26=1),"",IF(C28='Programming 1'!$A$10,1,"")) | M28: =IF(AND($O26=1,$P26=1),"",IF(C28='Programming 1'!$A$11,1,"")) | O28: =IF($M$23=1,1,"") | P28: =IF($M$24=1,1,"")
A29: IR5.4.6 | B29: FP related education? | J29: =IF(AND($O26=1,$P26=1),"",IF(C29='Programming 1'!$A$10,1,"")) | M29: =IF(AND($O26=1,$P26=1),"",IF(C29='Programming 1'!$A$11,1,"")) | O29: =IF($M$23=1,1,"") | P29: =IF($M$24=1,1,"")
J30: =SUM(J6:J29) -> 0 | K30: =SUM(K6:K29) -> 0 | L30: =SUM(L6:L29) -> 0 | M30: =SUM(M6:M29) -> 0 | N30: =SUM(J30:M30) -> 0

Sheet Dashboard 3
I2: Quick Assessment of Progress in RH/FP Policy
I3: % of responses in each category

Sheet Programming 1
D2: Green | E2: Yellow | F2: Orange | G2: Red | I2: Guide to scoring multiple data point questions
A3: Yes, completely | C3: IR5 | D3: ='IR5'!J30 -> 0 | E3: ='IR5'!K30 -> 0 | F3: ='IR5'!L30 -> 0 | G3: ='IR5'!M30 -> 0 | I3: Data point 1 = "Pt1"
A4: Mostly | C4: IR4 | D4: ='IR4'!J44 -> 0 | E4: ='IR4'!K44 -> 0 | F4: ='IR4'!L44 -> 0 | G4: ='IR4'!M44 -> 0 | I4: Data point 2 = "Pt2"
A5: Somewhat | C5: IR3 | D5: ='IR3'!J38 -> 0 | E5: ='IR3'!K38 -> 0 | F5: ='IR3'!L38 -> 0 | G5: ='IR3'!M38 -> 0 | I5: Regional avg = "Avg"
A6: No, not at all | C6: IR2 | D6: ='IR2'!K67 -> 0 | E6: ='IR2'!L67 -> 0 | F6: ='IR2'!M67 -> 0 | G6: ='IR2'!N67 -> 0
A7: N/A, not applicable | C7: IR1 | D7: ='IR1'!K46 -> 0 | E7: ='IR1'!L46 -> 0 | F7: ='IR1'!M46 -> 0 | G7: ='IR1'!N46 -> 0 | I7: Two data points without regional average
C8: SO | D8: =SO!J24 -> 0 | E8: =SO!K24 -> 0 | F8: =SO!L24 -> 0 | G8: =SO!M24 -> 0 | I8: Trending up, Pt1<Pt2
C9: OVERALL | D9: =SUM(D3:D8) -> 0 | E9: =SUM(E3:E8) -> 0 | F9: =SUM(F3:F8) -> 0 | G9: =SUM(G3:G8) -> 0 | I9: No change, Pt1=Pt2
A10: Yes | I10: Trending down, Pt1>Pt2
A11: No | D11: Green, Yellow | E11: Orange, Red
A12: N/A, not applicable | C12: IR5 | D12: =SUM(D3:E3) -> 0 | E12: =SUM(F3:G3) -> 0
C13: IR4 | D13: =SUM(D4:E4) -> 0 | E13: =SUM(F4:G4) -> 0 | I13: Two data points with regional average
C14: IR3 | D14: =SUM(D5:E5) -> 0 | E14: =SUM(F5:G5) -> 0 | K14: Current status
A15: Greater | C15: IR2 | D15: =SUM(D6:E6) -> 0 | E15: =SUM(F6:G6) -> 0 | K15: Below average Pt2<Avg | L15: Equal to average Pt2=Avg | M15: Above average Pt2>Avg
A16: Equal | C16: IR1 | D16: =SUM(D7:E7) -> 0 | E16: =SUM(F7:G7) -> 0 | I16: Recent trend | J16: Trending up Pt1<Pt2
A17: Below | C17: SO | D17: =SUM(D8:E8) -> 0 | E17: =SUM(F8:G8) -> 0 | J17: Flat, no change Pt1=Pt2
C18: OVERALL | D18: =SUM(D9:E9) -> 0 | E18: =SUM(F9:G9) -> 0 | J18: Trending down Pt1>Pt2
A20: At least once per quarter
A21: Twice per year
A22: Once per year
A23: Rarely
A26: Yes, scaled-up
A27: Yes, tested
A28: Yes, identified
A29: No, none
A32: Yes, significant increase
A33: Yes, minor increase
A34: No, amount unchanged
A35: No, amount decreased
... A131: Total FP allocation

Sheet Programming 2
A1: GREEN | B1: YELLOW | C1: ORANGE | D1: RED | E1: Number | F1: Question
E2: SO
A3: =SO!J6 | B3: =SO!K6 -> 0 | C3: =SO!L6 -> 0 | D3: =SO!M6 | E3: =SO!A6 -> SO.1.1 | F3: =SO!B6 -> Is there a government-led council or coalition that oversees FP?
A4: =SO!J7 | B4: =SO!K7 | C4: =SO!L7 | D4: =SO!M7 | E4: =SO!A7 -> SO.1.2 | F4: =SO!B7 -> Does the council or coalition have influence?
A5: =SO!J8 | B5: =SO!K8 -> 0 | C5: =SO!L8 -> 0 | D5: =SO!M8 | E5: =SO!A8 -> SO.1.3 | F5: =SO!B8 -> Does the council or coalition have its own funding?
A6: =SO!J9 | B6: =SO!K9 | C6: =SO!L9 | D6: =SO!M9 | E6: =SO!A9 -> SO.1.4 | F6: =SO!B9 -> Does the council or coalition control how funding is allocated?
A7: =SO!J10 | B7: =SO!K10 -> 0 | C7: =SO!L10 -> 0 | D7: =SO!M10 | E7: =SO!A10 -> SO.1.5 | F7: =SO!B10 -> Does the council or coalition actively coordinate and manage the national FP program?
A8: =SO!J11 -> 0 | B8: =SO!K11 -> 0 | C8: =SO!L11 -> 0 | D8: =SO!M11 -> 0 | E8: =SO!A11 -> SO.2: Evidence of documented improvement in the enabling environment for family planning using a validated instrument | F8: =SO!B11 -> 0
A9: =SO!J12 -> 0 | B9: =SO!K12 -> 0 | C9: =SO!L12 -> 0 | D9: =SO!M12 -> 0 | E9: =SO!A12 -> Indicator | F9: =SO!B12 -> 0
A10: =SO!J13 | B10: =SO!K13 | C10: =SO!L13 | D10: =SO!M13 | E10: =SO!A13 -> SO.2.1 | F10: =SO!B13 -> Does the most recent FPES show improvement in the FP enabling environment? (Please enter most recent score along with a historical score and regional comparison)
A11: =SO!J14 | B11: =SO!K14 | C11: =SO!L14 | D11: =SO!M14 | E11: =SO!A14 -> SO.2.2 | F11: =SO!B14 -> Does the most recent PES show improvement in the FP enabling environment? (Please enter most recent score along with a historical score and regional comparison)
A12: =SO!J15 | B12: =SO!K15 | C12: =SO!L15 | D12: =SO!M15 | E12: =SO!A15 -> SO.2.3 | F12: =SO!B15 -> Does the most recent Maternal and Neonatal Program Effort Index (MNPI) show improvement in the FP enabling environment? (Please enter most recent score along with a historical score and regional comparison)
A13: =SO!J16 | B13: =SO!K16 | C13: =SO!L16 | D13: =SO!M16 | E13: =SO!A16 -> SO.2.4 | F13: =SO!B16 -> Does the most recent CS Index show improvement in the FP enabling environment? (Please enter most recent score along with a historical score and regional comparison)
A14: =SO!J17 | B14: =SO!K17 | C14: =SO!L17 | D14: =SO!M17 | E14: =SO!A17 -> SO.2.5 | F14: =SO!B17 -> Is there another validated measure that shows improvement in the FP enabling environment? (specify measure in comments and enter most recent score along with a historical score and regional comparison)
... A20: =SO!J23 | B20: =SO!K23 | C20: =SO!L23 | D20: =SO!M23 | E20: =SO!A23 -> SO.3.4 | F20: =SO!B23 -> Were resources expended /used to support the FP policy?
E23: IR1
A24: ='IR1'!K7 | B24: ='IR1'!L7 | C24: ='IR1'!M7 | D24: ='IR1'!N7 | E24: ='IR1'!A7 -> IR1.1.1 | F24: ='IR1'!B7 -> How much was spent on FP from all sources in the last budget year?
A25: ='IR1'!K8 -> 0 | B25: ='IR1'!L8 -> 0 | C25: ='IR1'!M8 -> 0 | D25: ='IR1'!N8 -> 0 | E25: ='IR1'!A8 -> 0 | F25: ='IR1'!B8 -> How much was spent on FP from the following sources in the last budget year?
A26: ='IR1'!K9 | B26: ='IR1'!L9 | C26: ='IR1'!M9 | D26: ='IR1'!N9 | E26: ='IR1'!A9 -> IR1.1.2 | F26: ='IR1'!B9 -> Government
A27: ='IR1'!K10 | B27: ='IR1'!L10 | C27: ='IR1'!M10 | D27: ='IR1'!N10 | E27: ='IR1'!A10 -> IR1.1.3 | F27: ='IR1'!B10 -> Donors
A28: ='IR1'!K11 | B28: ='IR1'!L11 | C28: ='IR1'!M11 | D28: ='IR1'!N11 | E28: ='IR1'!A11 -> IR1.1.4 | F28: ='IR1'!B11 -> Private sector
A29: ='IR1'!K12 | B29: ='IR1'!L12 | C29: ='IR1'!M12 | D29: ='IR1'!N12 | E29: ='IR1'!A12 -> IR1.1.5 | F29: ='IR1'!B12 -> FP User
A30: ='IR1'!K13 -> 0 | B30: ='IR1'!L13 -> 0 | C30: ='IR1'!M13 -> 0 | D30: ='IR1'!N13 -> 0 | E30: ='IR1'!A13 -> 0 | F30: ='IR1'!B13 -> Totals
A31: ='IR1'!K14 -> 0 | B31: ='IR1'!L14 -> 0 | C31: ='IR1'!M14 -> 0 | D31: ='IR1'!N14 -> 0 | E31: ='IR1'!A14 -> 0 | F31: ='IR1'!B14 -> Of that how much was spent on:
A32: ='IR1'!K15 | B32: ='IR1'!L15 | C32: ='IR1'!M15 | D32: ='IR1'!N15 | E32: ='IR1'!A15 -> IR1.1.6 | F32: ='IR1'!B15 -> Commodities
A33: ='IR1'!K16 | B33: ='IR1'!L16 | C33: ='IR1'!M16 | D33: ='IR1'!N16 | E33: ='IR1'!A16 -> IR1.1.7 | F33: ='IR1'!B16 -> Capacity Building
A34: ='IR1'!K17 | B34: ='IR1'!L17 | C34: ='IR1'!M17 | D34: ='IR1'!N17 | E34: ='IR1'!A17 -> IR1.1.8 | F34: ='IR1'!B17 -> Service Delivery
A35: ='IR1'!K18 | B35: ='IR1'!L18 | C35: ='IR1'!M18 | D35: ='IR1'!N18 | E35: ='IR1'!A18 -> IR1.1.9 | F35: ='IR1'!B18 -> Advocacy
... A62: ='IR1'!K45 | B62: ='IR1'!L45 | C62: ='IR1'!M45 | D62: ='IR1'!N45 | E62: ='IR1'!A45 -> IR1.4.2 | F62: ='IR1'!B45 -> Commodities
E65: IR2
A66: ='IR2'!K6 | B66: ='IR2'!L6 -> 0 | C66: ='IR2'!M6 -> 0 | D66: ='IR2'!N6 | E66: ='IR2'!A6 -> IR2.1.1 | F66: ='IR2'!B6 -> Is there evidence of FP incorporated into national strategic and development plans? (non-FP)
A67: ='IR2'!K7 -> 0 | B67: ='IR2'!L7 -> 0 | C67: ='IR2'!M7 -> 0 | D67: ='IR2'!N7 -> 0 | E67: ='IR2'!A7 -> 0 | F67: ='IR2'!B7 -> Do the following ministries have policies or strategies that include FP or SRH?
A68: ='IR2'!K8 | B68: ='IR2'!L8 -> 0 | C68: ='IR2'!M8 -> 0 | D68: ='IR2'!N8 | E68: ='IR2'!A8 -> IR2.1.2 | F68: ='IR2'!B8 -> Population
A69: ='IR2'!K9 | B69: ='IR2'!L9 -> 0 | C69: ='IR2'!M9 -> 0 | D69: ='IR2'!N9 | E69: ='IR2'!A9 -> IR2.1.3 | F69: ='IR2'!B9 -> Gender
A70: ='IR2'!K10 | B70: ='IR2'!L10 -> 0 | C70: ='IR2'!M10 -> 0 | D70: ='IR2'!N10 | E70: ='IR2'!A10 -> IR2.1.4 | F70: ='IR2'!B10 -> Health
A71: ='IR2'!K11 | B71: ='IR2'!L11 -> 0 | C71: ='IR2'!M11 -> 0 | D71: ='IR2'!N11 | E71: ='IR2'!A11 -> IR2.1.5 | F71: ='IR2'!B11 -> Education
A72: ='IR2'!K12 | B72: ='IR2'!L12 -> 0 | C72: ='IR2'!M12 -> 0 | D72: ='IR2'!N12 | E72: ='IR2'!A12 -> IR2.1.6 | F72: ='IR2'!B12 -> Environment
A73: ='IR2'!K13 | B73: ='IR2'!L13 -> 0 | C73: ='IR2'!M13 -> 0 | D73: ='IR2'!N13 | E73: ='IR2'!A13 -> IR2.1.7 | F73: ='IR2'!B13 -> Labor
A74: ='IR2'!K14 | B74: ='IR2'!L14 -> 0 | C74: ='IR2'!M14 -> 0 | D74: ='IR2'!N14 | E74: ='IR2'!A14 -> IR2.1.8 | F74: ='IR2'!B14 -> Agriculture
A75: ='IR2'!K15 -> 0 | B75: ='IR2'!L15 -> 0 | C75: ='IR2'!M15 -> 0 | D75: ='IR2'!N15 -> 0 | E75: ='IR2'!A15 -> IR2.2: Evidence of governments engaging multiple sectors in family planning activities | F75: ='IR2'!B15 -> 0
A76: ='IR2'!K16 -> 0 | B76: ='IR2'!L16 -> 0 | C76: ='IR2'!M16 -> 0 | D76: ='IR2'!N16 -> 0 | E76: ='IR2'!A16 -> 0 | F76: ='IR2'!B16 -> Is the government engaging the following sectors/disciplines in FP activities?
A77: ='IR2'!K17 -> 0 | B77: ='IR2'!L17 -> 0 | C77: ='IR2'!M17 -> 0 | D77: ='IR2'!N17 -> 0 | E77: ='IR2'!A17 -> 0 | F77: ='IR2'!B17 -> Private sector
... A126: ='IR2'!K66 | B126: ='IR2'!L66 -> 0 | C126: ='IR2'!M66 -> 0 | D126: ='IR2'!N66 | E126: ='IR2'!A66 -> IR2.4.7 | F126: ='IR2'!B66 -> Other
E129: IR3
A130: ='IR3'!J6 | B130: ='IR3'!K6 -> 0 | C130: ='IR3'!L6 -> 0 | D130: ='IR3'!M6 | E130: ='IR3'!A6 -> IR3.1.1 | F130: ='IR3'!B6 -> Existence of a RH/FP strategy
A131: ='IR3'!J7 | B131: ='IR3'!K7 -> 0 | C131: ='IR3'!L7 -> 0 | D131: ='IR3'!M7 | E131: ='IR3'!A7 -> IR3.1.2 | F131: ='IR3'!B7 -> Existence of national SRH/FP policies
A132: ='IR3'!J8 | B132: ='IR3'!K8 -> 0 | C132: ='IR3'!L8 -> 0 | D132: ='IR3'!M8 | E132: ='IR3'!A8 -> IR3.1.3 | F132: ='IR3'!B8 -> Existence of RH guidelines
A133: ='IR3'!J9 | B133: ='IR3'!K9 | C133: ='IR3'!L9 | D133: ='IR3'!M9 | E133: ='IR3'!A9 -> IR3.1.4 | F133: ='IR3'!B9 -> Do the plans/policies promote access?
A134: ='IR3'!J10 | B134: ='IR3'!K10 | C134: ='IR3'!L10 | D134: ='IR3'!M10 | E134: ='IR3'!A10 -> IR3.1.5 | F134: ='IR3'!B10 -> Do the plans/policies promote quality?
A135: ='IR3'!J11 -> 0 | B135: ='IR3'!K11 -> 0 | C135: ='IR3'!L11 -> 0 | D135: ='IR3'!M11 -> 0 | E135: ='IR3'!A11 -> IR3.2: Existence of national or subnational policies or strategic plans that promote access to family planning services and information for underserved populations | F135: ='IR3'!B11 -> 0
A136: ='IR3'!J12 | B136: ='IR3'!K12 -> 0 | C136: ='IR3'!L12 -> 0 | D136: ='IR3'!M12 | E136: ='IR3'!A12 -> IR3.2.1 | F136: ='IR3'!B12 -> Existence of a RH/FP strategy
A137: ='IR3'!J13 | B137: ='IR3'!K13 -> 0 | C137: ='IR3'!L13 -> 0 | D137: ='IR3'!M13 | E137: ='IR3'!A13 -> IR3.2.2 | F137: ='IR3'!B13 -> Existence of national SRH/FP policies
A138: ='IR3'!J14 | B138: ='IR3'!K14 -> 0 | C138: ='IR3'!L14 -> 0 | D138: ='IR3'!M14 | E138: ='IR3'!A14 -> IR3.2.3 | F138: ='IR3'!B14 -> Existence of RH guidance documents
A139: ='IR3'!J15 | B139: ='IR3'!K15 | C139: ='IR3'!L15 | D139: ='IR3'!M15 | E139: ='IR3'!A15 -> IR3.2.4 | F139: ='IR3'!B15 -> Do the plans/policies promote access?
A140: ='IR3'!J16 | B140: ='IR3'!K16 | C140: ='IR3'!L16 | D140: ='IR3'!M16 | E140: ='IR3'!A16 -> IR3.2.5 | F140: ='IR3'!B16 -> Do the plans/policies promote quality?
A141: ='IR3'!J17 | B141: ='IR3'!K17 | C141: ='IR3'!L17 | D141: ='IR3'!M17 | E141: ='IR3'!A17 -> IR3.2.6 | F141: ='IR3'!B17 -> Do the plans address FP needs of youth?
... A161: ='IR3'!J37 | B161: ='IR3'!K37 -> 0 | C161: ='IR3'!L37 -> 0 | D161: ='IR3'!M37 | E161: ='IR3'!A37 -> IR3.5.5 | F161: ='IR3'!B37 -> Are there accountability measures and/or a monitoring plan for implementation of the policy?
E166: IR4
A167: ='IR4'!J6 | B167: ='IR4'!K6 | C167: ='IR4'!L6 | D167: ='IR4'!M6 | E167: ='IR4'!A6 -> IR4.1.1 | F167: ='IR4'!B6 -> Evidence of data used to set RH/FP strategy
A168: ='IR4'!J7 | B168: ='IR4'!K7 | C168: ='IR4'!L7 | D168: ='IR4'!M7 | E168: ='IR4'!A7 -> IR4.1.2 | F168: ='IR4'!B7 -> Evidence of data used in creation of national SRH/FP policies
A169: ='IR4'!J8 | B169: ='IR4'!K8 | C169: ='IR4'!L8 | D169: ='IR4'!M8 | E169: ='IR4'!A8 -> IR4.1.3 | F169: ='IR4'!B8 -> Evidence of data used in creation of RH guidelines
A170: ='IR4'!J9 | B170: ='IR4'!K9 | C170: ='IR4'!L9 | D170: ='IR4'!M9 | E170: ='IR4'!A9 -> IR4.1.4 | F170: ='IR4'!B9 -> Evidence of costing data used in creation of RH/FP policy implementation plan
A171: ='IR4'!J10 | B171: ='IR4'!K10 | C171: ='IR4'!L10 | D171: ='IR4'!M10 | E171: ='IR4'!A10 -> IR4.1.5 | F171: ='IR4'!B10 -> Evidence of data used in creation of advocacy messages
A172: ='IR4'!J11 | B172: ='IR4'!K11 | C172: ='IR4'!L11 | D172: ='IR4'!M11 | E172: ='IR4'!A11 -> IR4.1.6 | F172: ='IR4'!B11 -> Other example of data use for RH/FP?
A173: ='IR4'!J12 | B173: ='IR4'!K12 | C173: ='IR4'!L12 | D173: ='IR4'!M12 | E173: ='IR4'!A12 -> IR4.1.7 | F173: ='IR4'!B12 -> Other example of data use for RH/FP?
A174: ='IR4'!J13 -> 0 | B174: ='IR4'!K13 -> 0 | C174: ='IR4'!L13 -> 0 | D174: ='IR4'!M13 -> 0 | E174: ='IR4'!A13 -> IR4.2: Evidence of international family planning best practices incorporated into national health standards | F174: ='IR4'!B13 -> 0
A175: ='IR4'!J14 | B175: ='IR4'!K14 -> 0 | C175: ='IR4'!L14 -> 0 | D175: ='IR4'!M14 | E175: ='IR4'!A14 -> IR4.2.1 | F175: ='IR4'!B14 -> Do current national health standards exist?
A176: ='IR4'!J15 -> 0 | B176: ='IR4'!K15 -> 0 | C176: ='IR4'!L15 -> 0 | D176: ='IR4'!M15 -> 0 | E176: ='IR4'!A15 -> 0 | F176: ='IR4'!B15 -> Do the national standards:
A177: ='IR4'!J16 | B177: ='IR4'!K16 | C177: ='IR4'!L16 | D177: ='IR4'!M16 | E177: ='IR4'!A16 -> IR4.2.2 | F177: ='IR4'!B16 -> ensure contraceptive choice by making a wide range of family planning methods available?
A178: ='IR4'!J17 | B178: ='IR4'!K17 | C178: ='IR4'!L17 | D178: ='IR4'!M17 | E178: ='IR4'!A17 -> IR4.2.3 | F178: ='IR4'!B17 -> train, equip, and support community health workers (CHWs) to provide a wide range of family planning methods?
... A204: ='IR4'!J43 | B204: ='IR4'!K43 | C204: ='IR4'!L43 | D204: ='IR4'!M43 | E204: ='IR4'!A43 -> IR4.4.12 | F204: ='IR4'!B43 -> Communicate data
E208: IR5
A209: ='IR5'!J6 | B209: ='IR5'!K6 | C209: ='IR5'!L6 | D209: ='IR5'!M6 | E209: ='IR5'!A6 -> IR5.1.1 | F209: ='IR5'!B6 -> Are local CBOs independently implementing repositioning FP activities?
A210: ='IR5'!J7 | B210: ='IR5'!K7 | C210: ='IR5'!L7 | D210: ='IR5'!M7 | E210: ='IR5'!A7 -> IR5.1.2 | F210: ='IR5'!B7 -> Is the public sector independently implementing repositioning FP activities?
A211: ='IR5'!J8 | B211: ='IR5'!K8 | C211: ='IR5'!L8 | D211: ='IR5'!M8 | E211: ='IR5'!A8 -> IR5.1.3 | F211: ='IR5'!B8 -> Are local civil society groups independently implementing repositioning FP activities?
A212: ='IR5'!J9 | B212: ='IR5'!K9 | C212: ='IR5'!L9 | D212: ='IR5'!M9 | E212: ='IR5'!A9 -> IR5.1.4 | F212: ='IR5'!B9 -> Is the private sector independently implementing repositioning FP activities?
A213: ='IR5'!J10 | B213: ='IR5'!K10 | C213: ='IR5'!L10 | D213: ='IR5'!M10 | E213: ='IR5'!A10 -> IR5.1.5 | F213: ='IR5'!B10 -> Evidence of civil society involved in FP/population program design, budgeting, or implementation
A214: ='IR5'!J11 -> 0 | B214: ='IR5'!K11 -> 0 | C214: ='IR5'!L11 -> 0 | D214: ='IR5'!M11 -> 0 | E214: ='IR5'!A11 -> IR5.2: Evidence of government departments or other entities established or strengthened to support the family planning agenda | F214: ='IR5'!B11 -> 0
A215: ='IR5'!J12 | B215: ='IR5'!K12 -> 0 | C215: ='IR5'!L12 -> 0 | D215: ='IR5'!M12 | E215: ='IR5'!A12 -> IR5.2.1 | F215: ='IR5'!B12 -> Is there a government led family planning program?
A216: ='IR5'!J13 | B216: ='IR5'!K13 -> 0 | C216: ='IR5'!L13 -> 0 | D216: ='IR5'!M13 | E216: ='IR5'!A13 -> IR5.2.2 | F216: ='IR5'!B13 -> Is the FP program located within the appropriate ministry?
A217: ='IR5'!J14 | B217: ='IR5'!K14 -> 0 | C217: ='IR5'!L14 -> 0 | D217: ='IR5'!M14 | E217: ='IR5'!A14 -> IR5.2.3 | F217: ='IR5'!B14 -> Is the head of the FP program located in the heirarchy of the ministry in a position that provides adequate authority to accomplish objectives?
A218: ='IR5'!J15 | B218: ='IR5'!K15 | C218: ='IR5'!L15 -> 0 | D218: ='IR5'!M15 | E218: ='IR5'!A15 -> IR5.2.4 | F218: ='IR5'!B15 -> Is there a parliamentary sub-committee on SRH/FP?
A219: ='IR5'!J16 | B219: ='IR5'!K16 | C219: ='IR5'!L16 | D219: ='IR5'!M16 | E219: ='IR5'!A16 -> IR5.2.5 | F219: ='IR5'!B16 -> What is the level of activity of the sub-committee?
A220: ='IR5'!J17 -> 0 | B220: ='IR5'!K17 -> 0 | C220: ='IR5'!L17 -> 0 | D220: ='IR5'!M17 -> 0 | E220: ='IR5'!A17 -> IR5.3: Evidence of targeted public and private sector officials, FBO, or community leaders publicly demonstrating new or increased commitment to FP | F220: ='IR5'!B17 -> 0
... A232: ='IR5'!J29 | B232: ='IR5'!K29 -> 0 | C232: ='IR5'!L29 -> 0 | D232: ='IR5'!M29 | E232: ='IR5'!A29 -> IR5.4.6 | F232: ='IR5'!B29 -> FP related education?

Sheet RED
A1: RED | F1: Hide/Show
B2: =CONCATENATE("Total = ",IF('Programming 1'!$G$9<>0,TEXT('Programming 1'!$G$9,"###"),"0")) -> Total = 0 | F2: Show
A3: Strategic Objective | F3: Show
A4: Increased stewardship of and strengthened enabling environment for effective, equitable and sustainable family planning programming | F4: Show
A5: SO.1: Instances of a government-led council, coalition or entity that oversees and actively manages the family planning program | F5: Show
B6: {=IFERROR(INDEX('Programming 2'!$A$3:$F$7,SMALL(IF('Programming 2'!$D$3:$D$7=1,ROW('Programming 2'!$D$3:$D$7)-2),ROW(1:1)),5),"None")} -> None | C6: {=IFERROR(INDEX('Programming 2'!$A$3:$F$7,SMALL(IF('Programming 2'!$D$3:$D$7=1,ROW('Programming 2'!$D$3:$D$7)-2),ROW(1:1)),6),"")} | F6: =IF(B6="","Hide","Show") -> Show
B7: {=IFERROR(INDEX('Programming 2'!$A$3:$F$7,SMALL(IF('Programming 2'!$D$3:$D$7=1,ROW('Programming 2'!$D$3:$D$7)-2),ROW(2:2)),5),"")} | C7: {=IFERROR(INDEX('Programming 2'!$A$3:$F$7,SMALL(IF('Programming 2'!$D$3:$D$7=1,ROW('Programming 2'!$D$3:$D$7)-2),ROW(2:2)),6),"")} | F7: =IF(B7="","Hide","Show") -> Hide
B8: {=IFERROR(INDEX('Programming 2'!$A$3:$F$7,SMALL(IF('Programming 2'!$D$3:$D$7=1,ROW('Programming 2'!$D$3:$D$7)-2),ROW(3:3)),5),"")} | C8: {=IFERROR(INDEX('Programming 2'!$A$3:$F$7,SMALL(IF('Programming 2'!$D$3:$D$7=1,ROW('Programming 2'!$D$3:$D$7)-2),ROW(3:3)),6),"")} | F8: =IF(B8="","Hide","Show") -> Hide
B9: {=IFERROR(INDEX('Programming 2'!$A$3:$F$7,SMALL(IF('Programming 2'!$D$3:$D$7=1,ROW('Programming 2'!$D$3:$D$7)-2),ROW(4:4)),5),"")} | C9: {=IFERROR(INDEX('Programming 2'!$A$3:$F$7,SMALL(IF('Programming 2'!$D$3:$D$7=1,ROW('Programming 2'!$D$3:$D$7)-2),ROW(4:4)),6),"")} | F9: =IF(B9="","Hide","Show") -> Hide
B10: {=IFERROR(INDEX('Programming 2'!$A$3:$F$7,SMALL(IF('Programming 2'!$D$3:$D$7=1,ROW('Programming 2'!$D$3:$D$7)-2),ROW(5:5)),5),"")} | C10: {=IFERROR(INDEX('Programming 2'!$A$3:$F$7,SMALL(IF('Programming 2'!$D$3:$D$7=1,ROW('Programming 2'!$D$3:$D$7)-2),ROW(5:5)),6),"")} | F10: =IF(B10="","Hide","Show") -> Hide
A11: SO.2: Evidence of documented improvement in the enabling environment for family planning using a validated instrument | F11: Show
B12: {=IFERROR(INDEX('Programming 2'!$A$10:$F$14,SMALL(IF('Programming 2'!$D$10:$D$14=1,ROW('Programming 2'!$D$10:$D$14)-9),ROW(1:1)),5),"None")} -> None | C12: {=IFERROR(INDEX('Programming 2'!$A$10:$F$14,SMALL(IF('Programming 2'!$D$10:$D$14=1,ROW('Programming 2'!$D$10:$D$14)-9),ROW(1:1)),6),"")} | F12: =IF(B12="","Hide","Show") -> Show
B13: {=IFERROR(INDEX('Programming 2'!$A$10:$F$14,SMALL(IF('Programming 2'!$D$10:$D$14=1,ROW('Programming 2'!$D$10:$D$14)-9),ROW(2:2)),5),"")} | C13: {=IFERROR(INDEX('Programming 2'!$A$10:$F$14,SMALL(IF('Programming 2'!$D$10:$D$14=1,ROW('Programming 2'!$D$10:$D$14)-9),ROW(2:2)),6),"")} | F13: =IF(B13="","Hide","Show") -> Hide
B14: {=IFERROR(INDEX('Programming 2'!$A$10:$F$14,SMALL(IF('Programming 2'!$D$10:$D$14=1,ROW('Programming 2'!$D$10:$D$14)-9),ROW(3:3)),5),"")} | C14: {=IFERROR(INDEX('Programming 2'!$A$10:$F$14,SMALL(IF('Programming 2'!$D$10:$D$14=1,ROW('Programming 2'!$D$10:$D$14)-9),ROW(3:3)),6),"")} | F14: =IF(B14="","Hide","Show") -> Hide
B15: {=IFERROR(INDEX('Programming 2'!$A$10:$F$14,SMALL(IF('Programming 2'!$D$10:$D$14=1,ROW('Programming 2'!$D$10:$D$14)-9),ROW(4:4)),5),"")} | C15: {=IFERROR(INDEX('Programming 2'!$A$10:$F$14,SMALL(IF('Programming 2'!$D$10:$D$14=1,ROW('Programming 2'!$D$10:$D$14)-9),ROW(4:4)),6),"")} | F15: =IF(B15="","Hide","Show") -> Hide
B16: {=IFERROR(INDEX('Programming 2'!$A$10:$F$14,SMALL(IF('Programming 2'!$D$10:$D$14=1,ROW('Programming 2'!$D$10:$D$14)-9),ROW(5:5)),5),"")} | C16: {=IFERROR(INDEX('Programming 2'!$A$10:$F$14,SMALL(IF('Programming 2'!$D$10:$D$14=1,ROW('Programming 2'!$D$10:$D$14)-9),ROW(5:5)),6),"")} | F16: =IF(B16="","Hide","Show") -> Hide
A17: SO.3: Evidence of FP policies implemented, resources allocated and subsequently used in relation to the same FP policies | F17: Show
B18: {=IFERROR(INDEX('Programming 2'!$A$17:$F$20,SMALL(IF('Programming 2'!$D$17:$D$20=1,ROW('Programming 2'!$D$17:$D$20)-16),ROW(1:1)),5),"None")} -> None | C18: {=IFERROR(INDEX('Programming 2'!$A$17:$F$20,SMALL(IF('Programming 2'!$D$17:$D$20=1,ROW('Programming 2'!$D$17:$D$20)-16),ROW(1:1)),6),"")} | F18: =IF(B18="","Hide","Show") -> Show
B19: {=IFERROR(INDEX('Programming 2'!$A$17:$F$20,SMALL(IF('Programming 2'!$D$17:$D$20=1,ROW('Programming 2'!$D$17:$D$20)-16),ROW(2:2)),5),"")} | C19: {=IFERROR(INDEX('Programming 2'!$A$17:$F$20,SMALL(IF('Programming 2'!$D$17:$D$20=1,ROW('Programming 2'!$D$17:$D$20)-16),ROW(2:2)),6),"")} | F19: =IF(B19="","Hide","Show") -> Hide
B20: {=IFERROR(INDEX('Programming 2'!$A$17:$F$20,SMALL(IF('Programming 2'!$D$17:$D$20=1,ROW('Programming 2'!$D$17:$D$20)-16),ROW(3:3)),5),"")} | C20: {=IFERROR(INDEX('Programming 2'!$A$17:$F$20,SMALL(IF('Programming 2'!$D$17:$D$20=1,ROW('Programming 2'!$D$17:$D$20)-16),ROW(3:3)),6),"")} | F20: =IF(B20="","Hide","Show") -> Hide
B21: {=IFERROR(INDEX('Programming 2'!$A$17:$F$20,SMALL(IF('Programming 2'!$D$17:$D$20=1,ROW('Programming 2'!$D$17:$D$20)-16),ROW(4:4)),5),"")} | C21: {=IFERROR(INDEX('Programming 2'!$A$17:$F$20,SMALL(IF('Programming 2'!$D$17:$D$20=1,ROW('Programming 2'!$D$17:$D$20)-16),ROW(4:4)),6),"")} | F21: =IF(B21="","Hide","Show") -> Hide
A22: Intermediate Result 1 | F22: Show
A23: Resources for family planning increased, allocated, and spent more effectively and equitably | F23: Show
A24: IR1.1: Total resources spent on FP (by source and by activity/program area | F24: Show
B25: {=IFERROR(INDEX('Programming 2'!$A$24:$F$39,SMALL(IF('Programming 2'!$D$24:$D$39=1,ROW('Programming 2'!$D$24:$D$39)-23),ROW(1:1)),5),"None")} -> None | C25: {=IFERROR(INDEX('Programming 2'!$A$24:$F$39,SMALL(IF('Programming 2'!$D$24:$D$39=1,ROW('Programming 2'!$D$24:$D$39)-23),ROW(1:1)),6),"")} | F25: =IF(B25="","Hide","Show") -> Show
B26: {=IFERROR(INDEX('Programming 2'!$A$24:$F$39,SMALL(IF('Programming 2'!$D$24:$D$39=1,ROW('Programming 2'!$D$24:$D$39)-23),ROW(2:2)),5),"")} | C26: {=IFERROR(INDEX('Programming 2'!$A$24:$F$39,SMALL(IF('Programming 2'!$D$24:$D$39=1,ROW('Programming 2'!$D$24:$D$39)-23),ROW(2:2)),6),"")} | F26: =IF(B26="","Hide","Show") -> Hide
B27: {=IFERROR(INDEX('Programming 2'!$A$24:$F$39,SMALL(IF('Programming 2'!$D$24:$D$39=1,ROW('Programming 2'!$D$24:$D$39)-23),ROW(3:3)),5),"")} | C27: {=IFERROR(INDEX('Programming 2'!$A$24:$F$39,SMALL(IF('Programming 2'!$D$24:$D$39=1,ROW('Programming 2'!$D$24:$D$39)-23),ROW(3:3)),6),"")} | F27: =IF(B27="","Hide","Show") -> Hide
B28: {=IFERROR(INDEX('Programming 2'!$A$24:$F$39,SMALL(IF('Programming 2'!$D$24:$D$39=1,ROW('Programming 2'!$D$24:$D$39)-23),ROW(4:4)),5),"")} | C28: {=IFERROR(INDEX('Programming 2'!$A$24:$F$39,SMALL(IF('Programming 2'!$D$24:$D$39=1,ROW('Programming 2'!$D$24:$D$39)-23),ROW(4:4)),6),"")} | F28: =IF(B28="","Hide","Show") -> Hide
B29: {=IFERROR(INDEX('Programming 2'!$A$24:$F$39,SMALL(IF('Programming 2'!$D$24:$D$39=1,ROW('Programming 2'!$D$24:$D$39)-23),ROW(5:5)),5),"")} | C29: {=IFERROR(INDEX('Programming 2'!$A$24:$F$39,SMALL(IF('Programming 2'!$D$24:$D$39=1,ROW('Programming 2'!$D$24:$D$39)-23),ROW(5:5)),6),"")} | F29: =IF(B29="","Hide","Show") -> Hide
B30: {=IFERROR(INDEX('Programming 2'!$A$24:$F$39,SMALL(IF('Programming 2'!$D$24:$D$39=1,ROW('Programming 2'!$D$24:$D$39)-23),ROW(6:6)),5),"")} | C30: {=IFERROR(INDEX('Programming 2'!$A$24:$F$39,SMALL(IF('Programming 2'!$D$24:$D$39=1,ROW('Programming 2'!$D$24:$D$39)-23),ROW(6:6)),6),"")} | F30: =IF(B30="","Hide","Show") -> Hide
B31: {=IFERROR(INDEX('Programming 2'!$A$24:$F$39,SMALL(IF('Programming 2'!$D$24:$D$39=1,ROW('Programming 2'!$D$24:$D$39)-23),ROW(7:7)),5),"")} | C31: {=IFERROR(INDEX('Programming 2'!$A$24:$F$39,SMALL(IF('Programming 2'!$D$24:$D$39=1,ROW('Programming 2'!$D$24:$D$39)-23),ROW(7:7)),6),"")} | F31: =IF(B31="","Hide","Show") -> Hide
B32: {=IFERROR(INDEX('Programming 2'!$A$24:$F$39,SMALL(IF('Programming 2'!$D$24:$D$39=1,ROW('Programming 2'!$D$24:$D$39)-23),ROW(8:8)),5),"")} | C32: {=IFERROR(INDEX('Programming 2'!$A$24:$F$39,SMALL(IF('Programming 2'!$D$24:$D$39=1,ROW('Programming 2'!$D$24:$D$39)-23),ROW(8:8)),6),"")} | F32: =IF(B32="","Hide","Show") -> Hide
B33: {=IFERROR(INDEX('Programming 2'!$A$24:$F$39,SMALL(IF('Programming 2'!$D$24:$D$39=1,ROW('Programming 2'!$D$24:$D$39)-23),ROW(9:9)),5),"")} | C33: {=IFERROR(INDEX('Programming 2'!$A$24:$F$39,SMALL(IF('Programming 2'!$D$24:$D$39=1,ROW('Programming 2'!$D$24:$D$39)-23),ROW(9:9)),6),"")} | F33: =IF(B33="","Hide","Show") -> Hide
B34: {=IFERROR(INDEX('Programming 2'!$A$24:$F$39,SMALL(IF('Programming 2'!$D$24:$D$39=1,ROW('Programming 2'!$D$24:$D$39)-23),ROW(10:10)),5),"")} | C34: {=IFERROR(INDEX('Programming 2'!$A$24:$F$39,SMALL(IF('Programming 2'!$D$24:$D$39=1,ROW('Programming 2'!$D$24:$D$39)-23),ROW(10:10)),6),"")} | F34: =IF(B34="","Hide","Show") -> Hide
B35: {=IFERROR(INDEX('Programming 2'!$A$24:$F$39,SMALL(IF('Programming 2'!$D$24:$D$39=1,ROW('Programming 2'!$D$24:$D$39)-23),ROW(11:11)),5),"")} | C35: {=IFERROR(INDEX('Programming 2'!$A$24:$F$39,SMALL(IF('Programming 2'!$D$24:$D$39=1,ROW('Programming 2'!$D$24:$D$39)-23),ROW(11:11)),6),"")} | F35: =IF(B35="","Hide","Show") -> Hide
B36: {=IFERROR(INDEX('Programming 2'!$A$24:$F$39,SMALL(IF('Programming 2'!$D$24:$D$39=1,ROW('Programming 2'!$D$24:$D$39)-23),ROW(12:12)),5),"")} | C36: {=IFERROR(INDEX('Programming 2'!$A$24:$F$39,SMALL(IF('Programming 2'!$D$24:$D$39=1,ROW('Programming 2'!$D$24:$D$39)-23),ROW(12:12)),6),"")} | F36: =IF(B36="","Hide","Show") -> Hide
B37: {=IFERROR(INDEX('Programming 2'!$A$24:$F$39,SMALL(IF('Programming 2'!$D$24:$D$39=1,ROW('Programming 2'!$D$24:$D$39)-23),ROW(13:13)),5),"")} | C37: {=IFERROR(INDEX('Programming 2'!$A$24:$F$39,SMALL(IF('Programming 2'!$D$24:$D$39=1,ROW('Programming 2'!$D$24:$D$39)-23),ROW(13:13)),6),"")} | F37: =IF(B37="","Hide","Show") -> Hide
A38: IR1.2: Evidence of new financing mechanisms for family planning identified, tested, and / or scaled-up | F38: Show
B39: {=IFERROR(INDEX('Programming 2'!$A$40:$F$41,SMALL(IF('Programming 2'!$D$40:$D$41=1,ROW('Programming 2'!$D$40:$D$41)-39),ROW(1:1)),5),"None")} -> None | C39: {=IFERROR(INDEX('Programming 2'!$A$40:$F$41,SMALL(IF('Programming 2'!$D$40:$D$41=1,ROW('Programming 2'!$D$40:$D$41)-39),ROW(1:1)),6),"")} | F39: =IF(B39="","Hide","Show") -> Show
A40: IR1.3: Total resources allocated to FP (by source and by activity) | F40: Show
B41: {=IFERROR(INDEX('Programming 2'!$A$42:$F$58,SMALL(IF('Programming 2'!$D$42:$D$58=1,ROW('Programming 2'!$D$42:$D$58)-41),ROW(1:1)),5),"None")} -> None | C41: {=IFERROR(INDEX('Programming 2'!$A$42:$F$58,SMALL(IF('Programming 2'!$D$42:$D$58=1,ROW('Programming 2'!$D$42:$D$58)-41),ROW(1:1)),6),"")} | F41: =IF(B41="","Hide","Show") -> Show
B42: {=IFERROR(INDEX('Programming 2'!$A$42:$F$58,SMALL(IF('Programming 2'!$D$42:$D$58=1,ROW('Programming 2'!$D$42:$D$58)-41),ROW(2:2)),5),"")} | C42: {=IFERROR(INDEX('Programming 2'!$A$42:$F$58,SMALL(IF('Programming 2'!$D$42:$D$58=1,ROW('Programming 2'!$D$42:$D$58)-41),ROW(2:2)),6),"")} | F42: =IF(B42="","Hide","Show") -> Hide
B43: {=IFERROR(INDEX('Programming 2'!$A$42:$F$58,SMALL(IF('Programming 2'!$D$42:$D$58=1,ROW('Programming 2'!$D$42:$D$58)-41),ROW(3:3)),5),"")} | C43: {=IFERROR(INDEX('Programming 2'!$A$42:$F$58,SMALL(IF('Programming 2'!$D$42:$D$58=1,ROW('Programming 2'!$D$42:$D$58)-41),ROW(3:3)),6),"")} | F43: =IF(B43="","Hide","Show") -> Hide
B44: {=IFERROR(INDEX('Programming 2'!$A$42:$F$58,SMALL(IF('Programming 2'!$D$42:$D$58=1,ROW('Programming 2'!$D$42:$D$58)-41),ROW(4:4)),5),"")} | C44: {=IFERROR(INDEX('Programming 2'!$A$42:$F$58,SMALL(IF('Programming 2'!$D$42:$D$58=1,ROW('Programming 2'!$D$42:$D$58)-41),ROW(4:4)),6),"")} | F44: =IF(B44="","Hide","Show") -> Hide
B45: {=IFERROR(INDEX('Programming 2'!$A$42:$F$58,SMALL(IF('Programming 2'!$D$42:$D$58=1,ROW('Programming 2'!$D$42:$D$58)-41),ROW(5:5)),5),"")} | C45: {=IFERROR(INDEX('Programming 2'!$A$42:$F$58,SMALL(IF('Programming 2'!$D$42:$D$58=1,ROW('Programming 2'!$D$42:$D$58)-41),ROW(5:5)),6),"")} | F45: =IF(B45="","Hide","Show") -> Hide
B46: {=IFERROR(INDEX('Programming 2'!$A$42:$F$58,SMALL(IF('Programming 2'!$D$42:$D$58=1,ROW('Programming 2'!$D$42:$D$58)-41),ROW(6:6)),5),"")} | C46: {=IFERROR(INDEX('Programming 2'!$A$42:$F$58,SMALL(IF('Programming 2'!$D$42:$D$58=1,ROW('Programming 2'!$D$42:$D$58)-41),ROW(6:6)),6),"")} | F46: =IF(B46="","Hide","Show") -> Hide
B47: {=IFERROR(INDEX('Programming 2'!$A$42:$F$58,SMALL(IF('Programming 2'!$D$42:$D$58=1,ROW('Programming 2'!$D$42:$D$58)-41),ROW(7:7)),5),"")} | C47: {=IFERROR(INDEX('Programming 2'!$A$42:$F$58,SMALL(IF('Programming 2'!$D$42:$D$58=1,ROW('Programming 2'!$D$42:$D$58)-41),ROW(7:7)),6),"")} | F47: =IF(B47="","Hide","Show") -> Hide
B48: {=IFERROR(INDEX('Programming 2'!$A$42:$F$58,SMALL(IF('Programming 2'!$D$42:$D$58=1,ROW('Programming 2'!$D$42:$D$58)-41),ROW(8:8)),5),"")} | C48: {=IFERROR(INDEX('Programming 2'!$A$42:$F$58,SMALL(IF('Programming 2'!$D$42:$D$58=1,ROW('Programming 2'!$D$42:$D$58)-41),ROW(8:8)),6),"")} | F48: =IF(B48="","Hide","Show") -> Hide
B49: {=IFERROR(INDEX('Programming 2'!$A$42:$F$58,SMALL(IF('Programming 2'!$D$42:$D$58=1,ROW('Programming 2'!$D$42:$D$58)-41),ROW(9:9)),5),"")} | C49: {=IFERROR(INDEX('Programming 2'!$A$42:$F$58,SMALL(IF('Programming 2'!$D$42:$D$58=1,ROW('Programming 2'!$D$42:$D$58)-41),ROW(9:9)),6),"")} | F49: =IF(B49="","Hide","Show") -> Hide
B50: {=IFERROR(INDEX('Programming 2'!$A$42:$F$58,SMALL(IF('Programming 2'!$D$42:$D$58=1,ROW('Programming 2'!$D$42:$D$58)-41),ROW(10:10)),5),"")} | C50: {=IFERROR(INDEX('Programming 2'!$A$42:$F$58,SMALL(IF('Programming 2'!$D$42:$D$58=1,ROW('Programming 2'!$D$42:$D$58)-41),ROW(10:10)),6),"")} | F50: =IF(B50="","Hide","Show") -> Hide
B51: {=IFERROR(INDEX('Programming 2'!$A$42:$F$58,SMALL(IF('Programming 2'!$D$42:$D$58=1,ROW('Programming 2'!$D$42:$D$58)-41),ROW(11:11)),5),"")} | C51: {=IFERROR(INDEX('Programming 2'!$A$42:$F$58,SMALL(IF('Programming 2'!$D$42:$D$58=1,ROW('Programming 2'!$D$42:$D$58)-41),ROW(11:11)),6),"")} | F51: =IF(B51="","Hide","Show") -> Hide
B52: {=IFERROR(INDEX('Programming 2'!$A$42:$F$58,SMALL(IF('Programming 2'!$D$42:$D$58=1,ROW('Programming 2'!$D$42:$D$58)-41),ROW(12:12)),5),"")} | C52: {=IFERROR(INDEX('Programming 2'!$A$42:$F$58,SMALL(IF('Programming 2'!$D$42:$D$58=1,ROW('Programming 2'!$D$42:$D$58)-41),ROW(12:12)),6),"")} | F52: =IF(B52="","Hide","Show") -> Hide
A53: IR1.4: New and/or increased resources are committed to FP in the last two years | F53: Show
B54: {=IFERROR(INDEX('Programming 2'!$A$61:$F$62,SMALL(IF('Programming 2'!$D$61:$D$62=1,ROW('Programming 2'!$D$61:$D$62)-60),ROW(1:1)),5),"None")} -> None | C54: {=IFERROR(INDEX('Programming 2'!$A$61:$F$62,SMALL(IF('Programming 2'!$D$61:$D$62=1,ROW('Programming 2'!$D$61:$D$62)-60),ROW(1:1)),6),"")} | F54: =IF(B54="","Hide","Show") -> Show
B55: {=IFERROR(INDEX('Programming 2'!$A$61:$F$62,SMALL(IF('Programming 2'!$D$61:$D$62=1,ROW('Programming 2'!$D$61:$D$62)-60),ROW(2:2)),5),"")} | C55: {=IFERROR(INDEX('Programming 2'!$A$61:$F$62,SMALL(IF('Programming 2'!$D$61:$D$62=1,ROW('Programming 2'!$D$61:$D$62)-60),ROW(2:2)),6),"")} | F55: =IF(B55="","Hide","Show") -> Hide
A56: Intermediate Result 2 | F56: Show
A57: Increased multisectoral coordination in the design, implementation, and financing of family planning policies and programs | F57: Show
A58: IR2.1: Evidence of family planning programs incorporated into national strategic and development plans | F58: Show
B59: {=IFERROR(INDEX('Programming 2'!$A$66:$F$74,SMALL(IF('Programming 2'!$D$66:$D$74=1,ROW('Programming 2'!$D$66:$D$74)-65),ROW(1:1)),5),"None")} -> None | C59: {=IFERROR(INDEX('Programming 2'!$A$66:$F$74,SMALL(IF('Programming 2'!$D$66:$D$74=1,ROW('Programming 2'!$D$66:$D$74)-65),ROW(1:1)),6),"")} | F59: =IF(B59="","Hide","Show") -> Show
B60: {=IFERROR(INDEX('Programming 2'!$A$66:$F$74,SMALL(IF('Programming 2'!$D$66:$D$74=1,ROW('Programming 2'!$D$66:$D$74)-65),ROW(2:2)),5),"")} | C60: {=IFERROR(INDEX('Programming 2'!$A$66:$F$74,SMALL(IF('Programming 2'!$D$66:$D$74=1,ROW('Programming 2'!$D$66:$D$74)-65),ROW(2:2)),6),"")} | F60: =IF(B60="","Hide","Show") -> Hide
B61: {=IFERROR(INDEX('Programming 2'!$A$66:$F$74,SMALL(IF('Programming 2'!$D$66:$D$74=1,ROW('Programming 2'!$D$66:$D$74)-65),ROW(3:3)),5),"")} | C61: {=IFERROR(INDEX('Programming 2'!$A$66:$F$74,SMALL(IF('Programming 2'!$D$66:$D$74=1,ROW('Programming 2'!$D$66:$D$74)-65),ROW(3:3)),6),"")} | F61: =IF(B61="","Hide","Show") -> Hide
B62: {=IFERROR(INDEX('Programming 2'!$A$66:$F$74,SMALL(IF('Programming 2'!$D$66:$D$74=1,ROW('Programming 2'!$D$66:$D$74)-65),ROW(4:4)),5),"")} | C62: {=IFERROR(INDEX('Programming 2'!$A$66:$F$74,SMALL(IF('Programming 2'!$D$66:$D$74=1,ROW('Programming 2'!$D$66:$D$74)-65),ROW(4:4)),6),"")} | F62: =IF(B62="","Hide","Show") -> Hide
B63: {=IFERROR(INDEX('Programming 2'!$A$66:$F$74,SMALL(IF('Programming 2'!$D$66:$D$74=1,ROW('Programming 2'!$D$66:$D$74)-65),ROW(5:5)),5),"")} | C63: {=IFERROR(INDEX('Programming 2'!$A$66:$F$74,SMALL(IF('Programming 2'!$D$66:$D$74=1,ROW('Programming 2'!$D$66:$D$74)-65),ROW(5:5)),6),"")} | F63: =IF(B63="","Hide","Show") -> Hide
B64: {=IFERROR(INDEX('Programming 2'!$A$66:$F$74,SMALL(IF('Programming 2'!$D$66:$D$74=1,ROW('Programming 2'!$D$66:$D$74)-65),ROW(6:6)),5),"")} | C64: {=IFERROR(INDEX('Programming 2'!$A$66:$F$74,SMALL(IF('Programming 2'!$D$66:$D$74=1,ROW('Programming 2'!$D$66:$D$74)-65),ROW(6:6)),6),"")} | F64: =IF(B64="","Hide","Show") -> Hide
B65: {=IFERROR(INDEX('Programming 2'!$A$66:$F$74,SMALL(IF('Programming 2'!$D$66:$D$74=1,ROW('Programming 2'!$D$66:$D$74)-65),ROW(7:7)),5),"")} | C65: {=IFERROR(INDEX('Programming 2'!$A$66:$F$74,SMALL(IF('Programming 2'!$D$66:$D$74=1,ROW('Programming 2'!$D$66:$D$74)-65),ROW(7:7)),6),"")} | F65: =IF(B65="","Hide","Show") -> Hide
B66: {=IFERROR(INDEX('Programming 2'!$A$66:$F$74,SMALL(IF('Programming 2'!$D$66:$D$74=1,ROW('Programming 2'!$D$66:$D$74)-65),ROW(8:8)),5),"")} | C66: {=IFERROR(INDEX('Programming 2'!$A$66:$F$74,SMALL(IF('Programming 2'!$D$66:$D$74=1,ROW('Programming 2'!$D$66:$D$74)-65),ROW(8:8)),6),"")} | F66: =IF(B66="","Hide","Show") -> Hide
A67: IR2.2: Evidence of governments engaging multiple sectors in family planning activities | F67: Show
B68: {=IFERROR(INDEX('Programming 2'!$A$78:$F$94,SMALL(IF('Programming 2'!$D$78:$D$94=1,ROW('Programming 2'!$D$78:$D$94)-77),ROW(1:1)),5),"None")} -> None | C68: {=IFERROR(INDEX('Programming 2'!$A$78:$F$94,SMALL(IF('Programming 2'!$D$78:$D$94=1,ROW('Programming 2'!$D$78:$D$94)-77),ROW(1:1)),6),"")} | F68: =IF(B68="","Hide","Show") -> Show
B69: {=IFERROR(INDEX('Programming 2'!$A$78:$F$94,SMALL(IF('Programming 2'!$D$78:$D$94=1,ROW('Programming 2'!$D$78:$D$94)-77),ROW(2:2)),5),"")} | C69: {=IFERROR(INDEX('Programming 2'!$A$78:$F$94,SMALL(IF('Programming 2'!$D$78:$D$94=1,ROW('Programming 2'!$D$78:$D$94)-77),ROW(2:2)),6),"")} | F69: =IF(B69="","Hide","Show") -> Hide
B70: {=IFERROR(INDEX('Programming 2'!$A$78:$F$94,SMALL(IF('Programming 2'!$D$78:$D$94=1,ROW('Programming 2'!$D$78:$D$94)-77),ROW(3:3)),5),"")} | C70: {=IFERROR(INDEX('Programming 2'!$A$78:$F$94,SMALL(IF('Programming 2'!$D$78:$D$94=1,ROW('Programming 2'!$D$78:$D$94)-77),ROW(3:3)),6),"")} | F70: =IF(B70="","Hide","Show") -> Hide
B71: {=IFERROR(INDEX('Programming 2'!$A$78:$F$94,SMALL(IF('Programming 2'!$D$78:$D$94=1,ROW('Programming 2'!$D$78:$D$94)-77),ROW(4:4)),5),"")} | C71: {=IFERROR(INDEX('Programming 2'!$A$78:$F$94,SMALL(IF('Programming 2'!$D$78:$D$94=1,ROW('Programming 2'!$D$78:$D$94)-77),ROW(4:4)),6),"")} | F71: =IF(B71="","Hide","Show") -> Hide
B72: {=IFERROR(INDEX('Programming 2'!$A$78:$F$94,SMALL(IF('Programming 2'!$D$78:$D$94=1,ROW('Programming 2'!$D$78:$D$94)-77),ROW(5:5)),5),"")} | C72: {=IFERROR(INDEX('Programming 2'!$A$78:$F$94,SMALL(IF('Programming 2'!$D$78:$D$94=1,ROW('Programming 2'!$D$78:$D$94)-77),ROW(5:5)),6),"")} | F72: =IF(B72="","Hide","Show") -> Hide
B73: {=IFERROR(INDEX('Programming 2'!$A$78:$F$94,SMALL(IF('Programming 2'!$D$78:$D$94=1,ROW('Programming 2'!$D$78:$D$94)-77),ROW(6:6)),5),"")} | C73: {=IFERROR(INDEX('Programming 2'!$A$78:$F$94,SMALL(IF('Programming 2'!$D$78:$D$94=1,ROW('Programming 2'!$D$78:$D$94)-77),ROW(6:6)),6),"")} | F73: =IF(B73="","Hide","Show") -> Hide
B74: {=IFERROR(INDEX('Programming 2'!$A$78:$F$94,SMALL(IF('Programming 2'!$D$78:$D$94=1,ROW('Programming 2'!$D$78:$D$94)-77),ROW(7:7)),5),"")} | C74: {=IFERROR(INDEX('Programming 2'!$A$78:$F$94,SMALL(IF('Programming 2'!$D$78:$D$94=1,ROW('Programming 2'!$D$78:$D$94)-77),ROW(7:7)),6),"")} | F74: =IF(B74="","Hide","Show") -> Hide
B75: {=IFERROR(INDEX('Programming 2'!$A$78:$F$94,SMALL(IF('Programming 2'!$D$78:$D$94=1,ROW('Programming 2'!$D$78:$D$94)-77),ROW(8:8)),5),"")} | C75: {=IFERROR(INDEX('Programming 2'!$A$78:$F$94,SMALL(IF('Programming 2'!$D$78:$D$94=1,ROW('Programming 2'!$D$78:$D$94)-77),ROW(8:8)),6),"")} | F75: =IF(B75="","Hide","Show") -> Hide
B76: {=IFERROR(INDEX('Programming 2'!$A$78:$F$94,SMALL(IF('Programming 2'!$D$78:$D$94=1,ROW('Programming 2'!$D$78:$D$94)-77),ROW(9:9)),5),"")} | C76: {=IFERROR(INDEX('Programming 2'!$A$78:$F$94,SMALL(IF('Programming 2'!$D$78:$D$94=1,ROW('Programming 2'!$D$78:$D$94)-77),ROW(9:9)),6),"")} | F76: =IF(B76="","Hide","Show") -> Hide
B77: {=IFERROR(INDEX('Programming 2'!$A$78:$F$94,SMALL(IF('Programming 2'!$D$78:$D$94=1,ROW('Programming 2'!$D$78:$D$94)-77),ROW(10:10)),5),"")} | C77: {=IFERROR(INDEX('Programming 2'!$A$78:$F$94,SMALL(IF('Programming 2'!$D$78:$D$94=1,ROW('Programming 2'!$D$78:$D$94)-77),ROW(10:10)),6),"")} | F77: =IF(B77="","Hide","Show") -> Hide
B78: {=IFERROR(INDEX('Programming 2'!$A$78:$F$94,SMALL(IF('Programming 2'!$D$78:$D$94=1,ROW('Programming 2'!$D$78:$D$94)-77),ROW(11:11)),5),"")} | C78: {=IFERROR(INDEX('Programming 2'!$A$78:$F$94,SMALL(IF('Programming 2'!$D$78:$D$94=1,ROW('Programming 2'!$D$78:$D$94)-77),ROW(11:11)),6),"")} | F78: =IF(B78="","Hide","Show") -> Hide
B79: {=IFERROR(INDEX('Programming 2'!$A$78:$F$94,SMALL(IF('Programming 2'!$D$78:$D$94=1,ROW('Programming 2'!$D$78:$D$94)-77),ROW(12:12)),5),"")} | C79: {=IFERROR(INDEX('Programming 2'!$A$78:$F$94,SMALL(IF('Programming 2'!$D$78:$D$94=1,ROW('Programming 2'!$D$78:$D$94)-77),ROW(12:12)),6),"")} | F79: =IF(B79="","Hide","Show") -> Hide
B80: {=IFERROR(INDEX('Programming 2'!$A$78:$F$94,SMALL(IF('Programming 2'!$D$78:$D$94=1,ROW('Programming 2'!$D$78:$D$94)-77),ROW(13:13)),5),"")} | C80: {=IFERROR(INDEX('Programming 2'!$A$78:$F$94,SMALL(IF('Programming 2'!$D$78:$D$94=1,ROW('Programming 2'!$D$78:$D$94)-77),ROW(13:13)),6),"")} | F80: =IF(B80="","Hide","Show") -> Hide
B81: {=IFERROR(INDEX('Programming 2'!$A$78:$F$94,SMALL(IF('Programming 2'!$D$78:$D$94=1,ROW('Programming 2'!$D$78:$D$94)-77),ROW(14:14)),5),"")} | C81: {=IFERROR(INDEX('Programming 2'!$A$78:$F$94,SMALL(IF('Programming 2'!$D$78:$D$94=1,ROW('Programming 2'!$D$78:$D$94)-77),ROW(14:14)),6),"")} | F81: =IF(B81="","Hide","Show") -> Hide
B82: {=IFERROR(INDEX('Programming 2'!$A$78:$F$94,SMALL(IF('Programming 2'!$D$78:$D$94=1,ROW('Programming 2'!$D$78:$D$94)-77),ROW(15:15)),5),"")} | C82: {=IFERROR(INDEX('Programming 2'!$A$78:$F$94,SMALL(IF('Programming 2'!$D$78:$D$94=1,ROW('Programming 2'!$D$78:$D$94)-77),ROW(15:15)),6),"")} | F82: =IF(B82="","Hide","Show") -> Hide
B83: {=IFERROR(INDEX('Programming 2'!$A$78:$F$94,SMALL(IF('Programming 2'!$D$78:$D$94=1,ROW('Programming 2'!$D$78:$D$94)-77),ROW(16:16)),5),"")} | C83: {=IFERROR(INDEX('Programming 2'!$A$78:$F$94,SMALL(IF('Programming 2'!$D$78:$D$94=1,ROW('Programming 2'!$D$78:$D$94)-77),ROW(16:16)),6),"")} | F83: =IF(B83="","Hide","Show") -> Hide
A84: IR2.3: Evidence of multisectoral structures that are established or strengthened to promote FP policy | F84: Show
B85: {=IFERROR(INDEX('Programming 2'!$A$95:$F$117,SMALL(IF('Programming 2'!$D$95:$D$117=1,ROW('Programming 2'!$D$95:$D$117)-94),ROW(1:1)),5),"None")} -> None | C85: {=IFERROR(INDEX('Programming 2'!$A$95:$F$117,SMALL(IF('Programming 2'!$D$95:$D$117=1,ROW('Programming 2'!$D$95:$D$117)-94),ROW(1:1)),6),"")} | F85: =IF(B85="","Hide","Show") -> Show
B86: {=IFERROR(INDEX('Programming 2'!$A$95:$F$117,SMALL(IF('Programming 2'!$D$95:$D$117=1,ROW('Programming 2'!$D$95:$D$117)-94),ROW(2:2)),5),"")} | C86: {=IFERROR(INDEX('Programming 2'!$A$95:$F$117,SMALL(IF('Programming 2'!$D$95:$D$117=1,ROW('Programming 2'!$D$95:$D$117)-94),ROW(2:2)),6),"")} | F86: =IF(B86="","Hide","Show") -> Hide
B87: {=IFERROR(INDEX('Programming 2'!$A$95:$F$117,SMALL(IF('Programming 2'!$D$95:$D$117=1,ROW('Programming 2'!$D$95:$D$117)-94),ROW(3:3)),5),"")} | C87: {=IFERROR(INDEX('Programming 2'!$A$95:$F$117,SMALL(IF('Programming 2'!$D$95:$D$117=1,ROW('Programming 2'!$D$95:$D$117)-94),ROW(3:3)),6),"")} | F87: =IF(B87="","Hide","Show") -> Hide
B88: {=IFERROR(INDEX('Programming 2'!$A$95:$F$117,SMALL(IF('Programming 2'!$D$95:$D$117=1,ROW('Programming 2'!$D$95:$D$117)-94),ROW(4:4)),5),"")} | C88: {=IFERROR(INDEX('Programming 2'!$A$95:$F$117,SMALL(IF('Programming 2'!$D$95:$D$117=1,ROW('Programming 2'!$D$95:$D$117)-94),ROW(4:4)),6),"")} | F88: =IF(B88="","Hide","Show") -> Hide
B89: {=IFERROR(INDEX('Programming 2'!$A$95:$F$117,SMALL(IF('Programming 2'!$D$95:$D$117=1,ROW('Programming 2'!$D$95:$D$117)-94),ROW(5:5)),5),"")} | C89: {=IFERROR(INDEX('Programming 2'!$A$95:$F$117,SMALL(IF('Programming 2'!$D$95:$D$117=1,ROW('Programming 2'!$D$95:$D$117)-94),ROW(5:5)),6),"")} | F89: =IF(B89="","Hide","Show") -> Hide
B90: {=IFERROR(INDEX('Programming 2'!$A$95:$F$117,SMALL(IF('Programming 2'!$D$95:$D$117=1,ROW('Programming 2'!$D$95:$D$117)-94),ROW(6:6)),5),"")} | C90: {=IFERROR(INDEX('Programming 2'!$A$95:$F$117,SMALL(IF('Programming 2'!$D$95:$D$117=1,ROW('Programming 2'!$D$95:$D$117)-94),ROW(6:6)),6),"")} | F90: =IF(B90="","Hide","Show") -> Hide
B91: {=IFERROR(INDEX('Programming 2'!$A$95:$F$117,SMALL(IF('Programming 2'!$D$95:$D$117=1,ROW('Programming 2'!$D$95:$D$117)-94),ROW(7:7)),5),"")} | C91: {=IFERROR(INDEX('Programming 2'!$A$95:$F$117,SMALL(IF('Programming 2'!$D$95:$D$117=1,ROW('Programming 2'!$D$95:$D$117)-94),ROW(7:7)),6),"")} | F91: =IF(B91="","Hide","Show") -> Hide
B92: {=IFERROR(INDEX('Programming 2'!$A$95:$F$117,SMALL(IF('Programming 2'!$D$95:$D$117=1,ROW('Programming 2'!$D$95:$D$117)-94),ROW(8:8)),5),"")} | C92: {=IFERROR(INDEX('Programming 2'!$A$95:$F$117,SMALL(IF('Programming 2'!$D$95:$D$117=1,ROW('Programming 2'!$D$95:$D$117)-94),ROW(8:8)),6),"")} | F92: =IF(B92="","Hide","Show") -> Hide
B93: {=IFERROR(INDEX('Programming 2'!$A$95:$F$117,SMALL(IF('Programming 2'!$D$95:$D$117=1,ROW('Programming 2'!$D$95:$D$117)-94),ROW(9:9)),5),"")} | C93: {=IFERROR(INDEX('Programming 2'!$A$95:$F$117,SMALL(IF('Programming 2'!$D$95:$D$117=1,ROW('Programming 2'!$D$95:$D$117)-94),ROW(9:9)),6),"")} | F93: =IF(B93="","Hide","Show") -> Hide
B94: {=IFERROR(INDEX('Programming 2'!$A$95:$F$117,SMALL(IF('Programming 2'!$D$95:$D$117=1,ROW('Programming 2'!$D$95:$D$117)-94),ROW(10:10)),5),"")} | C94: {=IFERROR(INDEX('Programming 2'!$A$95:$F$117,SMALL(IF('Programming 2'!$D$95:$D$117=1,ROW('Programming 2'!$D$95:$D$117)-94),ROW(10:10)),6),"")} | F94: =IF(B94="","Hide","Show") -> Hide
B95: {=IFERROR(INDEX('Programming 2'!$A$95:$F$117,SMALL(IF('Programming 2'!$D$95:$D$117=1,ROW('Programming 2'!$D$95:$D$117)-94),ROW(11:11)),5),"")} | C95: {=IFERROR(INDEX('Programming 2'!$A$95:$F$117,SMALL(IF('Programming 2'!$D$95:$D$117=1,ROW('Programming 2'!$D$95:$D$117)-94),ROW(11:11)),6),"")} | F95: =IF(B95="","Hide","Show") -> Hide
B96: {=IFERROR(INDEX('Programming 2'!$A$95:$F$117,SMALL(IF('Programming 2'!$D$95:$D$117=1,ROW('Programming 2'!$D$95:$D$117)-94),ROW(12:12)),5),"")} | C96: {=IFERROR(INDEX('Programming 2'!$A$95:$F$117,SMALL(IF('Programming 2'!$D$95:$D$117=1,ROW('Programming 2'!$D$95:$D$117)-94),ROW(12:12)),6),"")} | F96: =IF(B96="","Hide","Show") -> Hide
B97: {=IFERROR(INDEX('Programming 2'!$A$95:$F$117,SMALL(IF('Programming 2'!$D$95:$D$117=1,ROW('Programming 2'!$D$95:$D$117)-94),ROW(13:13)),5),"")} | C97: {=IFERROR(INDEX('Programming 2'!$A$95:$F$117,SMALL(IF('Programming 2'!$D$95:$D$117=1,ROW('Programming 2'!$D$95:$D$117)-94),ROW(13:13)),6),"")} | F97: =IF(B97="","Hide","Show") -> Hide
B98: {=IFERROR(INDEX('Programming 2'!$A$95:$F$117,SMALL(IF('Programming 2'!$D$95:$D$117=1,ROW('Programming 2'!$D$95:$D$117)-94),ROW(14:14)),5),"")} | C98: {=IFERROR(INDEX('Programming 2'!$A$95:$F$117,SMALL(IF('Programming 2'!$D$95:$D$117=1,ROW('Programming 2'!$D$95:$D$117)-94),ROW(14:14)),6),"")} | F98: =IF(B98="","Hide","Show") -> Hide
B99: {=IFERROR(INDEX('Programming 2'!$A$95:$F$117,SMALL(IF('Programming 2'!$D$95:$D$117=1,ROW('Programming 2'!$D$95:$D$117)-94),ROW(15:15)),5),"")} | C99: {=IFERROR(INDEX('Programming 2'!$A$95:$F$117,SMALL(IF('Programming 2'!$D$95:$D$117=1,ROW('Programming 2'!$D$95:$D$117)-94),ROW(15:15)),6),"")} | F99: =IF(B99="","Hide","Show") -> Hide
B100: {=IFERROR(INDEX('Programming 2'!$A$95:$F$117,SMALL(IF('Programming 2'!$D$95:$D$117=1,ROW('Programming 2'!$D$95:$D$117)-94),ROW(16:16)),5),"")} | C100: {=IFERROR(INDEX('Programming 2'!$A$95:$F$117,SMALL(IF('Programming 2'!$D$95:$D$117=1,ROW('Programming 2'!$D$95:$D$117)-94),ROW(16:16)),6),"")} | F100: =IF(B100="","Hide","Show") -> Hide
...

Sheet ORANGE
A1: ORANGE | F1: Hide/Show
B2: =CONCATENATE("Total = ",IF('Programming 1'!$F$9<>0,TEXT('Programming 1'!$F$9,"###"),"0")) -> Total = 0 | F2: Show
A3: Strategic Objective | F3: Show
A4: Increased stewardship of and strengthened enabling environment for effective, equitable and sustainable family planning programming | F4: Show
A5: SO.1: Instances of a government-led council, coalition or entity that oversees and actively manages the family planning program | F5: Show
B6: {=IFERROR(INDEX('Programming 2'!$A$3:$F$7,SMALL(IF('Programming 2'!$C$3:$C$7=1,ROW('Programming 2'!$C$3:$C$7)-2),ROW(1:1)),5),"None")} -> None | C6: {=IFERROR(INDEX('Programming 2'!$A$3:$F$7,SMALL(IF('Programming 2'!$C$3:$C$7=1,ROW('Programming 2'!$C$3:$C$7)-2),ROW(1:1)),6),"")} | F6: =IF(B6="","Hide","Show") -> Show
B7: {=IFERROR(INDEX('Programming 2'!$A$3:$F$7,SMALL(IF('Programming 2'!$C$3:$C$7=1,ROW('Programming 2'!$C$3:$C$7)-2),ROW(2:2)),5),"")} | C7: {=IFERROR(INDEX('Programming 2'!$A$3:$F$7,SMALL(IF('Programming 2'!$C$3:$C$7=1,ROW('Programming 2'!$C$3:$C$7)-2),ROW(2:2)),6),"")} | F7: =IF(B7="","Hide","Show") -> Hide
B8: {=IFERROR(INDEX('Programming 2'!$A$3:$F$7,SMALL(IF('Programming 2'!$C$3:$C$7=1,ROW('Programming 2'!$C$3:$C$7)-2),ROW(3:3)),5),"")} | C8: {=IFERROR(INDEX('Programming 2'!$A$3:$F$7,SMALL(IF('Programming 2'!$C$3:$C$7=1,ROW('Programming 2'!$C$3:$C$7)-2),ROW(3:3)),6),"")} | F8: =IF(B8="","Hide","Show") -> Hide
B9: {=IFERROR(INDEX('Programming 2'!$A$3:$F$7,SMALL(IF('Programming 2'!$C$3:$C$7=1,ROW('Programming 2'!$C$3:$C$7)-2),ROW(4:4)),5),"")} | C9: {=IFERROR(INDEX('Programming 2'!$A$3:$F$7,SMALL(IF('Programming 2'!$C$3:$C$7=1,ROW('Programming 2'!$C$3:$C$7)-2),ROW(4:4)),6),"")} | F9: =IF(B9="","Hide","Show") -> Hide
B10: {=IFERROR(INDEX('Programming 2'!$A$3:$F$7,SMALL(IF('Programming 2'!$C$3:$C$7=1,ROW('Programming 2'!$C$3:$C$7)-2),ROW(5:5)),5),"")} | C10: {=IFERROR(INDEX('Programming 2'!$A$3:$F$7,SMALL(IF('Programming 2'!$C$3:$C$7=1,ROW('Programming 2'!$C$3:$C$7)-2),ROW(5:5)),6),"")} | F10: =IF(B10="","Hide","Show") -> Hide
A11: SO.2: Evidence of documented improvement in the enabling environment for family planning using a validated instrument | F11: Show
B12: {=IFERROR(INDEX('Programming 2'!$A$10:$F$14,SMALL(IF('Programming 2'!$C$10:$C$14=1,ROW('Programming 2'!$C$10:$C$14)-9),ROW(1:1)),5),"None")} -> None | C12: {=IFERROR(INDEX('Programming 2'!$A$10:$F$14,SMALL(IF('Programming 2'!$C$10:$C$14=1,ROW('Programming 2'!$C$10:$C$14)-9),ROW(1:1)),6),"")} | F12: =IF(B12="","Hide","Show") -> Show
B13: {=IFERROR(INDEX('Programming 2'!$A$10:$F$14,SMALL(IF('Programming 2'!$C$10:$C$14=1,ROW('Programming 2'!$C$10:$C$14)-9),ROW(2:2)),5),"")} | C13: {=IFERROR(INDEX('Programming 2'!$A$10:$F$14,SMALL(IF('Programming 2'!$C$10:$C$14=1,ROW('Programming 2'!$C$10:$C$14)-9),ROW(2:2)),6),"")} | F13: =IF(B13="","Hide","Show") -> Hide
B14: {=IFERROR(INDEX('Programming 2'!$A$10:$F$14,SMALL(IF('Programming 2'!$C$10:$C$14=1,ROW('Programming 2'!$C$10:$C$14)-9),ROW(3:3)),5),"")} | C14: {=IFERROR(INDEX('Programming 2'!$A$10:$F$14,SMALL(IF('Programming 2'!$C$10:$C$14=1,ROW('Programming 2'!$C$10:$C$14)-9),ROW(3:3)),6),"")} | F14: =IF(B14="","Hide","Show") -> Hide
B15: {=IFERROR(INDEX('Programming 2'!$A$10:$F$14,SMALL(IF('Programming 2'!$C$10:$C$14=1,ROW('Programming 2'!$C$10:$C$14)-9),ROW(4:4)),5),"")} | C15: {=IFERROR(INDEX('Programming 2'!$A$10:$F$14,SMALL(IF('Programming 2'!$C$10:$C$14=1,ROW('Programming 2'!$C$10:$C$14)-9),ROW(4:4)),6),"")} | F15: =IF(B15="","Hide","Show") -> Hide
B16: {=IFERROR(INDEX('Programming 2'!$A$10:$F$14,SMALL(IF('Programming 2'!$C$10:$C$14=1,ROW('Programming 2'!$C$10:$C$14)-9),ROW(5:5)),5),"")} | C16: {=IFERROR(INDEX('Programming 2'!$A$10:$F$14,SMALL(IF('Programming 2'!$C$10:$C$14=1,ROW('Programming 2'!$C$10:$C$14)-9),ROW(5:5)),6),"")} | F16: =IF(B16="","Hide","Show") -> Hide
A17: SO.3: Evidence of FP policies implemented, resources allocated and subsequently used in relation to the same FP policies | F17: Show
B18: {=IFERROR(INDEX('Programming 2'!$A$17:$F$20,SMALL(IF('Programming 2'!$C$17:$C$20=1,ROW('Programming 2'!$C$17:$C$20)-16),ROW(1:1)),5),"None")} -> None | C18: {=IFERROR(INDEX('Programming 2'!$A$17:$F$20,SMALL(IF('Programming 2'!$C$17:$C$20=1,ROW('Programming 2'!$C$17:$C$20)-16),ROW(1:1)),6),"")} | F18: =IF(B18="","Hide","Show") -> Show
B19: {=IFERROR(INDEX('Programming 2'!$A$17:$F$20,SMALL(IF('Programming 2'!$C$17:$C$20=1,ROW('Programming 2'!$C$17:$C$20)-16),ROW(2:2)),5),"")} | C19: {=IFERROR(INDEX('Programming 2'!$A$17:$F$20,SMALL(IF('Programming 2'!$C$17:$C$20=1,ROW('Programming 2'!$C$17:$C$20)-16),ROW(2:2)),6),"")} | F19: =IF(B19="","Hide","Show") -> Hide
B20: {=IFERROR(INDEX('Programming 2'!$A$17:$F$20,SMALL(IF('Programming 2'!$C$17:$C$20=1,ROW('Programming 2'!$C$17:$C$20)-16),ROW(3:3)),5),"")} | C20: {=IFERROR(INDEX('Programming 2'!$A$17:$F$20,SMALL(IF('Programming 2'!$C$17:$C$20=1,ROW('Programming 2'!$C$17:$C$20)-16),ROW(3:3)),6),"")} | F20: =IF(B20="","Hide","Show") -> Hide
B21: {=IFERROR(INDEX('Programming 2'!$A$17:$F$20,SMALL(IF('Programming 2'!$C$17:$C$20=1,ROW('Programming 2'!$C$17:$C$20)-16),ROW(4:4)),5),"")} | C21: {=IFERROR(INDEX('Programming 2'!$A$17:$F$20,SMALL(IF('Programming 2'!$C$17:$C$20=1,ROW('Programming 2'!$C$17:$C$20)-16),ROW(4:4)),6),"")} | F21: =IF(B21="","Hide","Show") -> Hide
A22: Intermediate Result 1 | F22: Show
A23: Resources for family planning increased, allocated, and spent more effectively and equitably | F23: Show
A24: IR1.1: Total resources spent on FP (by source and by activity/program area | F24: Show
B25: {=IFERROR(INDEX('Programming 2'!$A$24:$F$39,SMALL(IF('Programming 2'!$C$24:$C$39=1,ROW('Programming 2'!$C$24:$C$39)-23),ROW(1:1)),5),"None")} -> None | C25: {=IFERROR(INDEX('Programming 2'!$A$24:$F$39,SMALL(IF('Programming 2'!$C$24:$C$39=1,ROW('Programming 2'!$C$24:$C$39)-23),ROW(1:1)),6),"")} | F25: =IF(B25="","Hide","Show") -> Show
B26: {=IFERROR(INDEX('Programming 2'!$A$24:$F$39,SMALL(IF('Programming 2'!$C$24:$C$39=1,ROW('Programming 2'!$C$24:$C$39)-23),ROW(2:2)),5),"")} | C26: {=IFERROR(INDEX('Programming 2'!$A$24:$F$39,SMALL(IF('Programming 2'!$C$24:$C$39=1,ROW('Programming 2'!$C$24:$C$39)-23),ROW(2:2)),6),"")} | F26: =IF(B26="","Hide","Show") -> Hide
B27: {=IFERROR(INDEX('Programming 2'!$A$24:$F$39,SMALL(IF('Programming 2'!$C$24:$C$39=1,ROW('Programming 2'!$C$24:$C$39)-23),ROW(3:3)),5),"")} | C27: {=IFERROR(INDEX('Programming 2'!$A$24:$F$39,SMALL(IF('Programming 2'!$C$24:$C$39=1,ROW('Programming 2'!$C$24:$C$39)-23),ROW(3:3)),6),"")} | F27: =IF(B27="","Hide","Show") -> Hide
B28: {=IFERROR(INDEX('Programming 2'!$A$24:$F$39,SMALL(IF('Programming 2'!$C$24:$C$39=1,ROW('Programming 2'!$C$24:$C$39)-23),ROW(4:4)),5),"")} | C28: {=IFERROR(INDEX('Programming 2'!$A$24:$F$39,SMALL(IF('Programming 2'!$C$24:$C$39=1,ROW('Programming 2'!$C$24:$C$39)-23),ROW(4:4)),6),"")} | F28: =IF(B28="","Hide","Show") -> Hide
B29: {=IFERROR(INDEX('Programming 2'!$A$24:$F$39,SMALL(IF('Programming 2'!$C$24:$C$39=1,ROW('Programming 2'!$C$24:$C$39)-23),ROW(5:5)),5),"")} | C29: {=IFERROR(INDEX('Programming 2'!$A$24:$F$39,SMALL(IF('Programming 2'!$C$24:$C$39=1,ROW('Programming 2'!$C$24:$C$39)-23),ROW(5:5)),6),"")} | F29: =IF(B29="","Hide","Show") -> Hide
B30: {=IFERROR(INDEX('Programming 2'!$A$24:$F$39,SMALL(IF('Programming 2'!$C$24:$C$39=1,ROW('Programming 2'!$C$24:$C$39)-23),ROW(6:6)),5),"")} | C30: {=IFERROR(INDEX('Programming 2'!$A$24:$F$39,SMALL(IF('Programming 2'!$C$24:$C$39=1,ROW('Programming 2'!$C$24:$C$39)-23),ROW(6:6)),6),"")} | F30: =IF(B30="","Hide","Show") -> Hide
B31: {=IFERROR(INDEX('Programming 2'!$A$24:$F$39,SMALL(IF('Programming 2'!$C$24:$C$39=1,ROW('Programming 2'!$C$24:$C$39)-23),ROW(7:7)),5),"")} | C31: {=IFERROR(INDEX('Programming 2'!$A$24:$F$39,SMALL(IF('Programming 2'!$C$24:$C$39=1,ROW('Programming 2'!$C$24:$C$39)-23),ROW(7:7)),6),"")} | F31: =IF(B31="","Hide","Show") -> Hide
B32: {=IFERROR(INDEX('Programming 2'!$A$24:$F$39,SMALL(IF('Programming 2'!$C$24:$C$39=1,ROW('Programming 2'!$C$24:$C$39)-23),ROW(8:8)),5),"")} | C32: {=IFERROR(INDEX('Programming 2'!$A$24:$F$39,SMALL(IF('Programming 2'!$C$24:$C$39=1,ROW('Programming 2'!$C$24:$C$39)-23),ROW(8:8)),6),"")} | F32: =IF(B32="","Hide","Show") -> Hide
B33: {=IFERROR(INDEX('Programming 2'!$A$24:$F$39,SMALL(IF('Programming 2'!$C$24:$C$39=1,ROW('Programming 2'!$C$24:$C$39)-23),ROW(9:9)),5),"")} | C33: {=IFERROR(INDEX('Programming 2'!$A$24:$F$39,SMALL(IF('Programming 2'!$C$24:$C$39=1,ROW('Programming 2'!$C$24:$C$39)-23),ROW(9:9)),6),"")} | F33: =IF(B33="","Hide","Show") -> Hide
B34: {=IFERROR(INDEX('Programming 2'!$A$24:$F$39,SMALL(IF('Programming 2'!$C$24:$C$39=1,ROW('Programming 2'!$C$24:$C$39)-23),ROW(10:10)),5),"")} | C34: {=IFERROR(INDEX('Programming 2'!$A$24:$F$39,SMALL(IF('Programming 2'!$C$24:$C$39=1,ROW('Programming 2'!$C$24:$C$39)-23),ROW(10:10)),6),"")} | F34: =IF(B34="","Hide","Show") -> Hide
B35: {=IFERROR(INDEX('Programming 2'!$A$24:$F$39,SMALL(IF('Programming 2'!$C$24:$C$39=1,ROW('Programming 2'!$C$24:$C$39)-23),ROW(11:11)),5),"")} | C35: {=IFERROR(INDEX('Programming 2'!$A$24:$F$39,SMALL(IF('Programming 2'!$C$24:$C$39=1,ROW('Programming 2'!$C$24:$C$39)-23),ROW(11:11)),6),"")} | F35: =IF(B35="","Hide","Show") -> Hide
B36: {=IFERROR(INDEX('Programming 2'!$A$24:$F$39,SMALL(IF('Programming 2'!$C$24:$C$39=1,ROW('Programming 2'!$C$24:$C$39)-23),ROW(12:12)),5),"")} | C36: {=IFERROR(INDEX('Programming 2'!$A$24:$F$39,SMALL(IF('Programming 2'!$C$24:$C$39=1,ROW('Programming 2'!$C$24:$C$39)-23),ROW(12:12)),6),"")} | F36: =IF(B36="","Hide","Show") -> Hide
B37: {=IFERROR(INDEX('Programming 2'!$A$24:$F$39,SMALL(IF('Programming 2'!$C$24:$C$39=1,ROW('Programming 2'!$C$24:$C$39)-23),ROW(13:13)),5),"")} | C37: {=IFERROR(INDEX('Programming 2'!$A$24:$F$39,SMALL(IF('Programming 2'!$C$24:$C$39=1,ROW('Programming 2'!$C$24:$C$39)-23),ROW(13:13)),6),"")} | F37: =IF(B37="","Hide","Show") -> Hide
A38: IR1.2: Evidence of new financing mechanisms for family planning identified, tested, and / or scaled-up | F38: Show
B39: {=IFERROR(INDEX('Programming 2'!$A$40:$F$41,SMALL(IF('Programming 2'!$C$40:$C$41=1,ROW('Programming 2'!$C$40:$C$41)-39),ROW(1:1)),5),"None")} -> None | C39: {=IFERROR(INDEX('Programming 2'!$A$40:$F$41,SMALL(IF('Programming 2'!$C$40:$C$41=1,ROW('Programming 2'!$C$40:$C$41)-39),ROW(1:1)),6),"")} | F39: =IF(B39="","Hide","Show") -> Show
A40: IR1.3: Total resources allocated to FP (by source and by activity) | F40: Show
B41: {=IFERROR(INDEX('Programming 2'!$A$42:$F$58,SMALL(IF('Programming 2'!$C$42:$C$58=1,ROW('Programming 2'!$C$42:$C$58)-41),ROW(1:1)),5),"None")} -> None | C41: {=IFERROR(INDEX('Programming 2'!$A$42:$F$58,SMALL(IF('Programming 2'!$C$42:$C$58=1,ROW('Programming 2'!$C$42:$C$58)-41),ROW(1:1)),6),"")} | F41: =IF(B41="","Hide","Show") -> Show
B42: {=IFERROR(INDEX('Programming 2'!$A$42:$F$58,SMALL(IF('Programming 2'!$C$42:$C$58=1,ROW('Programming 2'!$C$42:$C$58)-41),ROW(2:2)),5),"")} | C42: {=IFERROR(INDEX('Programming 2'!$A$42:$F$58,SMALL(IF('Programming 2'!$C$42:$C$58=1,ROW('Programming 2'!$C$42:$C$58)-41),ROW(2:2)),6),"")} | F42: =IF(B42="","Hide","Show") -> Hide
B43: {=IFERROR(INDEX('Programming 2'!$A$42:$F$58,SMALL(IF('Programming 2'!$C$42:$C$58=1,ROW('Programming 2'!$C$42:$C$58)-41),ROW(3:3)),5),"")} | C43: {=IFERROR(INDEX('Programming 2'!$A$42:$F$58,SMALL(IF('Programming 2'!$C$42:$C$58=1,ROW('Programming 2'!$C$42:$C$58)-41),ROW(3:3)),6),"")} | F43: =IF(B43="","Hide","Show") -> Hide
B44: {=IFERROR(INDEX('Programming 2'!$A$42:$F$58,SMALL(IF('Programming 2'!$C$42:$C$58=1,ROW('Programming 2'!$C$42:$C$58)-41),ROW(4:4)),5),"")} | C44: {=IFERROR(INDEX('Programming 2'!$A$42:$F$58,SMALL(IF('Programming 2'!$C$42:$C$58=1,ROW('Programming 2'!$C$42:$C$58)-41),ROW(4:4)),6),"")} | F44: =IF(B44="","Hide","Show") -> Hide
B45: {=IFERROR(INDEX('Programming 2'!$A$42:$F$58,SMALL(IF('Programming 2'!$C$42:$C$58=1,ROW('Programming 2'!$C$42:$C$58)-41),ROW(5:5)),5),"")} | C45: {=IFERROR(INDEX('Programming 2'!$A$42:$F$58,SMALL(IF('Programming 2'!$C$42:$C$58=1,ROW('Programming 2'!$C$42:$C$58)-41),ROW(5:5)),6),"")} | F45: =IF(B45="","Hide","Show") -> Hide
B46: {=IFERROR(INDEX('Programming 2'!$A$42:$F$58,SMALL(IF('Programming 2'!$C$42:$C$58=1,ROW('Programming 2'!$C$42:$C$58)-41),ROW(6:6)),5),"")} | C46: {=IFERROR(INDEX('Programming 2'!$A$42:$F$58,SMALL(IF('Programming 2'!$C$42:$C$58=1,ROW('Programming 2'!$C$42:$C$58)-41),ROW(6:6)),6),"")} | F46: =IF(B46="","Hide","Show") -> Hide
B47: {=IFERROR(INDEX('Programming 2'!$A$42:$F$58,SMALL(IF('Programming 2'!$C$42:$C$58=1,ROW('Programming 2'!$C$42:$C$58)-41),ROW(7:7)),5),"")} | C47: {=IFERROR(INDEX('Programming 2'!$A$42:$F$58,SMALL(IF('Programming 2'!$C$42:$C$58=1,ROW('Programming 2'!$C$42:$C$58)-41),ROW(7:7)),6),"")} | F47: =IF(B47="","Hide","Show") -> Hide
B48: {=IFERROR(INDEX('Programming 2'!$A$42:$F$58,SMALL(IF('Programming 2'!$C$42:$C$58=1,ROW('Programming 2'!$C$42:$C$58)-41),ROW(8:8)),5),"")} | C48: {=IFERROR(INDEX('Programming 2'!$A$42:$F$58,SMALL(IF('Programming 2'!$C$42:$C$58=1,ROW('Programming 2'!$C$42:$C$58)-41),ROW(8:8)),6),"")} | F48: =IF(B48="","Hide","Show") -> Hide
B49: {=IFERROR(INDEX('Programming 2'!$A$42:$F$58,SMALL(IF('Programming 2'!$C$42:$C$58=1,ROW('Programming 2'!$C$42:$C$58)-41),ROW(9:9)),5),"")} | C49: {=IFERROR(INDEX('Programming 2'!$A$42:$F$58,SMALL(IF('Programming 2'!$C$42:$C$58=1,ROW('Programming 2'!$C$42:$C$58)-41),ROW(9:9)),6),"")} | F49: =IF(B49="","Hide","Show") -> Hide
B50: {=IFERROR(INDEX('Programming 2'!$A$42:$F$58,SMALL(IF('Programming 2'!$C$42:$C$58=1,ROW('Programming 2'!$C$42:$C$58)-41),ROW(10:10)),5),"")} | C50: {=IFERROR(INDEX('Programming 2'!$A$42:$F$58,SMALL(IF('Programming 2'!$C$42:$C$58=1,ROW('Programming 2'!$C$42:$C$58)-41),ROW(10:10)),6),"")} | F50: =IF(B50="","Hide","Show") -> Hide
B51: {=IFERROR(INDEX('Programming 2'!$A$42:$F$58,SMALL(IF('Programming 2'!$C$42:$C$58=1,ROW('Programming 2'!$C$42:$C$58)-41),ROW(11:11)),5),"")} | C51: {=IFERROR(INDEX('Programming 2'!$A$42:$F$58,SMALL(IF('Programming 2'!$C$42:$C$58=1,ROW('Programming 2'!$C$42:$C$58)-41),ROW(11:11)),6),"")} | F51: =IF(B51="","Hide","Show") -> Hide
B52: {=IFERROR(INDEX('Programming 2'!$A$42:$F$58,SMALL(IF('Programming 2'!$C$42:$C$58=1,ROW('Programming 2'!$C$42:$C$58)-41),ROW(12:12)),5),"")} | C52: {=IFERROR(INDEX('Programming 2'!$A$42:$F$58,SMALL(IF('Programming 2'!$C$42:$C$58=1,ROW('Programming 2'!$C$42:$C$58)-41),ROW(12:12)),6),"")} | F52: =IF(B52="","Hide","Show") -> Hide
A53: IR1.4: New and/or increased resources are committed to FP in the last two years | F53: Show
B54: {=IFERROR(INDEX('Programming 2'!$A$61:$F$62,SMALL(IF('Programming 2'!$C$61:$C$62=1,ROW('Programming 2'!$C$61:$C$62)-60),ROW(1:1)),5),"None")} -> None | C54: {=IFERROR(INDEX('Programming 2'!$A$61:$F$62,SMALL(IF('Programming 2'!$C$61:$C$62=1,ROW('Programming 2'!$C$61:$C$62)-60),ROW(1:1)),6),"")} | F54: =IF(B54="","Hide","Show") -> Show
B55: {=IFERROR(INDEX('Programming 2'!$A$61:$F$62,SMALL(IF('Programming 2'!$C$61:$C$62=1,ROW('Programming 2'!$C$61:$C$62)-60),ROW(2:2)),5),"")} | C55: {=IFERROR(INDEX('Programming 2'!$A$61:$F$62,SMALL(IF('Programming 2'!$C$61:$C$62=1,ROW('Programming 2'!$C$61:$C$62)-60),ROW(2:2)),6),"")} | F55: =IF(B55="","Hide","Show") -> Hide
A56: Intermediate Result 2 | F56: Show
A57: Increased multisectoral coordination in the design, implementation, and financing of family planning policies and programs | F57: Show
A58: IR2.1: Evidence of family planning programs incorporated into national strategic and development plans | F58: Show
B59: {=IFERROR(INDEX('Programming 2'!$A$66:$F$74,SMALL(IF('Programming 2'!$C$66:$C$74=1,ROW('Programming 2'!$C$66:$C$74)-65),ROW(1:1)),5),"None")} -> None | C59: {=IFERROR(INDEX('Programming 2'!$A$66:$F$74,SMALL(IF('Programming 2'!$C$66:$C$74=1,ROW('Programming 2'!$C$66:$C$74)-65),ROW(1:1)),6),"")} | F59: =IF(B59="","Hide","Show") -> Show
B60: {=IFERROR(INDEX('Programming 2'!$A$66:$F$74,SMALL(IF('Programming 2'!$C$66:$C$74=1,ROW('Programming 2'!$C$66:$C$74)-65),ROW(2:2)),5),"")} | C60: {=IFERROR(INDEX('Programming 2'!$A$66:$F$74,SMALL(IF('Programming 2'!$C$66:$C$74=1,ROW('Programming 2'!$C$66:$C$74)-65),ROW(2:2)),6),"")} | F60: =IF(B60="","Hide","Show") -> Hide
B61: {=IFERROR(INDEX('Programming 2'!$A$66:$F$74,SMALL(IF('Programming 2'!$C$66:$C$74=1,ROW('Programming 2'!$C$66:$C$74)-65),ROW(3:3)),5),"")} | C61: {=IFERROR(INDEX('Programming 2'!$A$66:$F$74,SMALL(IF('Programming 2'!$C$66:$C$74=1,ROW('Programming 2'!$C$66:$C$74)-65),ROW(3:3)),6),"")} | F61: =IF(B61="","Hide","Show") -> Hide
B62: {=IFERROR(INDEX('Programming 2'!$A$66:$F$74,SMALL(IF('Programming 2'!$C$66:$C$74=1,ROW('Programming 2'!$C$66:$C$74)-65),ROW(4:4)),5),"")} | C62: {=IFERROR(INDEX('Programming 2'!$A$66:$F$74,SMALL(IF('Programming 2'!$C$66:$C$74=1,ROW('Programming 2'!$C$66:$C$74)-65),ROW(4:4)),6),"")} | F62: =IF(B62="","Hide","Show") -> Hide
B63: {=IFERROR(INDEX('Programming 2'!$A$66:$F$74,SMALL(IF('Programming 2'!$C$66:$C$74=1,ROW('Programming 2'!$C$66:$C$74)-65),ROW(5:5)),5),"")} | C63: {=IFERROR(INDEX('Programming 2'!$A$66:$F$74,SMALL(IF('Programming 2'!$C$66:$C$74=1,ROW('Programming 2'!$C$66:$C$74)-65),ROW(5:5)),6),"")} | F63: =IF(B63="","Hide","Show") -> Hide
B64: {=IFERROR(INDEX('Programming 2'!$A$66:$F$74,SMALL(IF('Programming 2'!$C$66:$C$74=1,ROW('Programming 2'!$C$66:$C$74)-65),ROW(6:6)),5),"")} | C64: {=IFERROR(INDEX('Programming 2'!$A$66:$F$74,SMALL(IF('Programming 2'!$C$66:$C$74=1,ROW('Programming 2'!$C$66:$C$74)-65),ROW(6:6)),6),"")} | F64: =IF(B64="","Hide","Show") -> Hide
B65: {=IFERROR(INDEX('Programming 2'!$A$66:$F$74,SMALL(IF('Programming 2'!$C$66:$C$74=1,ROW('Programming 2'!$C$66:$C$74)-65),ROW(7:7)),5),"")} | C65: {=IFERROR(INDEX('Programming 2'!$A$66:$F$74,SMALL(IF('Programming 2'!$C$66:$C$74=1,ROW('Programming 2'!$C$66:$C$74)-65),ROW(7:7)),6),"")} | F65: =IF(B65="","Hide","Show") -> Hide
B66: {=IFERROR(INDEX('Programming 2'!$A$66:$F$74,SMALL(IF('Programming 2'!$C$66:$C$74=1,ROW('Programming 2'!$C$66:$C$74)-65),ROW(8:8)),5),"")} | C66: {=IFERROR(INDEX('Programming 2'!$A$66:$F$74,SMALL(IF('Programming 2'!$C$66:$C$74=1,ROW('Programming 2'!$C$66:$C$74)-65),ROW(8:8)),6),"")} | F66: =IF(B66="","Hide","Show") -> Hide
A67: IR2.2: Evidence of governments engaging multiple sectors in family planning activities | F67: Show
B68: {=IFERROR(INDEX('Programming 2'!$A$78:$F$94,SMALL(IF('Programming 2'!$C$78:$C$94=1,ROW('Programming 2'!$C$78:$C$94)-77),ROW(1:1)),5),"None")} -> None | C68: {=IFERROR(INDEX('Programming 2'!$A$78:$F$94,SMALL(IF('Programming 2'!$C$78:$C$94=1,ROW('Programming 2'!$C$78:$C$94)-77),ROW(1:1)),6),"")} | F68: =IF(B68="","Hide","Show") -> Show
B69: {=IFERROR(INDEX('Programming 2'!$A$78:$F$94,SMALL(IF('Programming 2'!$C$78:$C$94=1,ROW('Programming 2'!$C$78:$C$94)-77),ROW(2:2)),5),"")} | C69: {=IFERROR(INDEX('Programming 2'!$A$78:$F$94,SMALL(IF('Programming 2'!$C$78:$C$94=1,ROW('Programming 2'!$C$78:$C$94)-77),ROW(2:2)),6),"")} | F69: =IF(B69="","Hide","Show") -> Hide
B70: {=IFERROR(INDEX('Programming 2'!$A$78:$F$94,SMALL(IF('Programming 2'!$C$78:$C$94=1,ROW('Programming 2'!$C$78:$C$94)-77),ROW(3:3)),5),"")} | C70: {=IFERROR(INDEX('Programming 2'!$A$78:$F$94,SMALL(IF('Programming 2'!$C$78:$C$94=1,ROW('Programming 2'!$C$78:$C$94)-77),ROW(3:3)),6),"")} | F70: =IF(B70="","Hide","Show") -> Hide
B71: {=IFERROR(INDEX('Programming 2'!$A$78:$F$94,SMALL(IF('Programming 2'!$C$78:$C$94=1,ROW('Programming 2'!$C$78:$C$94)-77),ROW(4:4)),5),"")} | C71: {=IFERROR(INDEX('Programming 2'!$A$78:$F$94,SMALL(IF('Programming 2'!$C$78:$C$94=1,ROW('Programming 2'!$C$78:$C$94)-77),ROW(4:4)),6),"")} | F71: =IF(B71="","Hide","Show") -> Hide
B72: {=IFERROR(INDEX('Programming 2'!$A$78:$F$94,SMALL(IF('Programming 2'!$C$78:$C$94=1,ROW('Programming 2'!$C$78:$C$94)-77),ROW(5:5)),5),"")} | C72: {=IFERROR(INDEX('Programming 2'!$A$78:$F$94,SMALL(IF('Programming 2'!$C$78:$C$94=1,ROW('Programming 2'!$C$78:$C$94)-77),ROW(5:5)),6),"")} | F72: =IF(B72="","Hide","Show") -> Hide
B73: {=IFERROR(INDEX('Programming 2'!$A$78:$F$94,SMALL(IF('Programming 2'!$C$78:$C$94=1,ROW('Programming 2'!$C$78:$C$94)-77),ROW(6:6)),5),"")} | C73: {=IFERROR(INDEX('Programming 2'!$A$78:$F$94,SMALL(IF('Programming 2'!$C$78:$C$94=1,ROW('Programming 2'!$C$78:$C$94)-77),ROW(6:6)),6),"")} | F73: =IF(B73="","Hide","Show") -> Hide
B74: {=IFERROR(INDEX('Programming 2'!$A$78:$F$94,SMALL(IF('Programming 2'!$C$78:$C$94=1,ROW('Programming 2'!$C$78:$C$94)-77),ROW(7:7)),5),"")} | C74: {=IFERROR(INDEX('Programming 2'!$A$78:$F$94,SMALL(IF('Programming 2'!$C$78:$C$94=1,ROW('Programming 2'!$C$78:$C$94)-77),ROW(7:7)),6),"")} | F74: =IF(B74="","Hide","Show") -> Hide
B75: {=IFERROR(INDEX('Programming 2'!$A$78:$F$94,SMALL(IF('Programming 2'!$C$78:$C$94=1,ROW('Programming 2'!$C$78:$C$94)-77),ROW(8:8)),5),"")} | C75: {=IFERROR(INDEX('Programming 2'!$A$78:$F$94,SMALL(IF('Programming 2'!$C$78:$C$94=1,ROW('Programming 2'!$C$78:$C$94)-77),ROW(8:8)),6),"")} | F75: =IF(B75="","Hide","Show") -> Hide
B76: {=IFERROR(INDEX('Programming 2'!$A$78:$F$94,SMALL(IF('Programming 2'!$C$78:$C$94=1,ROW('Programming 2'!$C$78:$C$94)-77),ROW(9:9)),5),"")} | C76: {=IFERROR(INDEX('Programming 2'!$A$78:$F$94,SMALL(IF('Programming 2'!$C$78:$C$94=1,ROW('Programming 2'!$C$78:$C$94)-77),ROW(9:9)),6),"")} | F76: =IF(B76="","Hide","Show") -> Hide
B77: {=IFERROR(INDEX('Programming 2'!$A$78:$F$94,SMALL(IF('Programming 2'!$C$78:$C$94=1,ROW('Programming 2'!$C$78:$C$94)-77),ROW(10:10)),5),"")} | C77: {=IFERROR(INDEX('Programming 2'!$A$78:$F$94,SMALL(IF('Programming 2'!$C$78:$C$94=1,ROW('Programming 2'!$C$78:$C$94)-77),ROW(10:10)),6),"")} | F77: =IF(B77="","Hide","Show") -> Hide
B78: {=IFERROR(INDEX('Programming 2'!$A$78:$F$94,SMALL(IF('Programming 2'!$C$78:$C$94=1,ROW('Programming 2'!$C$78:$C$94)-77),ROW(11:11)),5),"")} | C78: {=IFERROR(INDEX('Programming 2'!$A$78:$F$94,SMALL(IF('Programming 2'!$C$78:$C$94=1,ROW('Programming 2'!$C$78:$C$94)-77),ROW(11:11)),6),"")} | F78: =IF(B78="","Hide","Show") -> Hide
B79: {=IFERROR(INDEX('Programming 2'!$A$78:$F$94,SMALL(IF('Programming 2'!$C$78:$C$94=1,ROW('Programming 2'!$C$78:$C$94)-77),ROW(12:12)),5),"")} | C79: {=IFERROR(INDEX('Programming 2'!$A$78:$F$94,SMALL(IF('Programming 2'!$C$78:$C$94=1,ROW('Programming 2'!$C$78:$C$94)-77),ROW(12:12)),6),"")} | F79: =IF(B79="","Hide","Show") -> Hide
B80: {=IFERROR(INDEX('Programming 2'!$A$78:$F$94,SMALL(IF('Programming 2'!$C$78:$C$94=1,ROW('Programming 2'!$C$78:$C$94)-77),ROW(13:13)),5),"")} | C80: {=IFERROR(INDEX('Programming 2'!$A$78:$F$94,SMALL(IF('Programming 2'!$C$78:$C$94=1,ROW('Programming 2'!$C$78:$C$94)-77),ROW(13:13)),6),"")} | F80: =IF(B80="","Hide","Show") -> Hide
B81: {=IFERROR(INDEX('Programming 2'!$A$78:$F$94,SMALL(IF('Programming 2'!$C$78:$C$94=1,ROW('Programming 2'!$C$78:$C$94)-77),ROW(14:14)),5),"")} | C81: {=IFERROR(INDEX('Programming 2'!$A$78:$F$94,SMALL(IF('Programming 2'!$C$78:$C$94=1,ROW('Programming 2'!$C$78:$C$94)-77),ROW(14:14)),6),"")} | F81: =IF(B81="","Hide","Show") -> Hide
B82: {=IFERROR(INDEX('Programming 2'!$A$78:$F$94,SMALL(IF('Programming 2'!$C$78:$C$94=1,ROW('Programming 2'!$C$78:$C$94)-77),ROW(15:15)),5),"")} | C82: {=IFERROR(INDEX('Programming 2'!$A$78:$F$94,SMALL(IF('Programming 2'!$C$78:$C$94=1,ROW('Programming 2'!$C$78:$C$94)-77),ROW(15:15)),6),"")} | F82: =IF(B82="","Hide","Show") -> Hide
B83: {=IFERROR(INDEX('Programming 2'!$A$78:$F$94,SMALL(IF('Programming 2'!$C$78:$C$94=1,ROW('Programming 2'!$C$78:$C$94)-77),ROW(16:16)),5),"")} | C83: {=IFERROR(INDEX('Programming 2'!$A$78:$F$94,SMALL(IF('Programming 2'!$C$78:$C$94=1,ROW('Programming 2'!$C$78:$C$94)-77),ROW(16:16)),6),"")} | F83: =IF(B83="","Hide","Show") -> Hide
A84: IR2.3: Evidence of multisectoral structures that are established or strengthened to promote FP policy | F84: Show
B85: {=IFERROR(INDEX('Programming 2'!$A$95:$F$117,SMALL(IF('Programming 2'!$C$95:$C$117=1,ROW('Programming 2'!$C$95:$C$117)-94),ROW(1:1)),5),"None")} -> None | C85: {=IFERROR(INDEX('Programming 2'!$A$95:$F$117,SMALL(IF('Programming 2'!$C$95:$C$117=1,ROW('Programming 2'!$C$95:$C$117)-94),ROW(1:1)),6),"")} | F85: =IF(B85="","Hide","Show") -> Show
B86: {=IFERROR(INDEX('Programming 2'!$A$95:$F$117,SMALL(IF('Programming 2'!$C$95:$C$117=1,ROW('Programming 2'!$C$95:$C$117)-94),ROW(2:2)),5),"")} | C86: {=IFERROR(INDEX('Programming 2'!$A$95:$F$117,SMALL(IF('Programming 2'!$C$95:$C$117=1,ROW('Programming 2'!$C$95:$C$117)-94),ROW(2:2)),6),"")} | F86: =IF(B86="","Hide","Show") -> Hide
B87: {=IFERROR(INDEX('Programming 2'!$A$95:$F$117,SMALL(IF('Programming 2'!$C$95:$C$117=1,ROW('Programming 2'!$C$95:$C$117)-94),ROW(3:3)),5),"")} | C87: {=IFERROR(INDEX('Programming 2'!$A$95:$F$117,SMALL(IF('Programming 2'!$C$95:$C$117=1,ROW('Programming 2'!$C$95:$C$117)-94),ROW(3:3)),6),"")} | F87: =IF(B87="","Hide","Show") -> Hide
B88: {=IFERROR(INDEX('Programming 2'!$A$95:$F$117,SMALL(IF('Programming 2'!$C$95:$C$117=1,ROW('Programming 2'!$C$95:$C$117)-94),ROW(4:4)),5),"")} | C88: {=IFERROR(INDEX('Programming 2'!$A$95:$F$117,SMALL(IF('Programming 2'!$C$95:$C$117=1,ROW('Programming 2'!$C$95:$C$117)-94),ROW(4:4)),6),"")} | F88: =IF(B88="","Hide","Show") -> Hide
B89: {=IFERROR(INDEX('Programming 2'!$A$95:$F$117,SMALL(IF('Programming 2'!$C$95:$C$117=1,ROW('Programming 2'!$C$95:$C$117)-94),ROW(5:5)),5),"")} | C89: {=IFERROR(INDEX('Programming 2'!$A$95:$F$117,SMALL(IF('Programming 2'!$C$95:$C$117=1,ROW('Programming 2'!$C$95:$C$117)-94),ROW(5:5)),6),"")} | F89: =IF(B89="","Hide","Show") -> Hide
B90: {=IFERROR(INDEX('Programming 2'!$A$95:$F$117,SMALL(IF('Programming 2'!$C$95:$C$117=1,ROW('Programming 2'!$C$95:$C$117)-94),ROW(6:6)),5),"")} | C90: {=IFERROR(INDEX('Programming 2'!$A$95:$F$117,SMALL(IF('Programming 2'!$C$95:$C$117=1,ROW('Programming 2'!$C$95:$C$117)-94),ROW(6:6)),6),"")} | F90: =IF(B90="","Hide","Show") -> Hide
B91: {=IFERROR(INDEX('Programming 2'!$A$95:$F$117,SMALL(IF('Programming 2'!$C$95:$C$117=1,ROW('Programming 2'!$C$95:$C$117)-94),ROW(7:7)),5),"")} | C91: {=IFERROR(INDEX('Programming 2'!$A$95:$F$117,SMALL(IF('Programming 2'!$C$95:$C$117=1,ROW('Programming 2'!$C$95:$C$117)-94),ROW(7:7)),6),"")} | F91: =IF(B91="","Hide","Show") -> Hide
B92: {=IFERROR(INDEX('Programming 2'!$A$95:$F$117,SMALL(IF('Programming 2'!$C$95:$C$117=1,ROW('Programming 2'!$C$95:$C$117)-94),ROW(8:8)),5),"")} | C92: {=IFERROR(INDEX('Programming 2'!$A$95:$F$117,SMALL(IF('Programming 2'!$C$95:$C$117=1,ROW('Programming 2'!$C$95:$C$117)-94),ROW(8:8)),6),"")} | F92: =IF(B92="","Hide","Show") -> Hide
B93: {=IFERROR(INDEX('Programming 2'!$A$95:$F$117,SMALL(IF('Programming 2'!$C$95:$C$117=1,ROW('Programming 2'!$C$95:$C$117)-94),ROW(9:9)),5),"")} | C93: {=IFERROR(INDEX('Programming 2'!$A$95:$F$117,SMALL(IF('Programming 2'!$C$95:$C$117=1,ROW('Programming 2'!$C$95:$C$117)-94),ROW(9:9)),6),"")} | F93: =IF(B93="","Hide","Show") -> Hide
B94: {=IFERROR(INDEX('Programming 2'!$A$95:$F$117,SMALL(IF('Programming 2'!$C$95:$C$117=1,ROW('Programming 2'!$C$95:$C$117)-94),ROW(10:10)),5),"")} | C94: {=IFERROR(INDEX('Programming 2'!$A$95:$F$117,SMALL(IF('Programming 2'!$C$95:$C$117=1,ROW('Programming 2'!$C$95:$C$117)-94),ROW(10:10)),6),"")} | F94: =IF(B94="","Hide","Show") -> Hide
B95: {=IFERROR(INDEX('Programming 2'!$A$95:$F$117,SMALL(IF('Programming 2'!$C$95:$C$117=1,ROW('Programming 2'!$C$95:$C$117)-94),ROW(11:11)),5),"")} | C95: {=IFERROR(INDEX('Programming 2'!$A$95:$F$117,SMALL(IF('Programming 2'!$C$95:$C$117=1,ROW('Programming 2'!$C$95:$C$117)-94),ROW(11:11)),6),"")} | F95: =IF(B95="","Hide","Show") -> Hide
B96: {=IFERROR(INDEX('Programming 2'!$A$95:$F$117,SMALL(IF('Programming 2'!$C$95:$C$117=1,ROW('Programming 2'!$C$95:$C$117)-94),ROW(12:12)),5),"")} | C96: {=IFERROR(INDEX('Programming 2'!$A$95:$F$117,SMALL(IF('Programming 2'!$C$95:$C$117=1,ROW('Programming 2'!$C$95:$C$117)-94),ROW(12:12)),6),"")} | F96: =IF(B96="","Hide","Show") -> Hide
B97: {=IFERROR(INDEX('Programming 2'!$A$95:$F$117,SMALL(IF('Programming 2'!$C$95:$C$117=1,ROW('Programming 2'!$C$95:$C$117)-94),ROW(13:13)),5),"")} | C97: {=IFERROR(INDEX('Programming 2'!$A$95:$F$117,SMALL(IF('Programming 2'!$C$95:$C$117=1,ROW('Programming 2'!$C$95:$C$117)-94),ROW(13:13)),6),"")} | F97: =IF(B97="","Hide","Show") -> Hide
B98: {=IFERROR(INDEX('Programming 2'!$A$95:$F$117,SMALL(IF('Programming 2'!$C$95:$C$117=1,ROW('Programming 2'!$C$95:$C$117)-94),ROW(14:14)),5),"")} | C98: {=IFERROR(INDEX('Programming 2'!$A$95:$F$117,SMALL(IF('Programming 2'!$C$95:$C$117=1,ROW('Programming 2'!$C$95:$C$117)-94),ROW(14:14)),6),"")} | F98: =IF(B98="","Hide","Show") -> Hide
B99: {=IFERROR(INDEX('Programming 2'!$A$95:$F$117,SMALL(IF('Programming 2'!$C$95:$C$117=1,ROW('Programming 2'!$C$95:$C$117)-94),ROW(15:15)),5),"")} | C99: {=IFERROR(INDEX('Programming 2'!$A$95:$F$117,SMALL(IF('Programming 2'!$C$95:$C$117=1,ROW('Programming 2'!$C$95:$C$117)-94),ROW(15:15)),6),"")} | F99: =IF(B99="","Hide","Show") -> Hide
B100: {=IFERROR(INDEX('Programming 2'!$A$95:$F$117,SMALL(IF('Programming 2'!$C$95:$C$117=1,ROW('Programming 2'!$C$95:$C$117)-94),ROW(16:16)),5),"")} | C100: {=IFERROR(INDEX('Programming 2'!$A$95:$F$117,SMALL(IF('Programming 2'!$C$95:$C$117=1,ROW('Programming 2'!$C$95:$C$117)-94),ROW(16:16)),6),"")} | F100: =IF(B100="","Hide","Show") -> Hide
...

Sheet YELLOW
A1: YELLOW | F1: Hide/Show
B2: =CONCATENATE("Total = ",IF('Programming 1'!$E$9<>0,TEXT('Programming 1'!$E$9,"###"),"0")) -> Total = 0 | F2: Show
A3: Strategic Objective | F3: Show
A4: Increased stewardship of and strengthened enabling environment for effective, equitable and sustainable family planning programming | F4: Show
A5: SO.1: Instances of a government-led council, coalition or entity that oversees and actively manages the family planning program | F5: Show
B6: {=IFERROR(INDEX('Programming 2'!$A$3:$F$7,SMALL(IF('Programming 2'!$B$3:$B$7=1,ROW('Programming 2'!$B$3:$B$7)-2),ROW(1:1)),5),"None")} -> None | C6: {=IFERROR(INDEX('Programming 2'!$A$3:$F$7,SMALL(IF('Programming 2'!$B$3:$B$7=1,ROW('Programming 2'!$B$3:$B$7)-2),ROW(1:1)),6),"")} | F6: =IF(B6="","Hide","Show") -> Show
B7: {=IFERROR(INDEX('Programming 2'!$A$3:$F$7,SMALL(IF('Programming 2'!$B$3:$B$7=1,ROW('Programming 2'!$B$3:$B$7)-2),ROW(2:2)),5),"")} | C7: {=IFERROR(INDEX('Programming 2'!$A$3:$F$7,SMALL(IF('Programming 2'!$B$3:$B$7=1,ROW('Programming 2'!$B$3:$B$7)-2),ROW(2:2)),6),"")} | F7: =IF(B7="","Hide","Show") -> Hide
B8: {=IFERROR(INDEX('Programming 2'!$A$3:$F$7,SMALL(IF('Programming 2'!$B$3:$B$7=1,ROW('Programming 2'!$B$3:$B$7)-2),ROW(3:3)),5),"")} | C8: {=IFERROR(INDEX('Programming 2'!$A$3:$F$7,SMALL(IF('Programming 2'!$B$3:$B$7=1,ROW('Programming 2'!$B$3:$B$7)-2),ROW(3:3)),6),"")} | F8: =IF(B8="","Hide","Show") -> Hide
B9: {=IFERROR(INDEX('Programming 2'!$A$3:$F$7,SMALL(IF('Programming 2'!$B$3:$B$7=1,ROW('Programming 2'!$B$3:$B$7)-2),ROW(4:4)),5),"")} | C9: {=IFERROR(INDEX('Programming 2'!$A$3:$F$7,SMALL(IF('Programming 2'!$B$3:$B$7=1,ROW('Programming 2'!$B$3:$B$7)-2),ROW(4:4)),6),"")} | F9: =IF(B9="","Hide","Show") -> Hide
B10: {=IFERROR(INDEX('Programming 2'!$A$3:$F$7,SMALL(IF('Programming 2'!$B$3:$B$7=1,ROW('Programming 2'!$B$3:$B$7)-2),ROW(5:5)),5),"")} | C10: {=IFERROR(INDEX('Programming 2'!$A$3:$F$7,SMALL(IF('Programming 2'!$B$3:$B$7=1,ROW('Programming 2'!$B$3:$B$7)-2),ROW(5:5)),6),"")} | F10: =IF(B10="","Hide","Show") -> Hide
A11: SO.2: Evidence of documented improvement in the enabling environment for family planning using a validated instrument | F11: Show
B12: {=IFERROR(INDEX('Programming 2'!$A$10:$F$14,SMALL(IF('Programming 2'!$B$10:$B$14=1,ROW('Programming 2'!$B$10:$B$14)-9),ROW(1:1)),5),"None")} -> None | C12: {=IFERROR(INDEX('Programming 2'!$A$10:$F$14,SMALL(IF('Programming 2'!$B$10:$B$14=1,ROW('Programming 2'!$B$10:$B$14)-9),ROW(1:1)),6),"")} | F12: =IF(B12="","Hide","Show") -> Show
B13: {=IFERROR(INDEX('Programming 2'!$A$10:$F$14,SMALL(IF('Programming 2'!$B$10:$B$14=1,ROW('Programming 2'!$B$10:$B$14)-9),ROW(2:2)),5),"")} | C13: {=IFERROR(INDEX('Programming 2'!$A$10:$F$14,SMALL(IF('Programming 2'!$B$10:$B$14=1,ROW('Programming 2'!$B$10:$B$14)-9),ROW(2:2)),6),"")} | F13: =IF(B13="","Hide","Show") -> Hide
B14: {=IFERROR(INDEX('Programming 2'!$A$10:$F$14,SMALL(IF('Programming 2'!$B$10:$B$14=1,ROW('Programming 2'!$B$10:$B$14)-9),ROW(3:3)),5),"")} | C14: {=IFERROR(INDEX('Programming 2'!$A$10:$F$14,SMALL(IF('Programming 2'!$B$10:$B$14=1,ROW('Programming 2'!$B$10:$B$14)-9),ROW(3:3)),6),"")} | F14: =IF(B14="","Hide","Show") -> Hide
B15: {=IFERROR(INDEX('Programming 2'!$A$10:$F$14,SMALL(IF('Programming 2'!$B$10:$B$14=1,ROW('Programming 2'!$B$10:$B$14)-9),ROW(4:4)),5),"")} | C15: {=IFERROR(INDEX('Programming 2'!$A$10:$F$14,SMALL(IF('Programming 2'!$B$10:$B$14=1,ROW('Programming 2'!$B$10:$B$14)-9),ROW(4:4)),6),"")} | F15: =IF(B15="","Hide","Show") -> Hide
B16: {=IFERROR(INDEX('Programming 2'!$A$10:$F$14,SMALL(IF('Programming 2'!$B$10:$B$14=1,ROW('Programming 2'!$B$10:$B$14)-9),ROW(5:5)),5),"")} | C16: {=IFERROR(INDEX('Programming 2'!$A$10:$F$14,SMALL(IF('Programming 2'!$B$10:$B$14=1,ROW('Programming 2'!$B$10:$B$14)-9),ROW(5:5)),6),"")} | F16: =IF(B16="","Hide","Show") -> Hide
A17: SO.3: Evidence of FP policies implemented, resources allocated and subsequently used in relation to the same FP policies | F17: Show
B18: {=IFERROR(INDEX('Programming 2'!$A$17:$F$20,SMALL(IF('Programming 2'!$B$17:$B$20=1,ROW('Programming 2'!$B$17:$B$20)-16),ROW(1:1)),5),"None")} -> None | C18: {=IFERROR(INDEX('Programming 2'!$A$17:$F$20,SMALL(IF('Programming 2'!$B$17:$B$20=1,ROW('Programming 2'!$B$17:$B$20)-16),ROW(1:1)),6),"")} | F18: =IF(B18="","Hide","Show") -> Show
B19: {=IFERROR(INDEX('Programming 2'!$A$17:$F$20,SMALL(IF('Programming 2'!$B$17:$B$20=1,ROW('Programming 2'!$B$17:$B$20)-16),ROW(2:2)),5),"")} | C19: {=IFERROR(INDEX('Programming 2'!$A$17:$F$20,SMALL(IF('Programming 2'!$B$17:$B$20=1,ROW('Programming 2'!$B$17:$B$20)-16),ROW(2:2)),6),"")} | F19: =IF(B19="","Hide","Show") -> Hide
B20: {=IFERROR(INDEX('Programming 2'!$A$17:$F$20,SMALL(IF('Programming 2'!$B$17:$B$20=1,ROW('Programming 2'!$B$17:$B$20)-16),ROW(3:3)),5),"")} | C20: {=IFERROR(INDEX('Programming 2'!$A$17:$F$20,SMALL(IF('Programming 2'!$B$17:$B$20=1,ROW('Programming 2'!$B$17:$B$20)-16),ROW(3:3)),6),"")} | F20: =IF(B20="","Hide","Show") -> Hide
B21: {=IFERROR(INDEX('Programming 2'!$A$17:$F$20,SMALL(IF('Programming 2'!$B$17:$B$20=1,ROW('Programming 2'!$B$17:$B$20)-16),ROW(4:4)),5),"")} | C21: {=IFERROR(INDEX('Programming 2'!$A$17:$F$20,SMALL(IF('Programming 2'!$B$17:$B$20=1,ROW('Programming 2'!$B$17:$B$20)-16),ROW(4:4)),6),"")} | F21: =IF(B21="","Hide","Show") -> Hide
A22: Intermediate Result 1 | F22: Show
A23: Resources for family planning increased, allocated, and spent more effectively and equitably | F23: Show
A24: IR1.1: Total resources spent on FP (by source and by activity/program area | F24: Show
B25: {=IFERROR(INDEX('Programming 2'!$A$24:$F$39,SMALL(IF('Programming 2'!$B$24:$B$39=1,ROW('Programming 2'!$B$24:$B$39)-23),ROW(1:1)),5),"None")} -> None | C25: {=IFERROR(INDEX('Programming 2'!$A$24:$F$39,SMALL(IF('Programming 2'!$B$24:$B$39=1,ROW('Programming 2'!$B$24:$B$39)-23),ROW(1:1)),6),"")} | F25: =IF(B25="","Hide","Show") -> Show
B26: {=IFERROR(INDEX('Programming 2'!$A$24:$F$39,SMALL(IF('Programming 2'!$B$24:$B$39=1,ROW('Programming 2'!$B$24:$B$39)-23),ROW(2:2)),5),"")} | C26: {=IFERROR(INDEX('Programming 2'!$A$24:$F$39,SMALL(IF('Programming 2'!$B$24:$B$39=1,ROW('Programming 2'!$B$24:$B$39)-23),ROW(2:2)),6),"")} | F26: =IF(B26="","Hide","Show") -> Hide
B27: {=IFERROR(INDEX('Programming 2'!$A$24:$F$39,SMALL(IF('Programming 2'!$B$24:$B$39=1,ROW('Programming 2'!$B$24:$B$39)-23),ROW(3:3)),5),"")} | C27: {=IFERROR(INDEX('Programming 2'!$A$24:$F$39,SMALL(IF('Programming 2'!$B$24:$B$39=1,ROW('Programming 2'!$B$24:$B$39)-23),ROW(3:3)),6),"")} | F27: =IF(B27="","Hide","Show") -> Hide
B28: {=IFERROR(INDEX('Programming 2'!$A$24:$F$39,SMALL(IF('Programming 2'!$B$24:$B$39=1,ROW('Programming 2'!$B$24:$B$39)-23),ROW(4:4)),5),"")} | C28: {=IFERROR(INDEX('Programming 2'!$A$24:$F$39,SMALL(IF('Programming 2'!$B$24:$B$39=1,ROW('Programming 2'!$B$24:$B$39)-23),ROW(4:4)),6),"")} | F28: =IF(B28="","Hide","Show") -> Hide
B29: {=IFERROR(INDEX('Programming 2'!$A$24:$F$39,SMALL(IF('Programming 2'!$B$24:$B$39=1,ROW('Programming 2'!$B$24:$B$39)-23),ROW(5:5)),5),"")} | C29: {=IFERROR(INDEX('Programming 2'!$A$24:$F$39,SMALL(IF('Programming 2'!$B$24:$B$39=1,ROW('Programming 2'!$B$24:$B$39)-23),ROW(5:5)),6),"")} | F29: =IF(B29="","Hide","Show") -> Hide
B30: {=IFERROR(INDEX('Programming 2'!$A$24:$F$39,SMALL(IF('Programming 2'!$B$24:$B$39=1,ROW('Programming 2'!$B$24:$B$39)-23),ROW(6:6)),5),"")} | C30: {=IFERROR(INDEX('Programming 2'!$A$24:$F$39,SMALL(IF('Programming 2'!$B$24:$B$39=1,ROW('Programming 2'!$B$24:$B$39)-23),ROW(6:6)),6),"")} | F30: =IF(B30="","Hide","Show") -> Hide
B31: {=IFERROR(INDEX('Programming 2'!$A$24:$F$39,SMALL(IF('Programming 2'!$B$24:$B$39=1,ROW('Programming 2'!$B$24:$B$39)-23),ROW(7:7)),5),"")} | C31: {=IFERROR(INDEX('Programming 2'!$A$24:$F$39,SMALL(IF('Programming 2'!$B$24:$B$39=1,ROW('Programming 2'!$B$24:$B$39)-23),ROW(7:7)),6),"")} | F31: =IF(B31="","Hide","Show") -> Hide
B32: {=IFERROR(INDEX('Programming 2'!$A$24:$F$39,SMALL(IF('Programming 2'!$B$24:$B$39=1,ROW('Programming 2'!$B$24:$B$39)-23),ROW(8:8)),5),"")} | C32: {=IFERROR(INDEX('Programming 2'!$A$24:$F$39,SMALL(IF('Programming 2'!$B$24:$B$39=1,ROW('Programming 2'!$B$24:$B$39)-23),ROW(8:8)),6),"")} | F32: =IF(B32="","Hide","Show") -> Hide
B33: {=IFERROR(INDEX('Programming 2'!$A$24:$F$39,SMALL(IF('Programming 2'!$B$24:$B$39=1,ROW('Programming 2'!$B$24:$B$39)-23),ROW(9:9)),5),"")} | C33: {=IFERROR(INDEX('Programming 2'!$A$24:$F$39,SMALL(IF('Programming 2'!$B$24:$B$39=1,ROW('Programming 2'!$B$24:$B$39)-23),ROW(9:9)),6),"")} | F33: =IF(B33="","Hide","Show") -> Hide
B34: {=IFERROR(INDEX('Programming 2'!$A$24:$F$39,SMALL(IF('Programming 2'!$B$24:$B$39=1,ROW('Programming 2'!$B$24:$B$39)-23),ROW(10:10)),5),"")} | C34: {=IFERROR(INDEX('Programming 2'!$A$24:$F$39,SMALL(IF('Programming 2'!$B$24:$B$39=1,ROW('Programming 2'!$B$24:$B$39)-23),ROW(10:10)),6),"")} | F34: =IF(B34="","Hide","Show") -> Hide
B35: {=IFERROR(INDEX('Programming 2'!$A$24:$F$39,SMALL(IF('Programming 2'!$B$24:$B$39=1,ROW('Programming 2'!$B$24:$B$39)-23),ROW(11:11)),5),"")} | C35: {=IFERROR(INDEX('Programming 2'!$A$24:$F$39,SMALL(IF('Programming 2'!$B$24:$B$39=1,ROW('Programming 2'!$B$24:$B$39)-23),ROW(11:11)),6),"")} | F35: =IF(B35="","Hide","Show") -> Hide
B36: {=IFERROR(INDEX('Programming 2'!$A$24:$F$39,SMALL(IF('Programming 2'!$B$24:$B$39=1,ROW('Programming 2'!$B$24:$B$39)-23),ROW(12:12)),5),"")} | C36: {=IFERROR(INDEX('Programming 2'!$A$24:$F$39,SMALL(IF('Programming 2'!$B$24:$B$39=1,ROW('Programming 2'!$B$24:$B$39)-23),ROW(12:12)),6),"")} | F36: =IF(B36="","Hide","Show") -> Hide
B37: {=IFERROR(INDEX('Programming 2'!$A$24:$F$39,SMALL(IF('Programming 2'!$B$24:$B$39=1,ROW('Programming 2'!$B$24:$B$39)-23),ROW(13:13)),5),"")} | C37: {=IFERROR(INDEX('Programming 2'!$A$24:$F$39,SMALL(IF('Programming 2'!$B$24:$B$39=1,ROW('Programming 2'!$B$24:$B$39)-23),ROW(13:13)),6),"")} | F37: =IF(B37="","Hide","Show") -> Hide
A38: IR1.2: Evidence of new financing mechanisms for family planning identified, tested, and / or scaled-up | F38: Show
B39: {=IFERROR(INDEX('Programming 2'!$A$40:$F$41,SMALL(IF('Programming 2'!$B$40:$B$41=1,ROW('Programming 2'!$B$40:$B$41)-39),ROW(1:1)),5),"None")} -> None | C39: {=IFERROR(INDEX('Programming 2'!$A$40:$F$41,SMALL(IF('Programming 2'!$B$40:$B$41=1,ROW('Programming 2'!$B$40:$B$41)-39),ROW(1:1)),6),"")} | F39: =IF(B39="","Hide","Show") -> Show
A40: IR1.3: Total resources allocated to FP (by source and by activity) | F40: Show
B41: {=IFERROR(INDEX('Programming 2'!$A$42:$F$58,SMALL(IF('Programming 2'!$B$42:$B$58=1,ROW('Programming 2'!$B$42:$B$58)-41),ROW(1:1)),5),"None")} -> None | C41: {=IFERROR(INDEX('Programming 2'!$A$42:$F$58,SMALL(IF('Programming 2'!$B$42:$B$58=1,ROW('Programming 2'!$B$42:$B$58)-41),ROW(1:1)),6),"")} | F41: =IF(B41="","Hide","Show") -> Show
B42: {=IFERROR(INDEX('Programming 2'!$A$42:$F$58,SMALL(IF('Programming 2'!$B$42:$B$58=1,ROW('Programming 2'!$B$42:$B$58)-41),ROW(2:2)),5),"")} | C42: {=IFERROR(INDEX('Programming 2'!$A$42:$F$58,SMALL(IF('Programming 2'!$B$42:$B$58=1,ROW('Programming 2'!$B$42:$B$58)-41),ROW(2:2)),6),"")} | F42: =IF(B42="","Hide","Show") -> Hide
B43: {=IFERROR(INDEX('Programming 2'!$A$42:$F$58,SMALL(IF('Programming 2'!$B$42:$B$58=1,ROW('Programming 2'!$B$42:$B$58)-41),ROW(3:3)),5),"")} | C43: {=IFERROR(INDEX('Programming 2'!$A$42:$F$58,SMALL(IF('Programming 2'!$B$42:$B$58=1,ROW('Programming 2'!$B$42:$B$58)-41),ROW(3:3)),6),"")} | F43: =IF(B43="","Hide","Show") -> Hide
B44: {=IFERROR(INDEX('Programming 2'!$A$42:$F$58,SMALL(IF('Programming 2'!$B$42:$B$58=1,ROW('Programming 2'!$B$42:$B$58)-41),ROW(4:4)),5),"")} | C44: {=IFERROR(INDEX('Programming 2'!$A$42:$F$58,SMALL(IF('Programming 2'!$B$42:$B$58=1,ROW('Programming 2'!$B$42:$B$58)-41),ROW(4:4)),6),"")} | F44: =IF(B44="","Hide","Show") -> Hide
B45: {=IFERROR(INDEX('Programming 2'!$A$42:$F$58,SMALL(IF('Programming 2'!$B$42:$B$58=1,ROW('Programming 2'!$B$42:$B$58)-41),ROW(5:5)),5),"")} | C45: {=IFERROR(INDEX('Programming 2'!$A$42:$F$58,SMALL(IF('Programming 2'!$B$42:$B$58=1,ROW('Programming 2'!$B$42:$B$58)-41),ROW(5:5)),6),"")} | F45: =IF(B45="","Hide","Show") -> Hide
B46: {=IFERROR(INDEX('Programming 2'!$A$42:$F$58,SMALL(IF('Programming 2'!$B$42:$B$58=1,ROW('Programming 2'!$B$42:$B$58)-41),ROW(6:6)),5),"")} | C46: {=IFERROR(INDEX('Programming 2'!$A$42:$F$58,SMALL(IF('Programming 2'!$B$42:$B$58=1,ROW('Programming 2'!$B$42:$B$58)-41),ROW(6:6)),6),"")} | F46: =IF(B46="","Hide","Show") -> Hide
B47: {=IFERROR(INDEX('Programming 2'!$A$42:$F$58,SMALL(IF('Programming 2'!$B$42:$B$58=1,ROW('Programming 2'!$B$42:$B$58)-41),ROW(7:7)),5),"")} | C47: {=IFERROR(INDEX('Programming 2'!$A$42:$F$58,SMALL(IF('Programming 2'!$B$42:$B$58=1,ROW('Programming 2'!$B$42:$B$58)-41),ROW(7:7)),6),"")} | F47: =IF(B47="","Hide","Show") -> Hide
B48: {=IFERROR(INDEX('Programming 2'!$A$42:$F$58,SMALL(IF('Programming 2'!$B$42:$B$58=1,ROW('Programming 2'!$B$42:$B$58)-41),ROW(8:8)),5),"")} | C48: {=IFERROR(INDEX('Programming 2'!$A$42:$F$58,SMALL(IF('Programming 2'!$B$42:$B$58=1,ROW('Programming 2'!$B$42:$B$58)-41),ROW(8:8)),6),"")} | F48: =IF(B48="","Hide","Show") -> Hide
B49: {=IFERROR(INDEX('Programming 2'!$A$42:$F$58,SMALL(IF('Programming 2'!$B$42:$B$58=1,ROW('Programming 2'!$B$42:$B$58)-41),ROW(9:9)),5),"")} | C49: {=IFERROR(INDEX('Programming 2'!$A$42:$F$58,SMALL(IF('Programming 2'!$B$42:$B$58=1,ROW('Programming 2'!$B$42:$B$58)-41),ROW(9:9)),6),"")} | F49: =IF(B49="","Hide","Show") -> Hide
B50: {=IFERROR(INDEX('Programming 2'!$A$42:$F$58,SMALL(IF('Programming 2'!$B$42:$B$58=1,ROW('Programming 2'!$B$42:$B$58)-41),ROW(10:10)),5),"")} | C50: {=IFERROR(INDEX('Programming 2'!$A$42:$F$58,SMALL(IF('Programming 2'!$B$42:$B$58=1,ROW('Programming 2'!$B$42:$B$58)-41),ROW(10:10)),6),"")} | F50: =IF(B50="","Hide","Show") -> Hide
B51: {=IFERROR(INDEX('Programming 2'!$A$42:$F$58,SMALL(IF('Programming 2'!$B$42:$B$58=1,ROW('Programming 2'!$B$42:$B$58)-41),ROW(11:11)),5),"")} | C51: {=IFERROR(INDEX('Programming 2'!$A$42:$F$58,SMALL(IF('Programming 2'!$B$42:$B$58=1,ROW('Programming 2'!$B$42:$B$58)-41),ROW(11:11)),6),"")} | F51: =IF(B51="","Hide","Show") -> Hide
B52: {=IFERROR(INDEX('Programming 2'!$A$42:$F$58,SMALL(IF('Programming 2'!$B$42:$B$58=1,ROW('Programming 2'!$B$42:$B$58)-41),ROW(12:12)),5),"")} | C52: {=IFERROR(INDEX('Programming 2'!$A$42:$F$58,SMALL(IF('Programming 2'!$B$42:$B$58=1,ROW('Programming 2'!$B$42:$B$58)-41),ROW(12:12)),6),"")} | F52: =IF(B52="","Hide","Show") -> Hide
A53: IR1.4: New and/or increased resources are committed to FP in the last two years | F53: Show
B54: {=IFERROR(INDEX('Programming 2'!$A$61:$F$62,SMALL(IF('Programming 2'!$B$61:$B$62=1,ROW('Programming 2'!$B$61:$B$62)-60),ROW(1:1)),5),"None")} -> None | C54: {=IFERROR(INDEX('Programming 2'!$A$61:$F$62,SMALL(IF('Programming 2'!$B$61:$B$62=1,ROW('Programming 2'!$B$61:$B$62)-60),ROW(1:1)),6),"")} | F54: =IF(B54="","Hide","Show") -> Show
B55: {=IFERROR(INDEX('Programming 2'!$A$61:$F$62,SMALL(IF('Programming 2'!$B$61:$B$62=1,ROW('Programming 2'!$B$61:$B$62)-60),ROW(2:2)),5),"")} | C55: {=IFERROR(INDEX('Programming 2'!$A$61:$F$62,SMALL(IF('Programming 2'!$B$61:$B$62=1,ROW('Programming 2'!$B$61:$B$62)-60),ROW(2:2)),6),"")} | F55: =IF(B55="","Hide","Show") -> Hide
A56: Intermediate Result 2 | F56: Show
A57: Increased multisectoral coordination in the design, implementation, and financing of family planning policies and programs | F57: Show
A58: IR2.1: Evidence of family planning programs incorporated into national strategic and development plans | F58: Show
B59: {=IFERROR(INDEX('Programming 2'!$A$66:$F$74,SMALL(IF('Programming 2'!$B$66:$B$74=1,ROW('Programming 2'!$B$66:$B$74)-65),ROW(1:1)),5),"None")} -> None | C59: {=IFERROR(INDEX('Programming 2'!$A$66:$F$74,SMALL(IF('Programming 2'!$B$66:$B$74=1,ROW('Programming 2'!$B$66:$B$74)-65),ROW(1:1)),6),"")} | F59: =IF(B59="","Hide","Show") -> Show
B60: {=IFERROR(INDEX('Programming 2'!$A$66:$F$74,SMALL(IF('Programming 2'!$B$66:$B$74=1,ROW('Programming 2'!$B$66:$B$74)-65),ROW(2:2)),5),"")} | C60: {=IFERROR(INDEX('Programming 2'!$A$66:$F$74,SMALL(IF('Programming 2'!$B$66:$B$74=1,ROW('Programming 2'!$B$66:$B$74)-65),ROW(2:2)),6),"")} | F60: =IF(B60="","Hide","Show") -> Hide
B61: {=IFERROR(INDEX('Programming 2'!$A$66:$F$74,SMALL(IF('Programming 2'!$B$66:$B$74=1,ROW('Programming 2'!$B$66:$B$74)-65),ROW(3:3)),5),"")} | C61: {=IFERROR(INDEX('Programming 2'!$A$66:$F$74,SMALL(IF('Programming 2'!$B$66:$B$74=1,ROW('Programming 2'!$B$66:$B$74)-65),ROW(3:3)),6),"")} | F61: =IF(B61="","Hide","Show") -> Hide
B62: {=IFERROR(INDEX('Programming 2'!$A$66:$F$74,SMALL(IF('Programming 2'!$B$66:$B$74=1,ROW('Programming 2'!$B$66:$B$74)-65),ROW(4:4)),5),"")} | C62: {=IFERROR(INDEX('Programming 2'!$A$66:$F$74,SMALL(IF('Programming 2'!$B$66:$B$74=1,ROW('Programming 2'!$B$66:$B$74)-65),ROW(4:4)),6),"")} | F62: =IF(B62="","Hide","Show") -> Hide
B63: {=IFERROR(INDEX('Programming 2'!$A$66:$F$74,SMALL(IF('Programming 2'!$B$66:$B$74=1,ROW('Programming 2'!$B$66:$B$74)-65),ROW(5:5)),5),"")} | C63: {=IFERROR(INDEX('Programming 2'!$A$66:$F$74,SMALL(IF('Programming 2'!$B$66:$B$74=1,ROW('Programming 2'!$B$66:$B$74)-65),ROW(5:5)),6),"")} | F63: =IF(B63="","Hide","Show") -> Hide
B64: {=IFERROR(INDEX('Programming 2'!$A$66:$F$74,SMALL(IF('Programming 2'!$B$66:$B$74=1,ROW('Programming 2'!$B$66:$B$74)-65),ROW(6:6)),5),"")} | C64: {=IFERROR(INDEX('Programming 2'!$A$66:$F$74,SMALL(IF('Programming 2'!$B$66:$B$74=1,ROW('Programming 2'!$B$66:$B$74)-65),ROW(6:6)),6),"")} | F64: =IF(B64="","Hide","Show") -> Hide
B65: {=IFERROR(INDEX('Programming 2'!$A$66:$F$74,SMALL(IF('Programming 2'!$B$66:$B$74=1,ROW('Programming 2'!$B$66:$B$74)-65),ROW(7:7)),5),"")} | C65: {=IFERROR(INDEX('Programming 2'!$A$66:$F$74,SMALL(IF('Programming 2'!$B$66:$B$74=1,ROW('Programming 2'!$B$66:$B$74)-65),ROW(7:7)),6),"")} | F65: =IF(B65="","Hide","Show") -> Hide
B66: {=IFERROR(INDEX('Programming 2'!$A$66:$F$74,SMALL(IF('Programming 2'!$B$66:$B$74=1,ROW('Programming 2'!$B$66:$B$74)-65),ROW(8:8)),5),"")} | C66: {=IFERROR(INDEX('Programming 2'!$A$66:$F$74,SMALL(IF('Programming 2'!$B$66:$B$74=1,ROW('Programming 2'!$B$66:$B$74)-65),ROW(8:8)),6),"")} | F66: =IF(B66="","Hide","Show") -> Hide
A67: IR2.2: Evidence of governments engaging multiple sectors in family planning activities | F67: Show
B68: {=IFERROR(INDEX('Programming 2'!$A$78:$F$94,SMALL(IF('Programming 2'!$B$78:$B$94=1,ROW('Programming 2'!$B$78:$B$94)-77),ROW(1:1)),5),"None")} -> None | C68: {=IFERROR(INDEX('Programming 2'!$A$78:$F$94,SMALL(IF('Programming 2'!$B$78:$B$94=1,ROW('Programming 2'!$B$78:$B$94)-77),ROW(1:1)),6),"")} | F68: =IF(B68="","Hide","Show") -> Show
B69: {=IFERROR(INDEX('Programming 2'!$A$78:$F$94,SMALL(IF('Programming 2'!$B$78:$B$94=1,ROW('Programming 2'!$B$78:$B$94)-77),ROW(2:2)),5),"")} | C69: {=IFERROR(INDEX('Programming 2'!$A$78:$F$94,SMALL(IF('Programming 2'!$B$78:$B$94=1,ROW('Programming 2'!$B$78:$B$94)-77),ROW(2:2)),6),"")} | F69: =IF(B69="","Hide","Show") -> Hide
B70: {=IFERROR(INDEX('Programming 2'!$A$78:$F$94,SMALL(IF('Programming 2'!$B$78:$B$94=1,ROW('Programming 2'!$B$78:$B$94)-77),ROW(3:3)),5),"")} | C70: {=IFERROR(INDEX('Programming 2'!$A$78:$F$94,SMALL(IF('Programming 2'!$B$78:$B$94=1,ROW('Programming 2'!$B$78:$B$94)-77),ROW(3:3)),6),"")} | F70: =IF(B70="","Hide","Show") -> Hide
B71: {=IFERROR(INDEX('Programming 2'!$A$78:$F$94,SMALL(IF('Programming 2'!$B$78:$B$94=1,ROW('Programming 2'!$B$78:$B$94)-77),ROW(4:4)),5),"")} | C71: {=IFERROR(INDEX('Programming 2'!$A$78:$F$94,SMALL(IF('Programming 2'!$B$78:$B$94=1,ROW('Programming 2'!$B$78:$B$94)-77),ROW(4:4)),6),"")} | F71: =IF(B71="","Hide","Show") -> Hide
B72: {=IFERROR(INDEX('Programming 2'!$A$78:$F$94,SMALL(IF('Programming 2'!$B$78:$B$94=1,ROW('Programming 2'!$B$78:$B$94)-77),ROW(5:5)),5),"")} | C72: {=IFERROR(INDEX('Programming 2'!$A$78:$F$94,SMALL(IF('Programming 2'!$B$78:$B$94=1,ROW('Programming 2'!$B$78:$B$94)-77),ROW(5:5)),6),"")} | F72: =IF(B72="","Hide","Show") -> Hide
B73: {=IFERROR(INDEX('Programming 2'!$A$78:$F$94,SMALL(IF('Programming 2'!$B$78:$B$94=1,ROW('Programming 2'!$B$78:$B$94)-77),ROW(6:6)),5),"")} | C73: {=IFERROR(INDEX('Programming 2'!$A$78:$F$94,SMALL(IF('Programming 2'!$B$78:$B$94=1,ROW('Programming 2'!$B$78:$B$94)-77),ROW(6:6)),6),"")} | F73: =IF(B73="","Hide","Show") -> Hide
B74: {=IFERROR(INDEX('Programming 2'!$A$78:$F$94,SMALL(IF('Programming 2'!$B$78:$B$94=1,ROW('Programming 2'!$B$78:$B$94)-77),ROW(7:7)),5),"")} | C74: {=IFERROR(INDEX('Programming 2'!$A$78:$F$94,SMALL(IF('Programming 2'!$B$78:$B$94=1,ROW('Programming 2'!$B$78:$B$94)-77),ROW(7:7)),6),"")} | F74: =IF(B74="","Hide","Show") -> Hide
B75: {=IFERROR(INDEX('Programming 2'!$A$78:$F$94,SMALL(IF('Programming 2'!$B$78:$B$94=1,ROW('Programming 2'!$B$78:$B$94)-77),ROW(8:8)),5),"")} | C75: {=IFERROR(INDEX('Programming 2'!$A$78:$F$94,SMALL(IF('Programming 2'!$B$78:$B$94=1,ROW('Programming 2'!$B$78:$B$94)-77),ROW(8:8)),6),"")} | F75: =IF(B75="","Hide","Show") -> Hide
B76: {=IFERROR(INDEX('Programming 2'!$A$78:$F$94,SMALL(IF('Programming 2'!$B$78:$B$94=1,ROW('Programming 2'!$B$78:$B$94)-77),ROW(9:9)),5),"")} | C76: {=IFERROR(INDEX('Programming 2'!$A$78:$F$94,SMALL(IF('Programming 2'!$B$78:$B$94=1,ROW('Programming 2'!$B$78:$B$94)-77),ROW(9:9)),6),"")} | F76: =IF(B76="","Hide","Show") -> Hide
B77: {=IFERROR(INDEX('Programming 2'!$A$78:$F$94,SMALL(IF('Programming 2'!$B$78:$B$94=1,ROW('Programming 2'!$B$78:$B$94)-77),ROW(10:10)),5),"")} | C77: {=IFERROR(INDEX('Programming 2'!$A$78:$F$94,SMALL(IF('Programming 2'!$B$78:$B$94=1,ROW('Programming 2'!$B$78:$B$94)-77),ROW(10:10)),6),"")} | F77: =IF(B77="","Hide","Show") -> Hide
B78: {=IFERROR(INDEX('Programming 2'!$A$78:$F$94,SMALL(IF('Programming 2'!$B$78:$B$94=1,ROW('Programming 2'!$B$78:$B$94)-77),ROW(11:11)),5),"")} | C78: {=IFERROR(INDEX('Programming 2'!$A$78:$F$94,SMALL(IF('Programming 2'!$B$78:$B$94=1,ROW('Programming 2'!$B$78:$B$94)-77),ROW(11:11)),6),"")} | F78: =IF(B78="","Hide","Show") -> Hide
B79: {=IFERROR(INDEX('Programming 2'!$A$78:$F$94,SMALL(IF('Programming 2'!$B$78:$B$94=1,ROW('Programming 2'!$B$78:$B$94)-77),ROW(12:12)),5),"")} | C79: {=IFERROR(INDEX('Programming 2'!$A$78:$F$94,SMALL(IF('Programming 2'!$B$78:$B$94=1,ROW('Programming 2'!$B$78:$B$94)-77),ROW(12:12)),6),"")} | F79: =IF(B79="","Hide","Show") -> Hide
B80: {=IFERROR(INDEX('Programming 2'!$A$78:$F$94,SMALL(IF('Programming 2'!$B$78:$B$94=1,ROW('Programming 2'!$B$78:$B$94)-77),ROW(13:13)),5),"")} | C80: {=IFERROR(INDEX('Programming 2'!$A$78:$F$94,SMALL(IF('Programming 2'!$B$78:$B$94=1,ROW('Programming 2'!$B$78:$B$94)-77),ROW(13:13)),6),"")} | F80: =IF(B80="","Hide","Show") -> Hide
B81: {=IFERROR(INDEX('Programming 2'!$A$78:$F$94,SMALL(IF('Programming 2'!$B$78:$B$94=1,ROW('Programming 2'!$B$78:$B$94)-77),ROW(14:14)),5),"")} | C81: {=IFERROR(INDEX('Programming 2'!$A$78:$F$94,SMALL(IF('Programming 2'!$B$78:$B$94=1,ROW('Programming 2'!$B$78:$B$94)-77),ROW(14:14)),6),"")} | F81: =IF(B81="","Hide","Show") -> Hide
B82: {=IFERROR(INDEX('Programming 2'!$A$78:$F$94,SMALL(IF('Programming 2'!$B$78:$B$94=1,ROW('Programming 2'!$B$78:$B$94)-77),ROW(15:15)),5),"")} | C82: {=IFERROR(INDEX('Programming 2'!$A$78:$F$94,SMALL(IF('Programming 2'!$B$78:$B$94=1,ROW('Programming 2'!$B$78:$B$94)-77),ROW(15:15)),6),"")} | F82: =IF(B82="","Hide","Show") -> Hide
B83: {=IFERROR(INDEX('Programming 2'!$A$78:$F$94,SMALL(IF('Programming 2'!$B$78:$B$94=1,ROW('Programming 2'!$B$78:$B$94)-77),ROW(16:16)),5),"")} | C83: {=IFERROR(INDEX('Programming 2'!$A$78:$F$94,SMALL(IF('Programming 2'!$B$78:$B$94=1,ROW('Programming 2'!$B$78:$B$94)-77),ROW(16:16)),6),"")} | F83: =IF(B83="","Hide","Show") -> Hide
A84: IR2.3: Evidence of multisectoral structures that are established or strengthened to promote FP policy | F84: Show
B85: {=IFERROR(INDEX('Programming 2'!$A$95:$F$117,SMALL(IF('Programming 2'!$B$95:$B$117=1,ROW('Programming 2'!$B$95:$B$117)-94),ROW(1:1)),5),"None")} -> None | C85: {=IFERROR(INDEX('Programming 2'!$A$95:$F$117,SMALL(IF('Programming 2'!$B$95:$B$117=1,ROW('Programming 2'!$B$95:$B$117)-94),ROW(1:1)),6),"")} | F85: =IF(B85="","Hide","Show") -> Show
B86: {=IFERROR(INDEX('Programming 2'!$A$95:$F$117,SMALL(IF('Programming 2'!$B$95:$B$117=1,ROW('Programming 2'!$B$95:$B$117)-94),ROW(2:2)),5),"")} | C86: {=IFERROR(INDEX('Programming 2'!$A$95:$F$117,SMALL(IF('Programming 2'!$B$95:$B$117=1,ROW('Programming 2'!$B$95:$B$117)-94),ROW(2:2)),6),"")} | F86: =IF(B86="","Hide","Show") -> Hide
B87: {=IFERROR(INDEX('Programming 2'!$A$95:$F$117,SMALL(IF('Programming 2'!$B$95:$B$117=1,ROW('Programming 2'!$B$95:$B$117)-94),ROW(3:3)),5),"")} | C87: {=IFERROR(INDEX('Programming 2'!$A$95:$F$117,SMALL(IF('Programming 2'!$B$95:$B$117=1,ROW('Programming 2'!$B$95:$B$117)-94),ROW(3:3)),6),"")} | F87: =IF(B87="","Hide","Show") -> Hide
B88: {=IFERROR(INDEX('Programming 2'!$A$95:$F$117,SMALL(IF('Programming 2'!$B$95:$B$117=1,ROW('Programming 2'!$B$95:$B$117)-94),ROW(4:4)),5),"")} | C88: {=IFERROR(INDEX('Programming 2'!$A$95:$F$117,SMALL(IF('Programming 2'!$B$95:$B$117=1,ROW('Programming 2'!$B$95:$B$117)-94),ROW(4:4)),6),"")} | F88: =IF(B88="","Hide","Show") -> Hide
B89: {=IFERROR(INDEX('Programming 2'!$A$95:$F$117,SMALL(IF('Programming 2'!$B$95:$B$117=1,ROW('Programming 2'!$B$95:$B$117)-94),ROW(5:5)),5),"")} | C89: {=IFERROR(INDEX('Programming 2'!$A$95:$F$117,SMALL(IF('Programming 2'!$B$95:$B$117=1,ROW('Programming 2'!$B$95:$B$117)-94),ROW(5:5)),6),"")} | F89: =IF(B89="","Hide","Show") -> Hide
B90: {=IFERROR(INDEX('Programming 2'!$A$95:$F$117,SMALL(IF('Programming 2'!$B$95:$B$117=1,ROW('Programming 2'!$B$95:$B$117)-94),ROW(6:6)),5),"")} | C90: {=IFERROR(INDEX('Programming 2'!$A$95:$F$117,SMALL(IF('Programming 2'!$B$95:$B$117=1,ROW('Programming 2'!$B$95:$B$117)-94),ROW(6:6)),6),"")} | F90: =IF(B90="","Hide","Show") -> Hide
B91: {=IFERROR(INDEX('Programming 2'!$A$95:$F$117,SMALL(IF('Programming 2'!$B$95:$B$117=1,ROW('Programming 2'!$B$95:$B$117)-94),ROW(7:7)),5),"")} | C91: {=IFERROR(INDEX('Programming 2'!$A$95:$F$117,SMALL(IF('Programming 2'!$B$95:$B$117=1,ROW('Programming 2'!$B$95:$B$117)-94),ROW(7:7)),6),"")} | F91: =IF(B91="","Hide","Show") -> Hide
B92: {=IFERROR(INDEX('Programming 2'!$A$95:$F$117,SMALL(IF('Programming 2'!$B$95:$B$117=1,ROW('Programming 2'!$B$95:$B$117)-94),ROW(8:8)),5),"")} | C92: {=IFERROR(INDEX('Programming 2'!$A$95:$F$117,SMALL(IF('Programming 2'!$B$95:$B$117=1,ROW('Programming 2'!$B$95:$B$117)-94),ROW(8:8)),6),"")} | F92: =IF(B92="","Hide","Show") -> Hide
B93: {=IFERROR(INDEX('Programming 2'!$A$95:$F$117,SMALL(IF('Programming 2'!$B$95:$B$117=1,ROW('Programming 2'!$B$95:$B$117)-94),ROW(9:9)),5),"")} | C93: {=IFERROR(INDEX('Programming 2'!$A$95:$F$117,SMALL(IF('Programming 2'!$B$95:$B$117=1,ROW('Programming 2'!$B$95:$B$117)-94),ROW(9:9)),6),"")} | F93: =IF(B93="","Hide","Show") -> Hide
B94: {=IFERROR(INDEX('Programming 2'!$A$95:$F$117,SMALL(IF('Programming 2'!$B$95:$B$117=1,ROW('Programming 2'!$B$95:$B$117)-94),ROW(10:10)),5),"")} | C94: {=IFERROR(INDEX('Programming 2'!$A$95:$F$117,SMALL(IF('Programming 2'!$B$95:$B$117=1,ROW('Programming 2'!$B$95:$B$117)-94),ROW(10:10)),6),"")} | F94: =IF(B94="","Hide","Show") -> Hide
B95: {=IFERROR(INDEX('Programming 2'!$A$95:$F$117,SMALL(IF('Programming 2'!$B$95:$B$117=1,ROW('Programming 2'!$B$95:$B$117)-94),ROW(11:11)),5),"")} | C95: {=IFERROR(INDEX('Programming 2'!$A$95:$F$117,SMALL(IF('Programming 2'!$B$95:$B$117=1,ROW('Programming 2'!$B$95:$B$117)-94),ROW(11:11)),6),"")} | F95: =IF(B95="","Hide","Show") -> Hide
B96: {=IFERROR(INDEX('Programming 2'!$A$95:$F$117,SMALL(IF('Programming 2'!$B$95:$B$117=1,ROW('Programming 2'!$B$95:$B$117)-94),ROW(12:12)),5),"")} | C96: {=IFERROR(INDEX('Programming 2'!$A$95:$F$117,SMALL(IF('Programming 2'!$B$95:$B$117=1,ROW('Programming 2'!$B$95:$B$117)-94),ROW(12:12)),6),"")} | F96: =IF(B96="","Hide","Show") -> Hide
B97: {=IFERROR(INDEX('Programming 2'!$A$95:$F$117,SMALL(IF('Programming 2'!$B$95:$B$117=1,ROW('Programming 2'!$B$95:$B$117)-94),ROW(13:13)),5),"")} | C97: {=IFERROR(INDEX('Programming 2'!$A$95:$F$117,SMALL(IF('Programming 2'!$B$95:$B$117=1,ROW('Programming 2'!$B$95:$B$117)-94),ROW(13:13)),6),"")} | F97: =IF(B97="","Hide","Show") -> Hide
B98: {=IFERROR(INDEX('Programming 2'!$A$95:$F$117,SMALL(IF('Programming 2'!$B$95:$B$117=1,ROW('Programming 2'!$B$95:$B$117)-94),ROW(14:14)),5),"")} | C98: {=IFERROR(INDEX('Programming 2'!$A$95:$F$117,SMALL(IF('Programming 2'!$B$95:$B$117=1,ROW('Programming 2'!$B$95:$B$117)-94),ROW(14:14)),6),"")} | F98: =IF(B98="","Hide","Show") -> Hide
B99: {=IFERROR(INDEX('Programming 2'!$A$95:$F$117,SMALL(IF('Programming 2'!$B$95:$B$117=1,ROW('Programming 2'!$B$95:$B$117)-94),ROW(15:15)),5),"")} | C99: {=IFERROR(INDEX('Programming 2'!$A$95:$F$117,SMALL(IF('Programming 2'!$B$95:$B$117=1,ROW('Programming 2'!$B$95:$B$117)-94),ROW(15:15)),6),"")} | F99: =IF(B99="","Hide","Show") -> Hide
B100: {=IFERROR(INDEX('Programming 2'!$A$95:$F$117,SMALL(IF('Programming 2'!$B$95:$B$117=1,ROW('Programming 2'!$B$95:$B$117)-94),ROW(16:16)),5),"")} | C100: {=IFERROR(INDEX('Programming 2'!$A$95:$F$117,SMALL(IF('Programming 2'!$B$95:$B$117=1,ROW('Programming 2'!$B$95:$B$117)-94),ROW(16:16)),6),"")} | F100: =IF(B100="","Hide","Show") -> Hide
...

Sheet GREEN
A1: GREEN | F1: Hide/Show
B2: =CONCATENATE("Total = ",IF('Programming 1'!$D$9<>0,TEXT('Programming 1'!$D$9,"###"),"0")) -> Total = 0 | F2: Show
A3: Strategic Objective | F3: Show
A4: Increased stewardship of and strengthened enabling environment for effective, equitable and sustainable family planning programming | F4: Show
A5: SO.1: Instances of a government-led council, coalition or entity that oversees and actively manages the family planning program | F5: Show
B6: {=IFERROR(INDEX('Programming 2'!$A$3:$F$7,SMALL(IF('Programming 2'!$A$3:$A$7=1,ROW('Programming 2'!$A$3:$A$7)-2),ROW(1:1)),5),"None")} -> None | C6: {=IFERROR(INDEX('Programming 2'!$A$3:$F$7,SMALL(IF('Programming 2'!$A$3:$A$7=1,ROW('Programming 2'!$A$3:$A$7)-2),ROW(1:1)),6),"")} | F6: =IF(B6="","Hide","Show") -> Show
B7: {=IFERROR(INDEX('Programming 2'!$A$3:$F$7,SMALL(IF('Programming 2'!$A$3:$A$7=1,ROW('Programming 2'!$A$3:$A$7)-2),ROW(2:2)),5),"")} | C7: {=IFERROR(INDEX('Programming 2'!$A$3:$F$7,SMALL(IF('Programming 2'!$A$3:$A$7=1,ROW('Programming 2'!$A$3:$A$7)-2),ROW(2:2)),6),"")} | F7: =IF(B7="","Hide","Show") -> Hide
B8: {=IFERROR(INDEX('Programming 2'!$A$3:$F$7,SMALL(IF('Programming 2'!$A$3:$A$7=1,ROW('Programming 2'!$A$3:$A$7)-2),ROW(3:3)),5),"")} | C8: {=IFERROR(INDEX('Programming 2'!$A$3:$F$7,SMALL(IF('Programming 2'!$A$3:$A$7=1,ROW('Programming 2'!$A$3:$A$7)-2),ROW(3:3)),6),"")} | F8: =IF(B8="","Hide","Show") -> Hide
B9: {=IFERROR(INDEX('Programming 2'!$A$3:$F$7,SMALL(IF('Programming 2'!$A$3:$A$7=1,ROW('Programming 2'!$A$3:$A$7)-2),ROW(4:4)),5),"")} | C9: {=IFERROR(INDEX('Programming 2'!$A$3:$F$7,SMALL(IF('Programming 2'!$A$3:$A$7=1,ROW('Programming 2'!$A$3:$A$7)-2),ROW(4:4)),6),"")} | F9: =IF(B9="","Hide","Show") -> Hide
B10: {=IFERROR(INDEX('Programming 2'!$A$3:$F$7,SMALL(IF('Programming 2'!$A$3:$A$7=1,ROW('Programming 2'!$A$3:$A$7)-2),ROW(5:5)),5),"")} | C10: {=IFERROR(INDEX('Programming 2'!$A$3:$F$7,SMALL(IF('Programming 2'!$A$3:$A$7=1,ROW('Programming 2'!$A$3:$A$7)-2),ROW(5:5)),6),"")} | F10: =IF(B10="","Hide","Show") -> Hide
A11: SO.2: Evidence of documented improvement in the enabling environment for family planning using a validated instrument | F11: Show
B12: {=IFERROR(INDEX('Programming 2'!$A$10:$F$14,SMALL(IF('Programming 2'!$A$10:$A$14=1,ROW('Programming 2'!$A$10:$A$14)-9),ROW(1:1)),5),"None")} -> None | C12: {=IFERROR(INDEX('Programming 2'!$A$10:$F$14,SMALL(IF('Programming 2'!$A$10:$A$14=1,ROW('Programming 2'!$A$10:$A$14)-9),ROW(1:1)),6),"")} | F12: =IF(B12="","Hide","Show") -> Show
B13: {=IFERROR(INDEX('Programming 2'!$A$10:$F$14,SMALL(IF('Programming 2'!$A$10:$A$14=1,ROW('Programming 2'!$A$10:$A$14)-9),ROW(2:2)),5),"")} | C13: {=IFERROR(INDEX('Programming 2'!$A$10:$F$14,SMALL(IF('Programming 2'!$A$10:$A$14=1,ROW('Programming 2'!$A$10:$A$14)-9),ROW(2:2)),6),"")} | F13: =IF(B13="","Hide","Show") -> Hide
B14: {=IFERROR(INDEX('Programming 2'!$A$10:$F$14,SMALL(IF('Programming 2'!$A$10:$A$14=1,ROW('Programming 2'!$A$10:$A$14)-9),ROW(3:3)),5),"")} | C14: {=IFERROR(INDEX('Programming 2'!$A$10:$F$14,SMALL(IF('Programming 2'!$A$10:$A$14=1,ROW('Programming 2'!$A$10:$A$14)-9),ROW(3:3)),6),"")} | F14: =IF(B14="","Hide","Show") -> Hide
B15: {=IFERROR(INDEX('Programming 2'!$A$10:$F$14,SMALL(IF('Programming 2'!$A$10:$A$14=1,ROW('Programming 2'!$A$10:$A$14)-9),ROW(4:4)),5),"")} | C15: {=IFERROR(INDEX('Programming 2'!$A$10:$F$14,SMALL(IF('Programming 2'!$A$10:$A$14=1,ROW('Programming 2'!$A$10:$A$14)-9),ROW(4:4)),6),"")} | F15: =IF(B15="","Hide","Show") -> Hide
B16: {=IFERROR(INDEX('Programming 2'!$A$10:$F$14,SMALL(IF('Programming 2'!$A$10:$A$14=1,ROW('Programming 2'!$A$10:$A$14)-9),ROW(5:5)),5),"")} | C16: {=IFERROR(INDEX('Programming 2'!$A$10:$F$14,SMALL(IF('Programming 2'!$A$10:$A$14=1,ROW('Programming 2'!$A$10:$A$14)-9),ROW(5:5)),6),"")} | F16: =IF(B16="","Hide","Show") -> Hide
A17: SO.3: Evidence of FP policies implemented, resources allocated and subsequently used in relation to the same FP policies | F17: Show
B18: {=IFERROR(INDEX('Programming 2'!$A$17:$F$20,SMALL(IF('Programming 2'!$A$17:$A$20=1,ROW('Programming 2'!$A$17:$A$20)-16),ROW(1:1)),5),"None")} -> None | C18: {=IFERROR(INDEX('Programming 2'!$A$17:$F$20,SMALL(IF('Programming 2'!$A$17:$A$20=1,ROW('Programming 2'!$A$17:$A$20)-16),ROW(1:1)),6),"")} | F18: =IF(B18="","Hide","Show") -> Show
B19: {=IFERROR(INDEX('Programming 2'!$A$17:$F$20,SMALL(IF('Programming 2'!$A$17:$A$20=1,ROW('Programming 2'!$A$17:$A$20)-16),ROW(2:2)),5),"")} | C19: {=IFERROR(INDEX('Programming 2'!$A$17:$F$20,SMALL(IF('Programming 2'!$A$17:$A$20=1,ROW('Programming 2'!$A$17:$A$20)-16),ROW(2:2)),6),"")} | F19: =IF(B19="","Hide","Show") -> Hide
B20: {=IFERROR(INDEX('Programming 2'!$A$17:$F$20,SMALL(IF('Programming 2'!$A$17:$A$20=1,ROW('Programming 2'!$A$17:$A$20)-16),ROW(3:3)),5),"")} | C20: {=IFERROR(INDEX('Programming 2'!$A$17:$F$20,SMALL(IF('Programming 2'!$A$17:$A$20=1,ROW('Programming 2'!$A$17:$A$20)-16),ROW(3:3)),6),"")} | F20: =IF(B20="","Hide","Show") -> Hide
B21: {=IFERROR(INDEX('Programming 2'!$A$17:$F$20,SMALL(IF('Programming 2'!$A$17:$A$20=1,ROW('Programming 2'!$A$17:$A$20)-16),ROW(4:4)),5),"")} | C21: {=IFERROR(INDEX('Programming 2'!$A$17:$F$20,SMALL(IF('Programming 2'!$A$17:$A$20=1,ROW('Programming 2'!$A$17:$A$20)-16),ROW(4:4)),6),"")} | F21: =IF(B21="","Hide","Show") -> Hide
A22: Intermediate Result 1 | F22: Show
A23: Resources for family planning increased, allocated, and spent more effectively and equitably | F23: Show
A24: IR1.1: Total resources spent on FP (by source and by activity/program area | F24: Show
B25: {=IFERROR(INDEX('Programming 2'!$A$24:$F$39,SMALL(IF('Programming 2'!$A$24:$A$39=1,ROW('Programming 2'!$A$24:$A$39)-23),ROW(1:1)),5),"None")} -> None | C25: {=IFERROR(INDEX('Programming 2'!$A$24:$F$39,SMALL(IF('Programming 2'!$A$24:$A$39=1,ROW('Programming 2'!$A$24:$A$39)-23),ROW(1:1)),6),"")} | F25: =IF(B25="","Hide","Show") -> Show
B26: {=IFERROR(INDEX('Programming 2'!$A$24:$F$39,SMALL(IF('Programming 2'!$A$24:$A$39=1,ROW('Programming 2'!$A$24:$A$39)-23),ROW(2:2)),5),"")} | C26: {=IFERROR(INDEX('Programming 2'!$A$24:$F$39,SMALL(IF('Programming 2'!$A$24:$A$39=1,ROW('Programming 2'!$A$24:$A$39)-23),ROW(2:2)),6),"")} | F26: =IF(B26="","Hide","Show") -> Hide
B27: {=IFERROR(INDEX('Programming 2'!$A$24:$F$39,SMALL(IF('Programming 2'!$A$24:$A$39=1,ROW('Programming 2'!$A$24:$A$39)-23),ROW(3:3)),5),"")} | C27: {=IFERROR(INDEX('Programming 2'!$A$24:$F$39,SMALL(IF('Programming 2'!$A$24:$A$39=1,ROW('Programming 2'!$A$24:$A$39)-23),ROW(3:3)),6),"")} | F27: =IF(B27="","Hide","Show") -> Hide
B28: {=IFERROR(INDEX('Programming 2'!$A$24:$F$39,SMALL(IF('Programming 2'!$A$24:$A$39=1,ROW('Programming 2'!$A$24:$A$39)-23),ROW(4:4)),5),"")} | C28: {=IFERROR(INDEX('Programming 2'!$A$24:$F$39,SMALL(IF('Programming 2'!$A$24:$A$39=1,ROW('Programming 2'!$A$24:$A$39)-23),ROW(4:4)),6),"")} | F28: =IF(B28="","Hide","Show") -> Hide
B29: {=IFERROR(INDEX('Programming 2'!$A$24:$F$39,SMALL(IF('Programming 2'!$A$24:$A$39=1,ROW('Programming 2'!$A$24:$A$39)-23),ROW(5:5)),5),"")} | C29: {=IFERROR(INDEX('Programming 2'!$A$24:$F$39,SMALL(IF('Programming 2'!$A$24:$A$39=1,ROW('Programming 2'!$A$24:$A$39)-23),ROW(5:5)),6),"")} | F29: =IF(B29="","Hide","Show") -> Hide
B30: {=IFERROR(INDEX('Programming 2'!$A$24:$F$39,SMALL(IF('Programming 2'!$A$24:$A$39=1,ROW('Programming 2'!$A$24:$A$39)-23),ROW(6:6)),5),"")} | C30: {=IFERROR(INDEX('Programming 2'!$A$24:$F$39,SMALL(IF('Programming 2'!$A$24:$A$39=1,ROW('Programming 2'!$A$24:$A$39)-23),ROW(6:6)),6),"")} | F30: =IF(B30="","Hide","Show") -> Hide
B31: {=IFERROR(INDEX('Programming 2'!$A$24:$F$39,SMALL(IF('Programming 2'!$A$24:$A$39=1,ROW('Programming 2'!$A$24:$A$39)-23),ROW(7:7)),5),"")} | C31: {=IFERROR(INDEX('Programming 2'!$A$24:$F$39,SMALL(IF('Programming 2'!$A$24:$A$39=1,ROW('Programming 2'!$A$24:$A$39)-23),ROW(7:7)),6),"")} | F31: =IF(B31="","Hide","Show") -> Hide
B32: {=IFERROR(INDEX('Programming 2'!$A$24:$F$39,SMALL(IF('Programming 2'!$A$24:$A$39=1,ROW('Programming 2'!$A$24:$A$39)-23),ROW(8:8)),5),"")} | C32: {=IFERROR(INDEX('Programming 2'!$A$24:$F$39,SMALL(IF('Programming 2'!$A$24:$A$39=1,ROW('Programming 2'!$A$24:$A$39)-23),ROW(8:8)),6),"")} | F32: =IF(B32="","Hide","Show") -> Hide
B33: {=IFERROR(INDEX('Programming 2'!$A$24:$F$39,SMALL(IF('Programming 2'!$A$24:$A$39=1,ROW('Programming 2'!$A$24:$A$39)-23),ROW(9:9)),5),"")} | C33: {=IFERROR(INDEX('Programming 2'!$A$24:$F$39,SMALL(IF('Programming 2'!$A$24:$A$39=1,ROW('Programming 2'!$A$24:$A$39)-23),ROW(9:9)),6),"")} | F33: =IF(B33="","Hide","Show") -> Hide
B34: {=IFERROR(INDEX('Programming 2'!$A$24:$F$39,SMALL(IF('Programming 2'!$A$24:$A$39=1,ROW('Programming 2'!$A$24:$A$39)-23),ROW(10:10)),5),"")} | C34: {=IFERROR(INDEX('Programming 2'!$A$24:$F$39,SMALL(IF('Programming 2'!$A$24:$A$39=1,ROW('Programming 2'!$A$24:$A$39)-23),ROW(10:10)),6),"")} | F34: =IF(B34="","Hide","Show") -> Hide
B35: {=IFERROR(INDEX('Programming 2'!$A$24:$F$39,SMALL(IF('Programming 2'!$A$24:$A$39=1,ROW('Programming 2'!$A$24:$A$39)-23),ROW(11:11)),5),"")} | C35: {=IFERROR(INDEX('Programming 2'!$A$24:$F$39,SMALL(IF('Programming 2'!$A$24:$A$39=1,ROW('Programming 2'!$A$24:$A$39)-23),ROW(11:11)),6),"")} | F35: =IF(B35="","Hide","Show") -> Hide
B36: {=IFERROR(INDEX('Programming 2'!$A$24:$F$39,SMALL(IF('Programming 2'!$A$24:$A$39=1,ROW('Programming 2'!$A$24:$A$39)-23),ROW(12:12)),5),"")} | C36: {=IFERROR(INDEX('Programming 2'!$A$24:$F$39,SMALL(IF('Programming 2'!$A$24:$A$39=1,ROW('Programming 2'!$A$24:$A$39)-23),ROW(12:12)),6),"")} | F36: =IF(B36="","Hide","Show") -> Hide
B37: {=IFERROR(INDEX('Programming 2'!$A$24:$F$39,SMALL(IF('Programming 2'!$A$24:$A$39=1,ROW('Programming 2'!$A$24:$A$39)-23),ROW(13:13)),5),"")} | C37: {=IFERROR(INDEX('Programming 2'!$A$24:$F$39,SMALL(IF('Programming 2'!$A$24:$A$39=1,ROW('Programming 2'!$A$24:$A$39)-23),ROW(13:13)),6),"")} | F37: =IF(B37="","Hide","Show") -> Hide
A38: IR1.2: Evidence of new financing mechanisms for family planning identified, tested, and / or scaled-up | F38: Show
B39: {=IFERROR(INDEX('Programming 2'!$A$40:$F$41,SMALL(IF('Programming 2'!$A$40:$A$41=1,ROW('Programming 2'!$A$40:$A$41)-39),ROW(1:1)),5),"None")} -> None | C39: {=IFERROR(INDEX('Programming 2'!$A$40:$F$41,SMALL(IF('Programming 2'!$A$40:$A$41=1,ROW('Programming 2'!$A$40:$A$41)-39),ROW(1:1)),6),"")} | F39: =IF(B39="","Hide","Show") -> Show
A40: IR1.3: Total resources allocated to FP (by source and by activity) | F40: Show
B41: {=IFERROR(INDEX('Programming 2'!$A$42:$F$58,SMALL(IF('Programming 2'!$A$42:$A$58=1,ROW('Programming 2'!$A$42:$A$58)-41),ROW(1:1)),5),"None")} -> None | C41: {=IFERROR(INDEX('Programming 2'!$A$42:$F$58,SMALL(IF('Programming 2'!$A$42:$A$58=1,ROW('Programming 2'!$A$42:$A$58)-41),ROW(1:1)),6),"")} | F41: =IF(B41="","Hide","Show") -> Show
B42: {=IFERROR(INDEX('Programming 2'!$A$42:$F$58,SMALL(IF('Programming 2'!$A$42:$A$58=1,ROW('Programming 2'!$A$42:$A$58)-41),ROW(2:2)),5),"")} | C42: {=IFERROR(INDEX('Programming 2'!$A$42:$F$58,SMALL(IF('Programming 2'!$A$42:$A$58=1,ROW('Programming 2'!$A$42:$A$58)-41),ROW(2:2)),6),"")} | F42: =IF(B42="","Hide","Show") -> Hide
B43: {=IFERROR(INDEX('Programming 2'!$A$42:$F$58,SMALL(IF('Programming 2'!$A$42:$A$58=1,ROW('Programming 2'!$A$42:$A$58)-41),ROW(3:3)),5),"")} | C43: {=IFERROR(INDEX('Programming 2'!$A$42:$F$58,SMALL(IF('Programming 2'!$A$42:$A$58=1,ROW('Programming 2'!$A$42:$A$58)-41),ROW(3:3)),6),"")} | F43: =IF(B43="","Hide","Show") -> Hide
B44: {=IFERROR(INDEX('Programming 2'!$A$42:$F$58,SMALL(IF('Programming 2'!$A$42:$A$58=1,ROW('Programming 2'!$A$42:$A$58)-41),ROW(4:4)),5),"")} | C44: {=IFERROR(INDEX('Programming 2'!$A$42:$F$58,SMALL(IF('Programming 2'!$A$42:$A$58=1,ROW('Programming 2'!$A$42:$A$58)-41),ROW(4:4)),6),"")} | F44: =IF(B44="","Hide","Show") -> Hide
B45: {=IFERROR(INDEX('Programming 2'!$A$42:$F$58,SMALL(IF('Programming 2'!$A$42:$A$58=1,ROW('Programming 2'!$A$42:$A$58)-41),ROW(5:5)),5),"")} | C45: {=IFERROR(INDEX('Programming 2'!$A$42:$F$58,SMALL(IF('Programming 2'!$A$42:$A$58=1,ROW('Programming 2'!$A$42:$A$58)-41),ROW(5:5)),6),"")} | F45: =IF(B45="","Hide","Show") -> Hide
B46: {=IFERROR(INDEX('Programming 2'!$A$42:$F$58,SMALL(IF('Programming 2'!$A$42:$A$58=1,ROW('Programming 2'!$A$42:$A$58)-41),ROW(6:6)),5),"")} | C46: {=IFERROR(INDEX('Programming 2'!$A$42:$F$58,SMALL(IF('Programming 2'!$A$42:$A$58=1,ROW('Programming 2'!$A$42:$A$58)-41),ROW(6:6)),6),"")} | F46: =IF(B46="","Hide","Show") -> Hide
B47: {=IFERROR(INDEX('Programming 2'!$A$42:$F$58,SMALL(IF('Programming 2'!$A$42:$A$58=1,ROW('Programming 2'!$A$42:$A$58)-41),ROW(7:7)),5),"")} | C47: {=IFERROR(INDEX('Programming 2'!$A$42:$F$58,SMALL(IF('Programming 2'!$A$42:$A$58=1,ROW('Programming 2'!$A$42:$A$58)-41),ROW(7:7)),6),"")} | F47: =IF(B47="","Hide","Show") -> Hide
B48: {=IFERROR(INDEX('Programming 2'!$A$42:$F$58,SMALL(IF('Programming 2'!$A$42:$A$58=1,ROW('Programming 2'!$A$42:$A$58)-41),ROW(8:8)),5),"")} | C48: {=IFERROR(INDEX('Programming 2'!$A$42:$F$58,SMALL(IF('Programming 2'!$A$42:$A$58=1,ROW('Programming 2'!$A$42:$A$58)-41),ROW(8:8)),6),"")} | F48: =IF(B48="","Hide","Show") -> Hide
B49: {=IFERROR(INDEX('Programming 2'!$A$42:$F$58,SMALL(IF('Programming 2'!$A$42:$A$58=1,ROW('Programming 2'!$A$42:$A$58)-41),ROW(9:9)),5),"")} | C49: {=IFERROR(INDEX('Programming 2'!$A$42:$F$58,SMALL(IF('Programming 2'!$A$42:$A$58=1,ROW('Programming 2'!$A$42:$A$58)-41),ROW(9:9)),6),"")} | F49: =IF(B49="","Hide","Show") -> Hide
B50: {=IFERROR(INDEX('Programming 2'!$A$42:$F$58,SMALL(IF('Programming 2'!$A$42:$A$58=1,ROW('Programming 2'!$A$42:$A$58)-41),ROW(10:10)),5),"")} | C50: {=IFERROR(INDEX('Programming 2'!$A$42:$F$58,SMALL(IF('Programming 2'!$A$42:$A$58=1,ROW('Programming 2'!$A$42:$A$58)-41),ROW(10:10)),6),"")} | F50: =IF(B50="","Hide","Show") -> Hide
B51: {=IFERROR(INDEX('Programming 2'!$A$42:$F$58,SMALL(IF('Programming 2'!$A$42:$A$58=1,ROW('Programming 2'!$A$42:$A$58)-41),ROW(11:11)),5),"")} | C51: {=IFERROR(INDEX('Programming 2'!$A$42:$F$58,SMALL(IF('Programming 2'!$A$42:$A$58=1,ROW('Programming 2'!$A$42:$A$58)-41),ROW(11:11)),6),"")} | F51: =IF(B51="","Hide","Show") -> Hide
B52: {=IFERROR(INDEX('Programming 2'!$A$42:$F$58,SMALL(IF('Programming 2'!$A$42:$A$58=1,ROW('Programming 2'!$A$42:$A$58)-41),ROW(12:12)),5),"")} | C52: {=IFERROR(INDEX('Programming 2'!$A$42:$F$58,SMALL(IF('Programming 2'!$A$42:$A$58=1,ROW('Programming 2'!$A$42:$A$58)-41),ROW(12:12)),6),"")} | F52: =IF(B52="","Hide","Show") -> Hide
A53: IR1.4: New and/or increased resources are committed to FP in the last two years | F53: Show
B54: {=IFERROR(INDEX('Programming 2'!$A$61:$F$62,SMALL(IF('Programming 2'!$A$61:$A$62=1,ROW('Programming 2'!$A$61:$A$62)-60),ROW(1:1)),5),"None")} -> None | C54: {=IFERROR(INDEX('Programming 2'!$A$61:$F$62,SMALL(IF('Programming 2'!$A$61:$A$62=1,ROW('Programming 2'!$A$61:$A$62)-60),ROW(1:1)),6),"")} | F54: =IF(B54="","Hide","Show") -> Show
B55: {=IFERROR(INDEX('Programming 2'!$A$61:$F$62,SMALL(IF('Programming 2'!$A$61:$A$62=1,ROW('Programming 2'!$A$61:$A$62)-60),ROW(2:2)),5),"")} | C55: {=IFERROR(INDEX('Programming 2'!$A$61:$F$62,SMALL(IF('Programming 2'!$A$61:$A$62=1,ROW('Programming 2'!$A$61:$A$62)-60),ROW(2:2)),6),"")} | F55: =IF(B55="","Hide","Show") -> Hide
A56: Intermediate Result 2 | F56: Show
A57: Increased multisectoral coordination in the design, implementation, and financing of family planning policies and programs | F57: Show
A58: IR2.1: Evidence of family planning programs incorporated into national strategic and development plans | F58: Show
B59: {=IFERROR(INDEX('Programming 2'!$A$66:$F$74,SMALL(IF('Programming 2'!$A$66:$A$74=1,ROW('Programming 2'!$A$66:$A$74)-65),ROW(1:1)),5),"None")} -> None | C59: {=IFERROR(INDEX('Programming 2'!$A$66:$F$74,SMALL(IF('Programming 2'!$A$66:$A$74=1,ROW('Programming 2'!$A$66:$A$74)-65),ROW(1:1)),6),"")} | F59: =IF(B59="","Hide","Show") -> Show
B60: {=IFERROR(INDEX('Programming 2'!$A$66:$F$74,SMALL(IF('Programming 2'!$A$66:$A$74=1,ROW('Programming 2'!$A$66:$A$74)-65),ROW(2:2)),5),"")} | C60: {=IFERROR(INDEX('Programming 2'!$A$66:$F$74,SMALL(IF('Programming 2'!$A$66:$A$74=1,ROW('Programming 2'!$A$66:$A$74)-65),ROW(2:2)),6),"")} | F60: =IF(B60="","Hide","Show") -> Hide
B61: {=IFERROR(INDEX('Programming 2'!$A$66:$F$74,SMALL(IF('Programming 2'!$A$66:$A$74=1,ROW('Programming 2'!$A$66:$A$74)-65),ROW(3:3)),5),"")} | C61: {=IFERROR(INDEX('Programming 2'!$A$66:$F$74,SMALL(IF('Programming 2'!$A$66:$A$74=1,ROW('Programming 2'!$A$66:$A$74)-65),ROW(3:3)),6),"")} | F61: =IF(B61="","Hide","Show") -> Hide
B62: {=IFERROR(INDEX('Programming 2'!$A$66:$F$74,SMALL(IF('Programming 2'!$A$66:$A$74=1,ROW('Programming 2'!$A$66:$A$74)-65),ROW(4:4)),5),"")} | C62: {=IFERROR(INDEX('Programming 2'!$A$66:$F$74,SMALL(IF('Programming 2'!$A$66:$A$74=1,ROW('Programming 2'!$A$66:$A$74)-65),ROW(4:4)),6),"")} | F62: =IF(B62="","Hide","Show") -> Hide
B63: {=IFERROR(INDEX('Programming 2'!$A$66:$F$74,SMALL(IF('Programming 2'!$A$66:$A$74=1,ROW('Programming 2'!$A$66:$A$74)-65),ROW(5:5)),5),"")} | C63: {=IFERROR(INDEX('Programming 2'!$A$66:$F$74,SMALL(IF('Programming 2'!$A$66:$A$74=1,ROW('Programming 2'!$A$66:$A$74)-65),ROW(5:5)),6),"")} | F63: =IF(B63="","Hide","Show") -> Hide
B64: {=IFERROR(INDEX('Programming 2'!$A$66:$F$74,SMALL(IF('Programming 2'!$A$66:$A$74=1,ROW('Programming 2'!$A$66:$A$74)-65),ROW(6:6)),5),"")} | C64: {=IFERROR(INDEX('Programming 2'!$A$66:$F$74,SMALL(IF('Programming 2'!$A$66:$A$74=1,ROW('Programming 2'!$A$66:$A$74)-65),ROW(6:6)),6),"")} | F64: =IF(B64="","Hide","Show") -> Hide
B65: {=IFERROR(INDEX('Programming 2'!$A$66:$F$74,SMALL(IF('Programming 2'!$A$66:$A$74=1,ROW('Programming 2'!$A$66:$A$74)-65),ROW(7:7)),5),"")} | C65: {=IFERROR(INDEX('Programming 2'!$A$66:$F$74,SMALL(IF('Programming 2'!$A$66:$A$74=1,ROW('Programming 2'!$A$66:$A$74)-65),ROW(7:7)),6),"")} | F65: =IF(B65="","Hide","Show") -> Hide
B66: {=IFERROR(INDEX('Programming 2'!$A$66:$F$74,SMALL(IF('Programming 2'!$A$66:$A$74=1,ROW('Programming 2'!$A$66:$A$74)-65),ROW(8:8)),5),"")} | C66: {=IFERROR(INDEX('Programming 2'!$A$66:$F$74,SMALL(IF('Programming 2'!$A$66:$A$74=1,ROW('Programming 2'!$A$66:$A$74)-65),ROW(8:8)),6),"")} | F66: =IF(B66="","Hide","Show") -> Hide
A67: IR2.2: Evidence of governments engaging multiple sectors in family planning activities | F67: Show
B68: {=IFERROR(INDEX('Programming 2'!$A$78:$F$94,SMALL(IF('Programming 2'!$A$78:$A$94=1,ROW('Programming 2'!$A$78:$A$94)-77),ROW(1:1)),5),"None")} -> None | C68: {=IFERROR(INDEX('Programming 2'!$A$78:$F$94,SMALL(IF('Programming 2'!$A$78:$A$94=1,ROW('Programming 2'!$A$78:$A$94)-77),ROW(1:1)),6),"")} | F68: =IF(B68="","Hide","Show") -> Show
B69: {=IFERROR(INDEX('Programming 2'!$A$78:$F$94,SMALL(IF('Programming 2'!$A$78:$A$94=1,ROW('Programming 2'!$A$78:$A$94)-77),ROW(2:2)),5),"")} | C69: {=IFERROR(INDEX('Programming 2'!$A$78:$F$94,SMALL(IF('Programming 2'!$A$78:$A$94=1,ROW('Programming 2'!$A$78:$A$94)-77),ROW(2:2)),6),"")} | F69: =IF(B69="","Hide","Show") -> Hide
B70: {=IFERROR(INDEX('Programming 2'!$A$78:$F$94,SMALL(IF('Programming 2'!$A$78:$A$94=1,ROW('Programming 2'!$A$78:$A$94)-77),ROW(3:3)),5),"")} | C70: {=IFERROR(INDEX('Programming 2'!$A$78:$F$94,SMALL(IF('Programming 2'!$A$78:$A$94=1,ROW('Programming 2'!$A$78:$A$94)-77),ROW(3:3)),6),"")} | F70: =IF(B70="","Hide","Show") -> Hide
B71: {=IFERROR(INDEX('Programming 2'!$A$78:$F$94,SMALL(IF('Programming 2'!$A$78:$A$94=1,ROW('Programming 2'!$A$78:$A$94)-77),ROW(4:4)),5),"")} | C71: {=IFERROR(INDEX('Programming 2'!$A$78:$F$94,SMALL(IF('Programming 2'!$A$78:$A$94=1,ROW('Programming 2'!$A$78:$A$94)-77),ROW(4:4)),6),"")} | F71: =IF(B71="","Hide","Show") -> Hide
B72: {=IFERROR(INDEX('Programming 2'!$A$78:$F$94,SMALL(IF('Programming 2'!$A$78:$A$94=1,ROW('Programming 2'!$A$78:$A$94)-77),ROW(5:5)),5),"")} | C72: {=IFERROR(INDEX('Programming 2'!$A$78:$F$94,SMALL(IF('Programming 2'!$A$78:$A$94=1,ROW('Programming 2'!$A$78:$A$94)-77),ROW(5:5)),6),"")} | F72: =IF(B72="","Hide","Show") -> Hide
B73: {=IFERROR(INDEX('Programming 2'!$A$78:$F$94,SMALL(IF('Programming 2'!$A$78:$A$94=1,ROW('Programming 2'!$A$78:$A$94)-77),ROW(6:6)),5),"")} | C73: {=IFERROR(INDEX('Programming 2'!$A$78:$F$94,SMALL(IF('Programming 2'!$A$78:$A$94=1,ROW('Programming 2'!$A$78:$A$94)-77),ROW(6:6)),6),"")} | F73: =IF(B73="","Hide","Show") -> Hide
B74: {=IFERROR(INDEX('Programming 2'!$A$78:$F$94,SMALL(IF('Programming 2'!$A$78:$A$94=1,ROW('Programming 2'!$A$78:$A$94)-77),ROW(7:7)),5),"")} | C74: {=IFERROR(INDEX('Programming 2'!$A$78:$F$94,SMALL(IF('Programming 2'!$A$78:$A$94=1,ROW('Programming 2'!$A$78:$A$94)-77),ROW(7:7)),6),"")} | F74: =IF(B74="","Hide","Show") -> Hide
B75: {=IFERROR(INDEX('Programming 2'!$A$78:$F$94,SMALL(IF('Programming 2'!$A$78:$A$94=1,ROW('Programming 2'!$A$78:$A$94)-77),ROW(8:8)),5),"")} | C75: {=IFERROR(INDEX('Programming 2'!$A$78:$F$94,SMALL(IF('Programming 2'!$A$78:$A$94=1,ROW('Programming 2'!$A$78:$A$94)-77),ROW(8:8)),6),"")} | F75: =IF(B75="","Hide","Show") -> Hide
B76: {=IFERROR(INDEX('Programming 2'!$A$78:$F$94,SMALL(IF('Programming 2'!$A$78:$A$94=1,ROW('Programming 2'!$A$78:$A$94)-77),ROW(9:9)),5),"")} | C76: {=IFERROR(INDEX('Programming 2'!$A$78:$F$94,SMALL(IF('Programming 2'!$A$78:$A$94=1,ROW('Programming 2'!$A$78:$A$94)-77),ROW(9:9)),6),"")} | F76: =IF(B76="","Hide","Show") -> Hide
B77: {=IFERROR(INDEX('Programming 2'!$A$78:$F$94,SMALL(IF('Programming 2'!$A$78:$A$94=1,ROW('Programming 2'!$A$78:$A$94)-77),ROW(10:10)),5),"")} | C77: {=IFERROR(INDEX('Programming 2'!$A$78:$F$94,SMALL(IF('Programming 2'!$A$78:$A$94=1,ROW('Programming 2'!$A$78:$A$94)-77),ROW(10:10)),6),"")} | F77: =IF(B77="","Hide","Show") -> Hide
B78: {=IFERROR(INDEX('Programming 2'!$A$78:$F$94,SMALL(IF('Programming 2'!$A$78:$A$94=1,ROW('Programming 2'!$A$78:$A$94)-77),ROW(11:11)),5),"")} | C78: {=IFERROR(INDEX('Programming 2'!$A$78:$F$94,SMALL(IF('Programming 2'!$A$78:$A$94=1,ROW('Programming 2'!$A$78:$A$94)-77),ROW(11:11)),6),"")} | F78: =IF(B78="","Hide","Show") -> Hide
B79: {=IFERROR(INDEX('Programming 2'!$A$78:$F$94,SMALL(IF('Programming 2'!$A$78:$A$94=1,ROW('Programming 2'!$A$78:$A$94)-77),ROW(12:12)),5),"")} | C79: {=IFERROR(INDEX('Programming 2'!$A$78:$F$94,SMALL(IF('Programming 2'!$A$78:$A$94=1,ROW('Programming 2'!$A$78:$A$94)-77),ROW(12:12)),6),"")} | F79: =IF(B79="","Hide","Show") -> Hide
B80: {=IFERROR(INDEX('Programming 2'!$A$78:$F$94,SMALL(IF('Programming 2'!$A$78:$A$94=1,ROW('Programming 2'!$A$78:$A$94)-77),ROW(13:13)),5),"")} | C80: {=IFERROR(INDEX('Programming 2'!$A$78:$F$94,SMALL(IF('Programming 2'!$A$78:$A$94=1,ROW('Programming 2'!$A$78:$A$94)-77),ROW(13:13)),6),"")} | F80: =IF(B80="","Hide","Show") -> Hide
B81: {=IFERROR(INDEX('Programming 2'!$A$78:$F$94,SMALL(IF('Programming 2'!$A$78:$A$94=1,ROW('Programming 2'!$A$78:$A$94)-77),ROW(14:14)),5),"")} | C81: {=IFERROR(INDEX('Programming 2'!$A$78:$F$94,SMALL(IF('Programming 2'!$A$78:$A$94=1,ROW('Programming 2'!$A$78:$A$94)-77),ROW(14:14)),6),"")} | F81: =IF(B81="","Hide","Show") -> Hide
B82: {=IFERROR(INDEX('Programming 2'!$A$78:$F$94,SMALL(IF('Programming 2'!$A$78:$A$94=1,ROW('Programming 2'!$A$78:$A$94)-77),ROW(15:15)),5),"")} | C82: {=IFERROR(INDEX('Programming 2'!$A$78:$F$94,SMALL(IF('Programming 2'!$A$78:$A$94=1,ROW('Programming 2'!$A$78:$A$94)-77),ROW(15:15)),6),"")} | F82: =IF(B82="","Hide","Show") -> Hide
B83: {=IFERROR(INDEX('Programming 2'!$A$78:$F$94,SMALL(IF('Programming 2'!$A$78:$A$94=1,ROW('Programming 2'!$A$78:$A$94)-77),ROW(16:16)),5),"")} | C83: {=IFERROR(INDEX('Programming 2'!$A$78:$F$94,SMALL(IF('Programming 2'!$A$78:$A$94=1,ROW('Programming 2'!$A$78:$A$94)-77),ROW(16:16)),6),"")} | F83: =IF(B83="","Hide","Show") -> Hide
A84: IR2.3: Evidence of multisectoral structures that are established or strengthened to promote FP policy | F84: Show
B85: {=IFERROR(INDEX('Programming 2'!$A$95:$F$117,SMALL(IF('Programming 2'!$A$95:$A$117=1,ROW('Programming 2'!$A$95:$A$117)-94),ROW(1:1)),5),"None")} -> None | C85: {=IFERROR(INDEX('Programming 2'!$A$95:$F$117,SMALL(IF('Programming 2'!$A$95:$A$117=1,ROW('Programming 2'!$A$95:$A$117)-94),ROW(1:1)),6),"")} | F85: =IF(B85="","Hide","Show") -> Show
B86: {=IFERROR(INDEX('Programming 2'!$A$95:$F$117,SMALL(IF('Programming 2'!$A$95:$A$117=1,ROW('Programming 2'!$A$95:$A$117)-94),ROW(2:2)),5),"")} | C86: {=IFERROR(INDEX('Programming 2'!$A$95:$F$117,SMALL(IF('Programming 2'!$A$95:$A$117=1,ROW('Programming 2'!$A$95:$A$117)-94),ROW(2:2)),6),"")} | F86: =IF(B86="","Hide","Show") -> Hide
B87: {=IFERROR(INDEX('Programming 2'!$A$95:$F$117,SMALL(IF('Programming 2'!$A$95:$A$117=1,ROW('Programming 2'!$A$95:$A$117)-94),ROW(3:3)),5),"")} | C87: {=IFERROR(INDEX('Programming 2'!$A$95:$F$117,SMALL(IF('Programming 2'!$A$95:$A$117=1,ROW('Programming 2'!$A$95:$A$117)-94),ROW(3:3)),6),"")} | F87: =IF(B87="","Hide","Show") -> Hide
B88: {=IFERROR(INDEX('Programming 2'!$A$95:$F$117,SMALL(IF('Programming 2'!$A$95:$A$117=1,ROW('Programming 2'!$A$95:$A$117)-94),ROW(4:4)),5),"")} | C88: {=IFERROR(INDEX('Programming 2'!$A$95:$F$117,SMALL(IF('Programming 2'!$A$95:$A$117=1,ROW('Programming 2'!$A$95:$A$117)-94),ROW(4:4)),6),"")} | F88: =IF(B88="","Hide","Show") -> Hide
B89: {=IFERROR(INDEX('Programming 2'!$A$95:$F$117,SMALL(IF('Programming 2'!$A$95:$A$117=1,ROW('Programming 2'!$A$95:$A$117)-94),ROW(5:5)),5),"")} | C89: {=IFERROR(INDEX('Programming 2'!$A$95:$F$117,SMALL(IF('Programming 2'!$A$95:$A$117=1,ROW('Programming 2'!$A$95:$A$117)-94),ROW(5:5)),6),"")} | F89: =IF(B89="","Hide","Show") -> Hide
B90: {=IFERROR(INDEX('Programming 2'!$A$95:$F$117,SMALL(IF('Programming 2'!$A$95:$A$117=1,ROW('Programming 2'!$A$95:$A$117)-94),ROW(6:6)),5),"")} | C90: {=IFERROR(INDEX('Programming 2'!$A$95:$F$117,SMALL(IF('Programming 2'!$A$95:$A$117=1,ROW('Programming 2'!$A$95:$A$117)-94),ROW(6:6)),6),"")} | F90: =IF(B90="","Hide","Show") -> Hide
