Workbook
Name _GoBack: SO!$H$6

Sheet Introduction

Sheet SO
A1: Strategic Objective | J1: Hide these columns
A2: Increased stewardship of and strengthened enabling environment for effective, equitable and sustainable family planning programming
A3: Country: | E3: Date:
A4: Indicator | D4: Response | G4: Score | H4: Comments
A5: SO.1: Instances of a government-led council, coalition or entity that oversees and actively manages the family planning program | J5: Green | K5: Yellow | L5: Orange | M5: Red
A6: SO.1.1 | B6: Is there a government-led council or coalition that oversees FP? | J6: =IF(D6='Programming 1'!$A$10,1,"") | M6: =IF(D6='Programming 1'!$A$11,1,"") | O6: SO.1.1 is "No"
A7: SO.1.2 | B7: Does the council or coalition have influence? | J7: =IF($O7=1,"",IF($D7='Programming 1'!$A$3,1,"")) | K7: =IF($O7=1,"",IF($D7='Programming 1'!$A$4,1,"")) | L7: =IF($O7=1,"",IF($D7='Programming 1'!$A$5,1,"")) | M7: =IF(OR($O7=1,$D7='Programming 1'!$A$6),1,"") | O7: =IF($M$6=1,1,"")
A8: SO.1.3 | B8: Does the council or coalition have its own funding? | J8: =IF($O8=1,"",IF(D8='Programming 1'!$A$10,1,"")) | M8: =IF(OR($O8=1,$D8='Programming 1'!$A$11),1,"") | O8: =IF($M$6=1,1,"")
A9: SO.1.4 | B9: Does the council or coalition control how funding is allocated? | J9: =IF($O9=1,"",IF($D9='Programming 1'!$A$75,1,"")) | K9: =IF($O9=1,"",IF($D9='Programming 1'!$A$76,1,"")) | L9: =IF($O9=1,"",IF($D9='Programming 1'!$A$77,1,"")) | M9: =IF(OR($O9=1,$D9='Programming 1'!$A$78),1,"") | O9: =IF($M$6=1,1,"")
A10: SO.1.5 | B10: Does the council or coalition actively coordinate and manage the national FP program? | J10: =IF($O10=1,"",IF(D10='Programming 1'!$A$10,1,"")) | M10: =IF(OR($O10=1,$D10='Programming 1'!$A$11),1,"") | O10: =IF($M$6=1,1,"")
A11: SO.2: Evidence of documented improvement in the enabling environment for family planning using a validated instrument
A12: Indicator | C12: Applicable? | D12: Data Point 1 (required) | E12: Data Point 2 (required) | F12: Regional or Target (optional) | G12: Score | H12: Comments | O12: Not applicable | P12: No data | Q12: No regional target | R12: Trend | S12: Point 2 relative to region
A13: SO.2.1 | B13: Does the most recent FPES show improvement in the FP enabling environment? (Please enter most recent score along with a historical score and regional comparison) | C13: Applicable | J13: =IF($O13=1,"",IF($P13=1,"",IF($Q13=1,IF($R13="up",1,""),IF(AND($R13="up",$S13="above"),1,"")))) | K13: =IF($O13=1,"",IF($P13=1,"",IF($Q13=1,"",IF(OR(AND($R13="up",$S13="equal"),AND($R13="flat",$S13="above"),AND($R13="down",$S13="above"),AND($R13="up",$S13="below")),1,"")))) | L13: =IF($O13=1,"",IF($P13=1,"",IF($Q13=1,IF($R13="flat",1,""),IF(OR(AND($R13="down",$S13="equal"),AND($R13="flat",$S13="below"),AND($R13="flat",$S13="equal")),1,"")))) | M13: =IF($O13=1,"",IF($P13=1,"",IF($Q13=1,IF($R13="down",1,""),IF(AND($R13="down",$S13="below"),1,"")))) | O13: =IF($C13='Programming 1'!$A$81,1,IF($C13='Programming 1'!$A$80,"","ERROR")) | P13: =IF(AND(ISBLANK($D13),ISBLANK($E13),ISBLANK($F13)),1,"") -> 1 | Q13: =IF(ISBLANK($F13),1,"") -> 1 | R13: =IF($E13>$D13,"up",IF($E13=$D13,"flat",IF($E13<$D13,"down","ERROR"))) -> flat | S13: =IF(ISBLANK($F13),"no target",IF($E13>$F13,"above",IF($E13=$F13,"equal",IF($E13<$F13,"below","ERROR")))) -> no target
A14: SO.2.2 | B14: Does the most recent PES show improvement in the FP enabling environment? (Please enter most recent score along with a historical score and regional comparison) | C14: Not applicable | J14: =IF($O14=1,"",IF($P14=1,"",IF($Q14=1,IF($R14="up",1,""),IF(AND($R14="up",$S14="above"),1,"")))) | K14: =IF($O14=1,"",IF($P14=1,"",IF($Q14=1,"",IF(OR(AND($R14="up",$S14="equal"),AND($R14="flat",$S14="above"),AND($R14="down",$S14="above"),AND($R14="up",$S14="below")),1,"")))) | L14: =IF($O14=1,"",IF($P14=1,"",IF($Q14=1,IF($R14="flat",1,""),IF(OR(AND($R14="down",$S14="equal"),AND($R14="flat",$S14="below"),AND($R14="flat",$S14="equal")),1,"")))) | M14: =IF($O14=1,"",IF($P14=1,"",IF($Q14=1,IF($R14="down",1,""),IF(AND($R14="down",$S14="below"),1,"")))) | O14: =IF($C14='Programming 1'!$A$81,1,IF($C14='Programming 1'!$A$80,"","ERROR")) -> 1 | P14: =IF(AND(ISBLANK($D14),ISBLANK($E14),ISBLANK($F14)),1,"") -> 1 | Q14: =IF(ISBLANK($F14),1,"") -> 1 | R14: =IF($E14>$D14,"up",IF($E14=$D14,"flat",IF($E14<$D14,"down","ERROR"))) -> flat | S14: =IF(ISBLANK($F14),"no target",IF($E14>$F14,"above",IF($E14=$F14,"equal",IF($E14<$F14,"below","ERROR")))) -> no target
A15: SO.2.3 | B15: Does the most recent Maternal and Neonatal Program Effort Index (MNPI) show improvement in the FP enabling environment? (Please enter most recent score along with a historical score and regional comparison) | C15: Applicable | J15: =IF($O15=1,"",IF($P15=1,"",IF($Q15=1,IF($R15="up",1,""),IF(AND($R15="up",$S15="above"),1,"")))) | K15: =IF($O15=1,"",IF($P15=1,"",IF($Q15=1,"",IF(OR(AND($R15="up",$S15="equal"),AND($R15="flat",$S15="above"),AND($R15="down",$S15="above"),AND($R15="up",$S15="below")),1,"")))) | L15: =IF($O15=1,"",IF($P15=1,"",IF($Q15=1,IF($R15="flat",1,""),IF(OR(AND($R15="down",$S15="equal"),AND($R15="flat",$S15="below"),AND($R15="flat",$S15="equal")),1,"")))) | M15: =IF($O15=1,"",IF($P15=1,"",IF($Q15=1,IF($R15="down",1,""),IF(AND($R15="down",$S15="below"),1,"")))) | O15: =IF($C15='Programming 1'!$A$81,1,IF($C15='Programming 1'!$A$80,"","ERROR")) | P15: =IF(AND(ISBLANK($D15),ISBLANK($E15),ISBLANK($F15)),1,"") -> 1 | Q15: =IF(ISBLANK($F15),1,"") -> 1 | R15: =IF($E15>$D15,"up",IF($E15=$D15,"flat",IF($E15<$D15,"down","ERROR"))) -> flat | S15: =IF(ISBLANK($F15),"no target",IF($E15>$F15,"above",IF($E15=$F15,"equal",IF($E15<$F15,"below","ERROR")))) -> no target
A16: SO.2.4 | B16: Does the most recent CS Index show improvement in the FP enabling environment? (Please enter most recent score along with a historical score and regional comparison) | C16: Not applicable | J16: =IF($O16=1,"",IF($P16=1,"",IF($Q16=1,IF($R16="up",1,""),IF(AND($R16="up",$S16="above"),1,"")))) | K16: =IF($O16=1,"",IF($P16=1,"",IF($Q16=1,"",IF(OR(AND($R16="up",$S16="equal"),AND($R16="flat",$S16="above"),AND($R16="down",$S16="above"),AND($R16="up",$S16="below")),1,"")))) | L16: =IF($O16=1,"",IF($P16=1,"",IF($Q16=1,IF($R16="flat",1,""),IF(OR(AND($R16="down",$S16="equal"),AND($R16="flat",$S16="below"),AND($R16="flat",$S16="equal")),1,"")))) | M16: =IF($O16=1,"",IF($P16=1,"",IF($Q16=1,IF($R16="down",1,""),IF(AND($R16="down",$S16="below"),1,"")))) | O16: =IF($C16='Programming 1'!$A$81,1,IF($C16='Programming 1'!$A$80,"","ERROR")) -> 1 | P16: =IF(AND(ISBLANK($D16),ISBLANK($E16),ISBLANK($F16)),1,"") -> 1 | Q16: =IF(ISBLANK($F16),1,"") -> 1 | R16: =IF($E16>$D16,"up",IF($E16=$D16,"flat",IF($E16<$D16,"down","ERROR"))) -> flat | S16: =IF(ISBLANK($F16),"no target",IF($E16>$F16,"above",IF($E16=$F16,"equal",IF($E16<$F16,"below","ERROR")))) -> no target
A17: SO.2.5 | B17: Is there another validated measure that shows improvement in the FP enabling environment? (specify measure in comments and enter most recent score along with a historical score and regional comparison) | C17: Applicable | J17: =IF($O17=1,"",IF($P17=1,"",IF($Q17=1,IF($R17="up",1,""),IF(AND($R17="up",$S17="above"),1,"")))) | K17: =IF($O17=1,"",IF($P17=1,"",IF($Q17=1,"",IF(OR(AND($R17="up",$S17="equal"),AND($R17="flat",$S17="above"),AND($R17="down",$S17="above"),AND($R17="up",$S17="below")),1,"")))) | L17: =IF($O17=1,"",IF($P17=1,"",IF($Q17=1,IF($R17="flat",1,""),IF(OR(AND($R17="down",$S17="equal"),AND($R17="flat",$S17="below"),AND($R17="flat",$S17="equal")),1,"")))) | M17: =IF($O17=1,"",IF($P17=1,"",IF($Q17=1,IF($R17="down",1,""),IF(AND($R17="down",$S17="below"),1,"")))) | O17: =IF($C17='Programming 1'!$A$81,1,IF($C17='Programming 1'!$A$80,"","ERROR")) | P17: =IF(AND(ISBLANK($D17),ISBLANK($E17),ISBLANK($F17)),1,"") -> 1 | Q17: =IF(ISBLANK($F17),1,"") -> 1 | R17: =IF($E17>$D17,"up",IF($E17=$D17,"flat",IF($E17<$D17,"down","ERROR"))) -> flat | S17: =IF(ISBLANK($F17),"no target",IF($E17>$F17,"above",IF($E17=$F17,"equal",IF($E17<$F17,"below","ERROR")))) -> no target
A18: SO.3: Evidence of FP policies implemented, resources allocated and subsequently used in relation to the same FP policies
A19: Indicator | D19: Response | G19: Score | H19: Comments
A20: SO.3.1 | B20: Is there evidence of policy implementation? | J20: =IF($D20='Programming 1'!$A$3,1,"") | K20: =IF($D20='Programming 1'!$A$4,1,"") | L20: =IF($D20='Programming 1'!$A$5,1,"") | M20: =IF($D20='Programming 1'!$A$6,1,"")
A21: SO.3.2 | B21: Were resources allocated to support FP policy? | J21: =IF($D21='Programming 1'!$A$3,1,"") | K21: =IF($D21='Programming 1'!$A$4,1,"") | L21: =IF($D21='Programming 1'!$A$5,1,"") | M21: =IF($D21='Programming 1'!$A$6,1,"")
A22: SO.3.3 | B22: Were resources released to support FP policy? | J22: =IF($D22='Programming 1'!$A$3,1,"") | K22: =IF($D22='Programming 1'!$A$4,1,"") | L22: =IF($D22='Programming 1'!$A$5,1,"") | M22: =IF($D22='Programming 1'!$A$6,1,"")
A23: SO.3.4 | B23: Were resources expended /used to support the FP policy? | J23: =IF($D23='Programming 1'!$A$3,1,"") | K23: =IF($D23='Programming 1'!$A$4,1,"") | L23: =IF($D23='Programming 1'!$A$5,1,"") | M23: =IF($D23='Programming 1'!$A$6,1,"")
J24: =SUM(J6:J23) -> 0 | K24: =SUM(K6:K23) -> 0 | L24: =SUM(L6:L23) -> 0 | M24: =SUM(M6:M23) -> 0 | N24: =SUM(J24:M24) -> 0

Sheet IR1
A1: Intermediate Result 1 | K1: Hide these columns
A2: Resources for family planning increased, allocated, and spent more effectively and equitably
A3: Country: | E3: Date:
A4: Indicator | D4: Data Point 1 (required) | E4: Data Point 2 (required) | F4: Regional or Target (optional) | G4: Score | H4: Comments
A5: IR1.1: Total resources spent on FP (by source and by activity/program area
B6: Total FP spending or breakdown according to source? | D6: FP spending according to source | K6: Green | L6: Yellow | M6: Orange | N6: Red | P6: Total or breakdown | Q6: No data | R6: No regional target | S6: Trend | T6: Point 2 relative to region
A7: IR1.1.1 | B7: How much was spent on FP from all sources in the last budget year? | K7: =IF($P7="breakdown","",IF($Q7=1,"",IF($R7=1,IF($S7="up",1,""),IF(AND($S7="up",$T7="above"),1,"")))) | L7: =IF($P7="breakdown","",IF($Q7=1,"",IF($R7=1,"",IF(OR(AND($S7="up",$T7="equal"),AND($S7="flat",$T7="above"),AND($S7="down",$T7="above"),AND($S7="up",$T7="below")),1,"")))) | M7: =IF($P7="breakdown","",IF($Q7=1,"",IF($R7=1,IF($S7="flat",1,""),IF(OR(AND($S7="down",$T7="equal"),AND($S7="flat",$T7="below"),AND($S7="flat",$T7="equal")),1,"")))) | N7: =IF($P7="breakdown","",IF($Q7=1,"",IF($R7=1,IF($S7="down",1,""),IF(AND($S7="down",$T7="below"),1,"")))) | P7: =IF($D$6='Programming 1'!$A$127,"breakdown",IF($D$6='Programming 1'!$A$128,"total","ERROR")) -> breakdown | Q7: =IF(AND(ISBLANK($D7),ISBLANK($E7),ISBLANK($F7)),1,"") -> 1 | R7: =IF(ISBLANK($F7),1,"") -> 1 | S7: =IF($E7>$D7,"up",IF($E7=$D7,"flat",IF($E7<$D7,"down","ERROR"))) -> flat | T7: =IF(ISBLANK($F7),"no target",IF($E7>$F7,"above",IF($E7=$F7,"equal",IF($E7<$F7,"below","ERROR")))) -> no target
B8: How much was spent on FP from the following sources in the last budget year?
A9: IR1.1.2 | B9: Government | K9: =IF($P9="total","",IF($Q9=1,"",IF($R9=1,IF($S9="up",1,""),IF(AND($S9="up",$T9="above"),1,"")))) | L9: =IF($P9="total","",IF($Q9=1,"",IF($R9=1,"",IF(OR(AND($S9="up",$T9="equal"),AND($S9="flat",$T9="above"),AND($S9="down",$T9="above"),AND($S9="up",$T9="below")),1,"")))) | M9: =IF($P9="total","",IF($Q9=1,"",IF($R9=1,IF($S9="flat",1,""),IF(OR(AND($S9="down",$T9="equal"),AND($S9="flat",$T9="below"),AND($S9="flat",$T9="equal")),1,"")))) | N9: =IF($P9="total","",IF($Q9=1,"",IF($R9=1,IF($S9="down",1,""),IF(AND($S9="down",$T9="below"),1,"")))) | P9: =IF($D$6='Programming 1'!$A$127,"breakdown",IF($D$6='Programming 1'!$A$128,"total","ERROR")) -> breakdown | Q9: =IF(AND(ISBLANK($D9),ISBLANK($E9),ISBLANK($F9)),1,"") -> 1 | R9: =IF(ISBLANK($F9),1,"") -> 1 | S9: =IF($E9>$D9,"up",IF($E9=$D9,"flat",IF($E9<$D9,"down","ERROR"))) -> flat | T9: =IF(ISBLANK($F9),"no target",IF($E9>$F9,"above",IF($E9=$F9,"equal",IF($E9<$F9,"below","ERROR")))) -> no target
A10: IR1.1.3 | B10: Donors | K10: =IF($P10="total","",IF($Q10=1,"",IF($R10=1,IF($S10="up",1,""),IF(AND($S10="up",$T10="above"),1,"")))) | L10: =IF($P10="total","",IF($Q10=1,"",IF($R10=1,"",IF(OR(AND($S10="up",$T10="equal"),AND($S10="flat",$T10="above"),AND($S10="down",$T10="above"),AND($S10="up",$T10="below")),1,"")))) | M10: =IF($P10="total","",IF($Q10=1,"",IF($R10=1,IF($S10="flat",1,""),IF(OR(AND($S10="down",$T10="equal"),AND($S10="flat",$T10="below"),AND($S10="flat",$T10="equal")),1,"")))) | N10: =IF($P10="total","",IF($Q10=1,"",IF($R10=1,IF($S10="down",1,""),IF(AND($S10="down",$T10="below"),1,"")))) | P10: =IF($D$6='Programming 1'!$A$127,"breakdown",IF($D$6='Programming 1'!$A$128,"total","ERROR")) -> breakdown | Q10: =IF(AND(ISBLANK($D10),ISBLANK($E10),ISBLANK($F10)),1,"") -> 1 | R10: =IF(ISBLANK($F10),1,"") -> 1 | S10: =IF($E10>$D10,"up",IF($E10=$D10,"flat",IF($E10<$D10,"down","ERROR"))) -> flat | T10: =IF(ISBLANK($F10),"no target",IF($E10>$F10,"above",IF($E10=$F10,"equal",IF($E10<$F10,"below","ERROR")))) -> no target
A11: IR1.1.4 | B11: Private sector | K11: =IF($P11="total","",IF($Q11=1,"",IF($R11=1,IF($S11="up",1,""),IF(AND($S11="up",$T11="above"),1,"")))) | L11: =IF($P11="total","",IF($Q11=1,"",IF($R11=1,"",IF(OR(AND($S11="up",$T11="equal"),AND($S11="flat",$T11="above"),AND($S11="down",$T11="above"),AND($S11="up",$T11="below")),1,"")))) | M11: =IF($P11="total","",IF($Q11=1,"",IF($R11=1,IF($S11="flat",1,""),IF(OR(AND($S11="down",$T11="equal"),AND($S11="flat",$T11="below"),AND($S11="flat",$T11="equal")),1,"")))) | N11: =IF($P11="total","",IF($Q11=1,"",IF($R11=1,IF($S11="down",1,""),IF(AND($S11="down",$T11="below"),1,"")))) | P11: =IF($D$6='Programming 1'!$A$127,"breakdown",IF($D$6='Programming 1'!$A$128,"total","ERROR")) -> breakdown | Q11: =IF(AND(ISBLANK($D11),ISBLANK($E11),ISBLANK($F11)),1,"") -> 1 | R11: =IF(ISBLANK($F11),1,"") -> 1 | S11: =IF($E11>$D11,"up",IF($E11=$D11,"flat",IF($E11<$D11,"down","ERROR"))) -> flat | T11: =IF(ISBLANK($F11),"no target",IF($E11>$F11,"above",IF($E11=$F11,"equal",IF($E11<$F11,"below","ERROR")))) -> no target
A12: IR1.1.5 | B12: FP User | K12: =IF($P12="total","",IF($Q12=1,"",IF($R12=1,IF($S12="up",1,""),IF(AND($S12="up",$T12="above"),1,"")))) | L12: =IF($P12="total","",IF($Q12=1,"",IF($R12=1,"",IF(OR(AND($S12="up",$T12="equal"),AND($S12="flat",$T12="above"),AND($S12="down",$T12="above"),AND($S12="up",$T12="below")),1,"")))) | M12: =IF($P12="total","",IF($Q12=1,"",IF($R12=1,IF($S12="flat",1,""),IF(OR(AND($S12="down",$T12="equal"),AND($S12="flat",$T12="below"),AND($S12="flat",$T12="equal")),1,"")))) | N12: =IF($P12="total","",IF($Q12=1,"",IF($R12=1,IF($S12="down",1,""),IF(AND($S12="down",$T12="below"),1,"")))) | P12: =IF($D$6='Programming 1'!$A$127,"breakdown",IF($D$6='Programming 1'!$A$128,"total","ERROR")) -> breakdown | Q12: =IF(AND(ISBLANK($D12),ISBLANK($E12),ISBLANK($F12)),1,"") -> 1 | R12: =IF(ISBLANK($F12),1,"") -> 1 | S12: =IF($E12>$D12,"up",IF($E12=$D12,"flat",IF($E12<$D12,"down","ERROR"))) -> flat | T12: =IF(ISBLANK($F12),"no target",IF($E12>$F12,"above",IF($E12=$F12,"equal",IF($E12<$F12,"below","ERROR")))) -> no target
B13: Totals | D13: =IF(AND(ISBLANK(D9),ISBLANK(D10),ISBLANK(D11),ISBLANK(D12)),"",SUM(D9:D12)) | E13: =IF(AND(ISBLANK(E9),ISBLANK(E10),ISBLANK(E11),ISBLANK(E12)),"",SUM(E9:E12)) | F13: =IF(AND(ISBLANK(F9),ISBLANK(F10),ISBLANK(F11),ISBLANK(F12)),"",SUM(F9:F12))
B14: Of that how much was spent on:
A15: IR1.1.6 | B15: Commodities | K15: =IF($Q15=1,"",IF($R15=1,IF($S15="up",1,""),IF(AND($S15="up",$T15="above"),1,""))) | L15: =IF($Q15=1,"",IF($R15=1,"",IF(OR(AND($S15="up",$T15="equal"),AND($S15="flat",$T15="above"),AND($S15="down",$T15="above"),AND($S15="up",$T15="below")),1,""))) | M15: =IF($Q15=1,"",IF($R15=1,IF($S15="flat",1,""),IF(OR(AND($S15="down",$T15="equal"),AND($S15="flat",$T15="below"),AND($S15="flat",$T15="equal")),1,""))) | N15: =IF($Q15=1,"",IF($R15=1,IF($S15="down",1,""),IF(AND($S15="down",$T15="below"),1,""))) | Q15: =IF(AND(ISBLANK($D15),ISBLANK($E15),ISBLANK($F15)),1,"") -> 1 | R15: =IF(ISBLANK($F15),1,"") -> 1 | S15: =IF($E15>$D15,"up",IF($E15=$D15,"flat",IF($E15<$D15,"down","ERROR"))) -> flat | T15: =IF(ISBLANK($F15),"no target",IF($E15>$F15,"above",IF($E15=$F15,"equal",IF($E15<$F15,"below","ERROR")))) -> no target
A16: IR1.1.7 | B16: Capacity Building | K16: =IF($Q16=1,"",IF($R16=1,IF($S16="up",1,""),IF(AND($S16="up",$T16="above"),1,""))) | L16: =IF($Q16=1,"",IF($R16=1,"",IF(OR(AND($S16="up",$T16="equal"),AND($S16="flat",$T16="above"),AND($S16="down",$T16="above"),AND($S16="up",$T16="below")),1,""))) | M16: =IF($Q16=1,"",IF($R16=1,IF($S16="flat",1,""),IF(OR(AND($S16="down",$T16="equal"),AND($S16="flat",$T16="below"),AND($S16="flat",$T16="equal")),1,""))) | N16: =IF($Q16=1,"",IF($R16=1,IF($S16="down",1,""),IF(AND($S16="down",$T16="below"),1,""))) | Q16: =IF(AND(ISBLANK($D16),ISBLANK($E16),ISBLANK($F16)),1,"") -> 1 | R16: =IF(ISBLANK($F16),1,"") -> 1 | S16: =IF($E16>$D16,"up",IF($E16=$D16,"flat",IF($E16<$D16,"down","ERROR"))) -> flat | T16: =IF(ISBLANK($F16),"no target",IF($E16>$F16,"above",IF($E16=$F16,"equal",IF($E16<$F16,"below","ERROR")))) -> no target
A17: IR1.1.8 | B17: Service Delivery | K17: =IF($Q17=1,"",IF($R17=1,IF($S17="up",1,""),IF(AND($S17="up",$T17="above"),1,""))) | L17: =IF($Q17=1,"",IF($R17=1,"",IF(OR(AND($S17="up",$T17="equal"),AND($S17="flat",$T17="above"),AND($S17="down",$T17="above"),AND($S17="up",$T17="below")),1,""))) | M17: =IF($Q17=1,"",IF($R17=1,IF($S17="flat",1,""),IF(OR(AND($S17="down",$T17="equal"),AND($S17="flat",$T17="below"),AND($S17="flat",$T17="equal")),1,""))) | N17: =IF($Q17=1,"",IF($R17=1,IF($S17="down",1,""),IF(AND($S17="down",$T17="below"),1,""))) | Q17: =IF(AND(ISBLANK($D17),ISBLANK($E17),ISBLANK($F17)),1,"") -> 1 | R17: =IF(ISBLANK($F17),1,"") -> 1 | S17: =IF($E17>$D17,"up",IF($E17=$D17,"flat",IF($E17<$D17,"down","ERROR"))) -> flat | T17: =IF(ISBLANK($F17),"no target",IF($E17>$F17,"above",IF($E17=$F17,"equal",IF($E17<$F17,"below","ERROR")))) -> no target
A18: IR1.1.9 | B18: Advocacy | K18: =IF($Q18=1,"",IF($R18=1,IF($S18="up",1,""),IF(AND($S18="up",$T18="above"),1,""))) | L18: =IF($Q18=1,"",IF($R18=1,"",IF(OR(AND($S18="up",$T18="equal"),AND($S18="flat",$T18="above"),AND($S18="down",$T18="above"),AND($S18="up",$T18="below")),1,""))) | M18: =IF($Q18=1,"",IF($R18=1,IF($S18="flat",1,""),IF(OR(AND($S18="down",$T18="equal"),AND($S18="flat",$T18="below"),AND($S18="flat",$T18="equal")),1,""))) | N18: =IF($Q18=1,"",IF($R18=1,IF($S18="down",1,""),IF(AND($S18="down",$T18="below"),1,""))) | Q18: =IF(AND(ISBLANK($D18),ISBLANK($E18),ISBLANK($F18)),1,"") -> 1 | R18: =IF(ISBLANK($F18),1,"") -> 1 | S18: =IF($E18>$D18,"up",IF($E18=$D18,"flat",IF($E18<$D18,"down","ERROR"))) -> flat | T18: =IF(ISBLANK($F18),"no target",IF($E18>$F18,"above",IF($E18=$F18,"equal",IF($E18<$F18,"below","ERROR")))) -> no target
A19: IR1.1.10 | B19: Management / HMIS | K19: =IF($Q19=1,"",IF($R19=1,IF($S19="up",1,""),IF(AND($S19="up",$T19="above"),1,""))) | L19: =IF($Q19=1,"",IF($R19=1,"",IF(OR(AND($S19="up",$T19="equal"),AND($S19="flat",$T19="above"),AND($S19="down",$T19="above"),AND($S19="up",$T19="below")),1,""))) | M19: =IF($Q19=1,"",IF($R19=1,IF($S19="flat",1,""),IF(OR(AND($S19="down",$T19="equal"),AND($S19="flat",$T19="below"),AND($S19="flat",$T19="equal")),1,""))) | N19: =IF($Q19=1,"",IF($R19=1,IF($S19="down",1,""),IF(AND($S19="down",$T19="below"),1,""))) | Q19: =IF(AND(ISBLANK($D19),ISBLANK($E19),ISBLANK($F19)),1,"") -> 1 | R19: =IF(ISBLANK($F19),1,"") -> 1 | S19: =IF($E19>$D19,"up",IF($E19=$D19,"flat",IF($E19<$D19,"down","ERROR"))) -> flat | T19: =IF(ISBLANK($F19),"no target",IF($E19>$F19,"above",IF($E19=$F19,"equal",IF($E19<$F19,"below","ERROR")))) -> no target
A20: IR1.1.11 | B20: Other | C20: (specify) | K20: =IF($Q20=1,"",IF($R20=1,IF($S20="up",1,""),IF(AND($S20="up",$T20="above"),1,""))) | L20: =IF($Q20=1,"",IF($R20=1,"",IF(OR(AND($S20="up",$T20="equal"),AND($S20="flat",$T20="above"),AND($S20="down",$T20="above"),AND($S20="up",$T20="below")),1,""))) | M20: =IF($Q20=1,"",IF($R20=1,IF($S20="flat",1,""),IF(OR(AND($S20="down",$T20="equal"),AND($S20="flat",$T20="below"),AND($S20="flat",$T20="equal")),1,""))) | N20: =IF($Q20=1,"",IF($R20=1,IF($S20="down",1,""),IF(AND($S20="down",$T20="below"),1,""))) | Q20: =IF(AND(ISBLANK($D20),ISBLANK($E20),ISBLANK($F20)),1,"") -> 1 | R20: =IF(ISBLANK($F20),1,"") -> 1 | S20: =IF($E20>$D20,"up",IF($E20=$D20,"flat",IF($E20<$D20,"down","ERROR"))) -> flat | T20: =IF(ISBLANK($F20),"no target",IF($E20>$F20,"above",IF($E20=$F20,"equal",IF($E20<$F20,"below","ERROR")))) -> no target
A21: IR1.1.12 | B21: Other | C21: (specify) | K21: =IF($Q21=1,"",IF($R21=1,IF($S21="up",1,""),IF(AND($S21="up",$T21="above"),1,""))) | L21: =IF($Q21=1,"",IF($R21=1,"",IF(OR(AND($S21="up",$T21="equal"),AND($S21="flat",$T21="above"),AND($S21="down",$T21="above"),AND($S21="up",$T21="below")),1,""))) | M21: =IF($Q21=1,"",IF($R21=1,IF($S21="flat",1,""),IF(OR(AND($S21="down",$T21="equal"),AND($S21="flat",$T21="below"),AND($S21="flat",$T21="equal")),1,""))) | N21: =IF($Q21=1,"",IF($R21=1,IF($S21="down",1,""),IF(AND($S21="down",$T21="below"),1,""))) | Q21: =IF(AND(ISBLANK($D21),ISBLANK($E21),ISBLANK($F21)),1,"") -> 1 | R21: =IF(ISBLANK($F21),1,"") -> 1 | S21: =IF($E21>$D21,"up",IF($E21=$D21,"flat",IF($E21<$D21,"down","ERROR"))) -> flat | T21: =IF(ISBLANK($F21),"no target",IF($E21>$F21,"above",IF($E21=$F21,"equal",IF($E21<$F21,"below","ERROR")))) -> no target
A22: IR1.1.13 | B22: What percent of the overall government health budget is spent on FP/SRH? | K22: =IF($Q22=1,"",IF($R22=1,IF($S22="up",1,""),IF(AND($S22="up",$T22="above"),1,""))) | L22: =IF($Q22=1,"",IF($R22=1,"",IF(OR(AND($S22="up",$T22="equal"),AND($S22="flat",$T22="above"),AND($S22="down",$T22="above"),AND($S22="up",$T22="below")),1,""))) | M22: =IF($Q22=1,"",IF($R22=1,IF($S22="flat",1,""),IF(OR(AND($S22="down",$T22="equal"),AND($S22="flat",$T22="below"),AND($S22="flat",$T22="equal")),1,""))) | N22: =IF($Q22=1,"",IF($R22=1,IF($S22="down",1,""),IF(AND($S22="down",$T22="below"),1,""))) | Q22: =IF(AND(ISBLANK($D22),ISBLANK($E22),ISBLANK($F22)),1,"") -> 1 | R22: =IF(ISBLANK($F22),1,"") -> 1 | S22: =IF($E22>$D22,"up",IF($E22=$D22,"flat",IF($E22<$D22,"down","ERROR"))) -> flat | T22: =IF(ISBLANK($F22),"no target",IF($E22>$F22,"above",IF($E22=$F22,"equal",IF($E22<$F22,"below","ERROR")))) -> no target
A23: IR1.2: Evidence of new financing mechanisms for family planning identified, tested, and / or scaled-up
A24: IR1.2.1 | B24: Have new financing mechanisms for family planning been identified, tested, and or scaled-up in the last 2 years? | K24: =IF($D24='Programming 1'!$A$26,1,"") | L24: =IF($D24='Programming 1'!$A$27,1,"") | M24: =IF($D24='Programming 1'!$A$28,1,"") | N24: =IF($D24='Programming 1'!$A$29,1,"")
A25: IR1.3: Total resources allocated to FP (by source and by activity)
B26: Total FP allocation or breakdown according to source? | D26: FP allocation according to source | P26: Total or breakdown
A27: IR1.3.1 | B27: How much was allocated to FP from all sources in the last budget year? | K27: =IF($P27="breakdown","",IF($Q27=1,"",IF($R27=1,IF($S27="up",1,""),IF(AND($S27="up",$T27="above"),1,"")))) | L27: =IF($P7="breakdown","",IF($Q27=1,"",IF($R27=1,"",IF(OR(AND($S27="up",$T27="equal"),AND($S27="flat",$T27="above"),AND($S27="down",$T27="above"),AND($S27="up",$T27="below")),1,"")))) | M27: =IF($P7="breakdown","",IF($Q27=1,"",IF($R27=1,IF($S27="flat",1,""),IF(OR(AND($S27="down",$T27="equal"),AND($S27="flat",$T27="below"),AND($S27="flat",$T27="equal")),1,"")))) | N27: =IF($P7="breakdown","",IF($Q27=1,"",IF($R27=1,IF($S27="down",1,""),IF(AND($S27="down",$T27="below"),1,"")))) | P27: =IF($D$26='Programming 1'!$A$130,"breakdown",IF($D$26='Programming 1'!$A$131,"total","ERROR")) -> breakdown | Q27: =IF(AND(ISBLANK($D27),ISBLANK($E27),ISBLANK($F27)),1,"") -> 1 | R27: =IF(ISBLANK($F27),1,"") -> 1 | S27: =IF($E27>$D27,"up",IF($E27=$D27,"flat",IF($E27<$D27,"down","ERROR"))) -> flat | T27: =IF(ISBLANK($F27),"no target",IF($E27>$F27,"above",IF($E27=$F27,"equal",IF($E27<$F27,"below","ERROR")))) -> no target
B28: How much was allocated to FP from the following sources in the last budget year?
A29: IR1.3.2 | B29: Government | K29: =IF($P29="total","",IF($Q29=1,"",IF($R29=1,IF($S29="up",1,""),IF(AND($S29="up",$T29="above"),1,"")))) | L29: =IF($P29="total","",IF($Q29=1,"",IF($R29=1,"",IF(OR(AND($S29="up",$T29="equal"),AND($S29="flat",$T29="above"),AND($S29="down",$T29="above"),AND($S29="up",$T29="below")),1,"")))) | M29: =IF($P29="total","",IF($Q29=1,"",IF($R29=1,IF($S29="flat",1,""),IF(OR(AND($S29="down",$T29="equal"),AND($S29="flat",$T29="below"),AND($S29="flat",$T29="equal")),1,"")))) | N29: =IF($P29="total","",IF($Q29=1,"",IF($R29=1,IF($S29="down",1,""),IF(AND($S29="down",$T29="below"),1,"")))) | P29: =IF($D$26='Programming 1'!$A$130,"breakdown",IF($D$26='Programming 1'!$A$131,"total","ERROR")) -> breakdown | Q29: =IF(AND(ISBLANK($D29),ISBLANK($E29),ISBLANK($F29)),1,"") -> 1 | R29: =IF(ISBLANK($F29),1,"") -> 1 | S29: =IF($E29>$D29,"up",IF($E29=$D29,"flat",IF($E29<$D29,"down","ERROR"))) -> flat | T29: =IF(ISBLANK($F29),"no target",IF($E29>$F29,"above",IF($E29=$F29,"equal",IF($E29<$F29,"below","ERROR")))) -> no target
A30: IR1.3.3 | B30: Donors | K30: =IF($P30="total","",IF($Q30=1,"",IF($R30=1,IF($S30="up",1,""),IF(AND($S30="up",$T30="above"),1,"")))) | L30: =IF($P30="total","",IF($Q30=1,"",IF($R30=1,"",IF(OR(AND($S30="up",$T30="equal"),AND($S30="flat",$T30="above"),AND($S30="down",$T30="above"),AND($S30="up",$T30="below")),1,"")))) | M30: =IF($P30="total","",IF($Q30=1,"",IF($R30=1,IF($S30="flat",1,""),IF(OR(AND($S30="down",$T30="equal"),AND($S30="flat",$T30="below"),AND($S30="flat",$T30="equal")),1,"")))) | N30: =IF($P30="total","",IF($Q30=1,"",IF($R30=1,IF($S30="down",1,""),IF(AND($S30="down",$T30="below"),1,"")))) | P30: =IF($D$26='Programming 1'!$A$130,"breakdown",IF($D$26='Programming 1'!$A$131,"total","ERROR")) -> breakdown | Q30: =IF(AND(ISBLANK($D30),ISBLANK($E30),ISBLANK($F30)),1,"") -> 1 | R30: =IF(ISBLANK($F30),1,"") -> 1 | S30: =IF($E30>$D30,"up",IF($E30=$D30,"flat",IF($E30<$D30,"down","ERROR"))) -> flat | T30: =IF(ISBLANK($F30),"no target",IF($E30>$F30,"above",IF($E30=$F30,"equal",IF($E30<$F30,"below","ERROR")))) -> no target
A31: IR1.3.4 | B31: Private sector | K31: =IF($P31="total","",IF($Q31=1,"",IF($R31=1,IF($S31="up",1,""),IF(AND($S31="up",$T31="above"),1,"")))) | L31: =IF($P31="total","",IF($Q31=1,"",IF($R31=1,"",IF(OR(AND($S31="up",$T31="equal"),AND($S31="flat",$T31="above"),AND($S31="down",$T31="above"),AND($S31="up",$T31="below")),1,"")))) | M31: =IF($P31="total","",IF($Q31=1,"",IF($R31=1,IF($S31="flat",1,""),IF(OR(AND($S31="down",$T31="equal"),AND($S31="flat",$T31="below"),AND($S31="flat",$T31="equal")),1,"")))) | N31: =IF($P31="total","",IF($Q31=1,"",IF($R31=1,IF($S31="down",1,""),IF(AND($S31="down",$T31="below"),1,"")))) | P31: =IF($D$26='Programming 1'!$A$130,"breakdown",IF($D$26='Programming 1'!$A$131,"total","ERROR")) -> breakdown | Q31: =IF(AND(ISBLANK($D31),ISBLANK($E31),ISBLANK($F31)),1,"") -> 1 | R31: =IF(ISBLANK($F31),1,"") -> 1 | S31: =IF($E31>$D31,"up",IF($E31=$D31,"flat",IF($E31<$D31,"down","ERROR"))) -> flat | T31: =IF(ISBLANK($F31),"no target",IF($E31>$F31,"above",IF($E31=$F31,"equal",IF($E31<$F31,"below","ERROR")))) -> no target
A32: IR1.3.5 | B32: FP User | K32: =IF($P32="total","",IF($Q32=1,"",IF($R32=1,IF($S32="up",1,""),IF(AND($S32="up",$T32="above"),1,"")))) | L32: =IF($P32="total","",IF($Q32=1,"",IF($R32=1,"",IF(OR(AND($S32="up",$T32="equal"),AND($S32="flat",$T32="above"),AND($S32="down",$T32="above"),AND($S32="up",$T32="below")),1,"")))) | M32: =IF($P32="total","",IF($Q32=1,"",IF($R32=1,IF($S32="flat",1,""),IF(OR(AND($S32="down",$T32="equal"),AND($S32="flat",$T32="below"),AND($S32="flat",$T32="equal")),1,"")))) | N32: =IF($P32="total","",IF($Q32=1,"",IF($R32=1,IF($S32="down",1,""),IF(AND($S32="down",$T32="below"),1,"")))) | P32: =IF($D$26='Programming 1'!$A$130,"breakdown",IF($D$26='Programming 1'!$A$131,"total","ERROR")) -> breakdown | Q32: =IF(AND(ISBLANK($D32),ISBLANK($E32),ISBLANK($F32)),1,"") -> 1 | R32: =IF(ISBLANK($F32),1,"") -> 1 | S32: =IF($E32>$D32,"up",IF($E32=$D32,"flat",IF($E32<$D32,"down","ERROR"))) -> flat | T32: =IF(ISBLANK($F32),"no target",IF($E32>$F32,"above",IF($E32=$F32,"equal",IF($E32<$F32,"below","ERROR")))) -> no target
B33: Totals | D33: =IF(AND(ISBLANK(D29),ISBLANK(D30),ISBLANK(D31),ISBLANK(D32)),"",SUM(D29:D32)) | E33: =IF(AND(ISBLANK(E29),ISBLANK(E30),ISBLANK(E31),ISBLANK(E32)),"",SUM(E29:E32)) | F33: =IF(AND(ISBLANK(F29),ISBLANK(F30),ISBLANK(F31),ISBLANK(F32)),"",SUM(F29:F32))
B34: Of that how much was allocated to:
A35: IR1.3.6 | B35: Commodities | K35: =IF($Q35=1,"",IF($R35=1,IF($S35="up",1,""),IF(AND($S35="up",$T35="above"),1,""))) | L35: =IF($Q35=1,"",IF($R35=1,"",IF(OR(AND($S35="up",$T35="equal"),AND($S35="flat",$T35="above"),AND($S35="down",$T35="above"),AND($S35="up",$T35="below")),1,""))) | M35: =IF($Q35=1,"",IF($R35=1,IF($S35="flat",1,""),IF(OR(AND($S35="down",$T35="equal"),AND($S35="flat",$T35="below"),AND($S35="flat",$T35="equal")),1,""))) | N35: =IF($Q35=1,"",IF($R35=1,IF($S35="down",1,""),IF(AND($S35="down",$T35="below"),1,""))) | Q35: =IF(AND(ISBLANK($D35),ISBLANK($E35),ISBLANK($F35)),1,"") -> 1 | R35: =IF(ISBLANK($F35),1,"") -> 1 | S35: =IF($E35>$D35,"up",IF($E35=$D35,"flat",IF($E35<$D35,"down","ERROR"))) -> flat | T35: =IF(ISBLANK($F35),"no target",IF($E35>$F35,"above",IF($E35=$F35,"equal",IF($E35<$F35,"below","ERROR")))) -> no target
A36: IR1.3.7 | B36: Capacity Building | K36: =IF($Q36=1,"",IF($R36=1,IF($S36="up",1,""),IF(AND($S36="up",$T36="above"),1,""))) | L36: =IF($Q36=1,"",IF($R36=1,"",IF(OR(AND($S36="up",$T36="equal"),AND($S36="flat",$T36="above"),AND($S36="down",$T36="above"),AND($S36="up",$T36="below")),1,""))) | M36: =IF($Q36=1,"",IF($R36=1,IF($S36="flat",1,""),IF(OR(AND($S36="down",$T36="equal"),AND($S36="flat",$T36="below"),AND($S36="flat",$T36="equal")),1,""))) | N36: =IF($Q36=1,"",IF($R36=1,IF($S36="down",1,""),IF(AND($S36="down",$T36="below"),1,""))) | Q36: =IF(AND(ISBLANK($D36),ISBLANK($E36),ISBLANK($F36)),1,"") -> 1 | R36: =IF(ISBLANK($F36),1,"") -> 1 | S36: =IF($E36>$D36,"up",IF($E36=$D36,"flat",IF($E36<$D36,"down","ERROR"))) -> flat | T36: =IF(ISBLANK($F36),"no target",IF($E36>$F36,"above",IF($E36=$F36,"equal",IF($E36<$F36,"below","ERROR")))) -> no target
A37: IR1.3.8 | B37: Service Delivery | K37: =IF($Q37=1,"",IF($R37=1,IF($S37="up",1,""),IF(AND($S37="up",$T37="above"),1,""))) | L37: =IF($Q37=1,"",IF($R37=1,"",IF(OR(AND($S37="up",$T37="equal"),AND($S37="flat",$T37="above"),AND($S37="down",$T37="above"),AND($S37="up",$T37="below")),1,""))) | M37: =IF($Q37=1,"",IF($R37=1,IF($S37="flat",1,""),IF(OR(AND($S37="down",$T37="equal"),AND($S37="flat",$T37="below"),AND($S37="flat",$T37="equal")),1,""))) | N37: =IF($Q37=1,"",IF($R37=1,IF($S37="down",1,""),IF(AND($S37="down",$T37="below"),1,""))) | Q37: =IF(AND(ISBLANK($D37),ISBLANK($E37),ISBLANK($F37)),1,"") -> 1 | R37: =IF(ISBLANK($F37),1,"") -> 1 | S37: =IF($E37>$D37,"up",IF($E37=$D37,"flat",IF($E37<$D37,"down","ERROR"))) -> flat | T37: =IF(ISBLANK($F37),"no target",IF($E37>$F37,"above",IF($E37=$F37,"equal",IF($E37<$F37,"below","ERROR")))) -> no target
A38: IR1.3.9 | B38: Advocacy | K38: =IF($Q38=1,"",IF($R38=1,IF($S38="up",1,""),IF(AND($S38="up",$T38="above"),1,""))) | L38: =IF($Q38=1,"",IF($R38=1,"",IF(OR(AND($S38="up",$T38="equal"),AND($S38="flat",$T38="above"),AND($S38="down",$T38="above"),AND($S38="up",$T38="below")),1,""))) | M38: =IF($Q38=1,"",IF($R38=1,IF($S38="flat",1,""),IF(OR(AND($S38="down",$T38="equal"),AND($S38="flat",$T38="below"),AND($S38="flat",$T38="equal")),1,""))) | N38: =IF($Q38=1,"",IF($R38=1,IF($S38="down",1,""),IF(AND($S38="down",$T38="below"),1,""))) | Q38: =IF(AND(ISBLANK($D38),ISBLANK($E38),ISBLANK($F38)),1,"") -> 1 | R38: =IF(ISBLANK($F38),1,"") -> 1 | S38: =IF($E38>$D38,"up",IF($E38=$D38,"flat",IF($E38<$D38,"down","ERROR"))) -> flat | T38: =IF(ISBLANK($F38),"no target",IF($E38>$F38,"above",IF($E38=$F38,"equal",IF($E38<$F38,"below","ERROR")))) -> no target
A39: IR1.3.10 | B39: Management / HMIS | K39: =IF($Q39=1,"",IF($R39=1,IF($S39="up",1,""),IF(AND($S39="up",$T39="above"),1,""))) | L39: =IF($Q39=1,"",IF($R39=1,"",IF(OR(AND($S39="up",$T39="equal"),AND($S39="flat",$T39="above"),AND($S39="down",$T39="above"),AND($S39="up",$T39="below")),1,""))) | M39: =IF($Q39=1,"",IF($R39=1,IF($S39="flat",1,""),IF(OR(AND($S39="down",$T39="equal"),AND($S39="flat",$T39="below"),AND($S39="flat",$T39="equal")),1,""))) | N39: =IF($Q39=1,"",IF($R39=1,IF($S39="down",1,""),IF(AND($S39="down",$T39="below"),1,""))) | Q39: =IF(AND(ISBLANK($D39),ISBLANK($E39),ISBLANK($F39)),1,"") -> 1 | R39: =IF(ISBLANK($F39),1,"") -> 1 | S39: =IF($E39>$D39,"up",IF($E39=$D39,"flat",IF($E39<$D39,"down","ERROR"))) -> flat | T39: =IF(ISBLANK($F39),"no target",IF($E39>$F39,"above",IF($E39=$F39,"equal",IF($E39<$F39,"below","ERROR")))) -> no target
A40: IR1.3.11 | B40: Other | C40: (specify) | K40: =IF($Q40=1,"",IF($R40=1,IF($S40="up",1,""),IF(AND($S40="up",$T40="above"),1,""))) | L40: =IF($Q40=1,"",IF($R40=1,"",IF(OR(AND($S40="up",$T40="equal"),AND($S40="flat",$T40="above"),AND($S40="down",$T40="above"),AND($S40="up",$T40="below")),1,""))) | M40: =IF($Q40=1,"",IF($R40=1,IF($S40="flat",1,""),IF(OR(AND($S40="down",$T40="equal"),AND($S40="flat",$T40="below"),AND($S40="flat",$T40="equal")),1,""))) | N40: =IF($Q40=1,"",IF($R40=1,IF($S40="down",1,""),IF(AND($S40="down",$T40="below"),1,""))) | Q40: =IF(AND(ISBLANK($D40),ISBLANK($E40),ISBLANK($F40)),1,"") -> 1 | R40: =IF(ISBLANK($F40),1,"") -> 1 | S40: =IF($E40>$D40,"up",IF($E40=$D40,"flat",IF($E40<$D40,"down","ERROR"))) -> flat | T40: =IF(ISBLANK($F40),"no target",IF($E40>$F40,"above",IF($E40=$F40,"equal",IF($E40<$F40,"below","ERROR")))) -> no target
...

Sheet IR2
A1: Intermediate Result 2 | K1: Hide these columns
A2: Increased multisectoral coordination in the design, implementation, and financing of family planning policies and programs
A3: Country: | E3: Date:
A4: Indicator | D4: Response | E4: Score | F4: Comments
A5: IR2.1: Evidence of family planning programs incorporated into national strategic and development plans | K5: Green | L5: Yellow | M5: Orange | N5: Red
A6: IR2.1.1 | B6: Is there evidence of FP incorporated into national strategic and development plans? (non-FP) | K6: =IF(D6='Programming 1'!$A$10,1,"") | N6: =IF(D6='Programming 1'!$A$11,1,"")
B7: Do the following ministries have policies or strategies that include FP or SRH?
A8: IR2.1.2 | B8: Population | K8: =IF(D8='Programming 1'!$A$10,1,"") | N8: =IF(D8='Programming 1'!$A$11,1,"")
A9: IR2.1.3 | B9: Gender | K9: =IF(D9='Programming 1'!$A$10,1,"") | N9: =IF(D9='Programming 1'!$A$11,1,"")
A10: IR2.1.4 | B10: Health | K10: =IF(D10='Programming 1'!$A$10,1,"") | N10: =IF(D10='Programming 1'!$A$11,1,"")
A11: IR2.1.5 | B11: Education | K11: =IF(D11='Programming 1'!$A$10,1,"") | N11: =IF(D11='Programming 1'!$A$11,1,"")
A12: IR2.1.6 | B12: Environment | K12: =IF(D12='Programming 1'!$A$10,1,"") | N12: =IF(D12='Programming 1'!$A$11,1,"")
A13: IR2.1.7 | B13: Labor | K13: =IF(D13='Programming 1'!$A$10,1,"") | N13: =IF(D13='Programming 1'!$A$11,1,"")
A14: IR2.1.8 | B14: Agriculture | K14: =IF(D14='Programming 1'!$A$10,1,"") | N14: =IF(D14='Programming 1'!$A$11,1,"")
A15: IR2.2: Evidence of governments engaging multiple sectors in family planning activities
B16: Is the government engaging the following sectors/disciplines in FP activities?
B17: Private sector
A18: IR2.2.1 | B18: Pharmacists | K18: =IF($D18='Programming 1'!$A$84,1,"") | L18: =IF($D18='Programming 1'!$A$85,1,"") | M18: =IF($D18='Programming 1'!$A$86,1,"") | N18: =IF($D18='Programming 1'!$A$87,1,"")
A19: IR2.2.2 | B19: Private facilities | K19: =IF($D19='Programming 1'!$A$84,1,"") | L19: =IF($D19='Programming 1'!$A$85,1,"") | M19: =IF($D19='Programming 1'!$A$86,1,"") | N19: =IF($D19='Programming 1'!$A$87,1,"")
A20: IR2.2.3 | B20: Other business | K20: =IF($D20='Programming 1'!$A$84,1,"") | L20: =IF($D20='Programming 1'!$A$85,1,"") | M20: =IF($D20='Programming 1'!$A$86,1,"") | N20: =IF($D20='Programming 1'!$A$87,1,"")
A21: IR2.2.4 | B21: Private provider | K21: =IF($D21='Programming 1'!$A$84,1,"") | L21: =IF($D21='Programming 1'!$A$85,1,"") | M21: =IF($D21='Programming 1'!$A$86,1,"") | N21: =IF($D21='Programming 1'!$A$87,1,"")
B22: Public sector
A23: IR2.2.5 | B23: Education | K23: =IF($D23='Programming 1'!$A$84,1,"") | L23: =IF($D23='Programming 1'!$A$85,1,"") | M23: =IF($D23='Programming 1'!$A$86,1,"") | N23: =IF($D23='Programming 1'!$A$87,1,"")
A24: IR2.2.6 | B24: Development | K24: =IF($D24='Programming 1'!$A$84,1,"") | L24: =IF($D24='Programming 1'!$A$85,1,"") | M24: =IF($D24='Programming 1'!$A$86,1,"") | N24: =IF($D24='Programming 1'!$A$87,1,"")
A25: IR2.2.7 | B25: Population | K25: =IF($D25='Programming 1'!$A$84,1,"") | L25: =IF($D25='Programming 1'!$A$85,1,"") | M25: =IF($D25='Programming 1'!$A$86,1,"") | N25: =IF($D25='Programming 1'!$A$87,1,"")
A26: IR2.2.8 | B26: Environment | K26: =IF($D26='Programming 1'!$A$84,1,"") | L26: =IF($D26='Programming 1'!$A$85,1,"") | M26: =IF($D26='Programming 1'!$A$86,1,"") | N26: =IF($D26='Programming 1'!$A$87,1,"")
A27: IR2.2.9 | B27: Labor | K27: =IF($D27='Programming 1'!$A$84,1,"") | L27: =IF($D27='Programming 1'!$A$85,1,"") | M27: =IF($D27='Programming 1'!$A$86,1,"") | N27: =IF($D27='Programming 1'!$A$87,1,"")
A28: IR2.2.10 | B28: Agriculture | K28: =IF($D28='Programming 1'!$A$84,1,"") | L28: =IF($D28='Programming 1'!$A$85,1,"") | M28: =IF($D28='Programming 1'!$A$86,1,"") | N28: =IF($D28='Programming 1'!$A$87,1,"")
A29: IR2.2.11 | B29: Gender / Women's Affairs | K29: =IF($D29='Programming 1'!$A$84,1,"") | L29: =IF($D29='Programming 1'!$A$85,1,"") | M29: =IF($D29='Programming 1'!$A$86,1,"") | N29: =IF($D29='Programming 1'!$A$87,1,"")
A30: IR2.2.12 | B30: Health | K30: =IF($D30='Programming 1'!$A$84,1,"") | L30: =IF($D30='Programming 1'!$A$85,1,"") | M30: =IF($D30='Programming 1'!$A$86,1,"") | N30: =IF($D30='Programming 1'!$A$87,1,"")
A31: IR2.2.13 | B31: NGOs | K31: =IF($D31='Programming 1'!$A$84,1,"") | L31: =IF($D31='Programming 1'!$A$85,1,"") | M31: =IF($D31='Programming 1'!$A$86,1,"") | N31: =IF($D31='Programming 1'!$A$87,1,"")
A32: IR2.2.14 | B32: Local NGOs | K32: =IF($D32='Programming 1'!$A$84,1,"") | L32: =IF($D32='Programming 1'!$A$85,1,"") | M32: =IF($D32='Programming 1'!$A$86,1,"") | N32: =IF($D32='Programming 1'!$A$87,1,"")
A33: IR2.2.15 | B33: FBOs | K33: =IF($D33='Programming 1'!$A$84,1,"") | L33: =IF($D33='Programming 1'!$A$85,1,"") | M33: =IF($D33='Programming 1'!$A$86,1,"") | N33: =IF($D33='Programming 1'!$A$87,1,"")
A34: IR2.2.16 | B34: Donors | K34: =IF($D34='Programming 1'!$A$84,1,"") | L34: =IF($D34='Programming 1'!$A$85,1,"") | M34: =IF($D34='Programming 1'!$A$86,1,"") | N34: =IF($D34='Programming 1'!$A$87,1,"")
A35: IR2.3: Evidence of multisectoral structures that are established or strengthened to promote FP policy
A36: IR2.3.1 | B36: Is there a multisectoral structure or group to strengthen FP? | K36: =IF(D36='Programming 1'!$A$10,1,"") | N36: =IF(D36='Programming 1'!$A$11,1,"")
B37: If so, which sectors / disciplines are represented?
B38: Private sector: | P38: IR2.3.1 is "No"
A39: IR2.3.2 | B39: Pharmacists | K39: =IF($P39=1,"",IF($D39='Programming 1'!$A$122,1,"")) | L39: =IF($P39=1,"",IF($D39='Programming 1'!$A$123,1,"")) | M39: =IF($P39=1,"",IF($D39='Programming 1'!$A$124,1,"")) | N39: =IF($P39=1,"",IF($D39='Programming 1'!$A$125,1,"")) | P39: =IF($N$36=1,1,"")
A40: IR2.3.3 | B40: Private facilities | K40: =IF($P40=1,"",IF($D40='Programming 1'!$A$122,1,"")) | L40: =IF($P40=1,"",IF($D40='Programming 1'!$A$123,1,"")) | M40: =IF($P40=1,"",IF($D40='Programming 1'!$A$124,1,"")) | N40: =IF($P40=1,"",IF($D40='Programming 1'!$A$125,1,"")) | P40: =IF($N$36=1,1,"")
...

Sheet IR3
A1: Intermediate Result 3 | J1: Hide these columns
A2: Adoption and implementation of policies that improve equitable and affordable access to high-quality family planning services and information
A3: Country: | E3: Date:
A4: Indicator | D4: Response | E4: Score | F4: Comments
A5: IR3.1: Existence of national or subnational policies or strategic plans that promote access to family planning services and information | J5: Green | K5: Yellow | L5: Orange | M5: Red
A6: IR3.1.1 | B6: Existence of a RH/FP strategy | J6: =IF(D6='Programming 1'!$A$10,1,"") | M6: =IF(D6='Programming 1'!$A$11,1,"")
A7: IR3.1.2 | B7: Existence of national SRH/FP policies | J7: =IF(D7='Programming 1'!$A$10,1,"") | M7: =IF(D7='Programming 1'!$A$11,1,"")
A8: IR3.1.3 | B8: Existence of RH guidelines | J8: =IF(D8='Programming 1'!$A$10,1,"") | M8: =IF(D8='Programming 1'!$A$11,1,"")
A9: IR3.1.4 | B9: Do the plans/policies promote access? | J9: =IF($D9='Programming 1'!$A$3,1,"") | K9: =IF($D9='Programming 1'!$A$4,1,"") | L9: =IF($D9='Programming 1'!$A$5,1,"") | M9: =IF($D9='Programming 1'!$A$6,1,"")
A10: IR3.1.5 | B10: Do the plans/policies promote quality? | J10: =IF($D10='Programming 1'!$A$3,1,"") | K10: =IF($D10='Programming 1'!$A$4,1,"") | L10: =IF($D10='Programming 1'!$A$5,1,"") | M10: =IF($D10='Programming 1'!$A$6,1,"")
A11: IR3.2: Existence of national or subnational policies or strategic plans that promote access to family planning services and information for underserved populations
A12: IR3.2.1 | B12: Existence of a RH/FP strategy | J12: =IF(D12='Programming 1'!$A$10,1,"") | M12: =IF(D12='Programming 1'!$A$11,1,"")
A13: IR3.2.2 | B13: Existence of national SRH/FP policies | J13: =IF(D13='Programming 1'!$A$10,1,"") | M13: =IF(D13='Programming 1'!$A$11,1,"")
A14: IR3.2.3 | B14: Existence of RH guidance documents | J14: =IF(D14='Programming 1'!$A$10,1,"") | M14: =IF(D14='Programming 1'!$A$11,1,"")
A15: IR3.2.4 | B15: Do the plans/policies promote access? | J15: =IF($D15='Programming 1'!$A$3,1,"") | K15: =IF($D15='Programming 1'!$A$4,1,"") | L15: =IF($D15='Programming 1'!$A$5,1,"") | M15: =IF($D15='Programming 1'!$A$6,1,"")
A16: IR3.2.5 | B16: Do the plans/policies promote quality? | J16: =IF($D16='Programming 1'!$A$3,1,"") | K16: =IF($D16='Programming 1'!$A$4,1,"") | L16: =IF($D16='Programming 1'!$A$5,1,"") | M16: =IF($D16='Programming 1'!$A$6,1,"")
A17: IR3.2.6 | B17: Do the plans address FP needs of youth? | J17: =IF($D17='Programming 1'!$A$3,1,"") | K17: =IF($D17='Programming 1'!$A$4,1,"") | L17: =IF($D17='Programming 1'!$A$5,1,"") | M17: =IF($D17='Programming 1'!$A$6,1,"")
A18: IR3.2.7 | B18: Do plans outline / address male involvement in FP? | J18: =IF($D18='Programming 1'!$A$3,1,"") | K18: =IF($D18='Programming 1'!$A$4,1,"") | L18: =IF($D18='Programming 1'!$A$5,1,"") | M18: =IF($D18='Programming 1'!$A$6,1,"")
A19: IR3.2.8 | B19: Do the plans address another important underserved population? | C19: (specify) | J19: =IF($D19='Programming 1'!$A$3,1,"") | K19: =IF($D19='Programming 1'!$A$4,1,"") | L19: =IF($D19='Programming 1'!$A$5,1,"") | M19: =IF($D19='Programming 1'!$A$6,1,"")
A20: IR3.2.9 | B20: Do the plans address another important underserved population? | C20: (specify) | J20: =IF($D20='Programming 1'!$A$3,1,"") | K20: =IF($D20='Programming 1'!$A$4,1,"") | L20: =IF($D20='Programming 1'!$A$5,1,"") | M20: =IF($D20='Programming 1'!$A$6,1,"")
A21: IR3.3: Documentation of instances in which a formal implementation or operational directive or plan is issued to accompany a national or subnational FP policy
A22: IR3.3.1 | B22: Do policies/laws have implementation plans? | J22: =IF($D22='Programming 1'!$A$3,1,"") | K22: =IF($D22='Programming 1'!$A$4,1,"") | L22: =IF($D22='Programming 1'!$A$5,1,"") | M22: =IF($D22='Programming 1'!$A$6,1,"") | O22: IR3.3.1 is "No, not at all"
A23: IR3.3.2 | B23: Are the implementation plans costed? | J23: =IF($O23=1,"",IF(D23='Programming 1'!$A$10,1,"")) | M23: =IF($O23=1,"",IF(D23='Programming 1'!$A$11,1,"")) | O23: =IF($M$22=1,1,"")
A24: IR3.3.3 | B24: Are the implementation plans complete – meaning do they cover every aspect of the policy or law? | J24: =IF($O23=1,"",IF($D24='Programming 1'!$A$3,1,"")) | K24: =IF($O23=1,"",IF($D24='Programming 1'!$A$4,1,"")) | L24: =IF($O23=1,"",IF($D24='Programming 1'!$A$5,1,"")) | M24: =IF($O23=1,"",IF($D24='Programming 1'!$A$6,1,"")) | O24: =IF($M$22=1,1,"")
A25: IR3.4: Evidence that policy barriers to access to family planning services and information have been identified, and/or removed
A26: IR3.4.1 | B26: Have policy barriers been identified? | J26: =IF(D26='Programming 1'!$A$10,1,"") | M26: =IF(D26='Programming 1'!$A$11,1,"")
A27: IR3.4.2 | B27: Have attempts been made to address policy barriers? | J27: =IF($D27='Programming 1'!$A$3,1,"") | K27: =IF($D27='Programming 1'!$A$4,1,"") | L27: =IF($D27='Programming 1'!$A$5,1,"") | M27: =IF($D27='Programming 1'!$A$6,1,"")
A28: IR3.4.3 | B28: Have policy barriers been removed? | J28: =IF($D28='Programming 1'!$A$3,1,"") | K28: =IF($D28='Programming 1'!$A$4,1,"") | L28: =IF($D28='Programming 1'!$A$5,1,"") | M28: =IF($D28='Programming 1'!$A$6,1,"")
A29: IR3.4.4 | B29: Are there additional barriers which need to be addressed? | J29: =IF($D29='Programming 1'!$A$57,1,"") | K29: =IF($D29='Programming 1'!$A$58,1,"") | L29: =IF($D29='Programming 1'!$A$59,1,"") | M29: =IF($D29='Programming 1'!$A$60,1,"")
A30: IR3.5: Evidence of the implementation of policies that promote family planning services and information
B31: Costed action/implementation plan developed | D31: =IF(AND(OR($D$22='Programming 1'!$A$3,$D$22='Programming 1'!$A$4,$D$22='Programming 1'!$A$5),$D$23='Programming 1'!$A$10),'Programming 1'!$A$10,IF(OR($D$22='Programming 1'!$A$6,$D$23='Programming 1'!$A$11),'Programming 1'!$A$11,""))
B32: Are there dissemination, awareness raising and education activities to promote the policy?
A33: IR3.5.1 | B33: At the national level | J33: =IF($D33='Programming 1'!$A$90,1,"") | K33: =IF($D33='Programming 1'!$A$91,1,"") | L33: =IF($D33='Programming 1'!$A$92,1,"") | M33: =IF($D33='Programming 1'!$A$93,1,"")
A34: IR3.5.2 | B34: At the subnational level | J34: =IF($D34='Programming 1'!$A$90,1,"") | K34: =IF($D34='Programming 1'!$A$91,1,"") | L34: =IF($D34='Programming 1'!$A$92,1,"") | M34: =IF($D34='Programming 1'!$A$93,1,"") | O34: IR3.5.1 is "No"
A35: IR3.5.3 | B35: Have activities from the costed implementation plan been carried out in support of the policy? | J35: =IF($O35=1,"",IF($D35='Programming 1'!$A$90,1,"")) | K35: =IF($O35=1,"",IF($D35='Programming 1'!$A$91,1,"")) | L35: =IF($O35=1,"",IF($D35='Programming 1'!$A$92,1,"")) | M35: =IF($O35=1,"",IF($D35='Programming 1'!$A$93,1,"")) | O35: =IF($D$31='Programming 1'!$A$11,1,"")
A36: IR3.5.4 | B36: Evidence of FP policy incorporated by sub-national levels | J36: =IF($D36='Programming 1'!$A$90,1,"") | K36: =IF($D36='Programming 1'!$A$91,1,"") | L36: =IF($D36='Programming 1'!$A$92,1,"") | M36: =IF($D36='Programming 1'!$A$93,1,"")
A37: IR3.5.5 | B37: Are there accountability measures and/or a monitoring plan for implementation of the policy? | J37: =IF($O37=1,"",IF(D37='Programming 1'!$A$10,1,"")) | M37: =IF($O37=1,"",IF(D37='Programming 1'!$A$11,1,"")) | O37: =IF($D$31='Programming 1'!$A$11,1,"")
J38: =SUM(J6:J37) -> 0 | K38: =SUM(K6:K37) -> 0 | L38: =SUM(L6:L37) -> 0 | M38: =SUM(M6:M37) -> 0 | N38: =SUM(J38:M38) -> 0

Sheet IR4
A1: Intermediate Result 4 | J1: Hide these columns
A2: Evidence-based data or information used to inform advocacy, policy dialogue, policy development, planning, resource allocation, budgeting, program design, guidelines, regulations, program improvement and management
A3: Country: | E3: Date:
A4: Indicator | D4: Response | E4: Score | F4: Comments
A5: IR4.1: Evidence of data or information used to support repositioning family planning efforts | J5: Green | K5: Yellow | L5: Orange | M5: Red
A6: IR4.1.1 | B6: Evidence of data used to set RH/FP strategy | J6: =IF($D6='Programming 1'!$A$3,1,"") | K6: =IF($D6='Programming 1'!$A$4,1,"") | L6: =IF($D6='Programming 1'!$A$5,1,"") | M6: =IF($D6='Programming 1'!$A$6,1,"")
A7: IR4.1.2 | B7: Evidence of data used in creation of national SRH/FP policies | J7: =IF($D7='Programming 1'!$A$3,1,"") | K7: =IF($D7='Programming 1'!$A$4,1,"") | L7: =IF($D7='Programming 1'!$A$5,1,"") | M7: =IF($D7='Programming 1'!$A$6,1,"")
A8: IR4.1.3 | B8: Evidence of data used in creation of RH guidelines | J8: =IF($D8='Programming 1'!$A$3,1,"") | K8: =IF($D8='Programming 1'!$A$4,1,"") | L8: =IF($D8='Programming 1'!$A$5,1,"") | M8: =IF($D8='Programming 1'!$A$6,1,"")
A9: IR4.1.4 | B9: Evidence of costing data used in creation of RH/FP policy implementation plan | J9: =IF($D9='Programming 1'!$A$3,1,"") | K9: =IF($D9='Programming 1'!$A$4,1,"") | L9: =IF($D9='Programming 1'!$A$5,1,"") | M9: =IF($D9='Programming 1'!$A$6,1,"")
A10: IR4.1.5 | B10: Evidence of data used in creation of advocacy messages | J10: =IF($D10='Programming 1'!$A$3,1,"") | K10: =IF($D10='Programming 1'!$A$4,1,"") | L10: =IF($D10='Programming 1'!$A$5,1,"") | M10: =IF($D10='Programming 1'!$A$6,1,"")
A11: IR4.1.6 | B11: Other example of data use for RH/FP? | C11: (specify) | J11: =IF($D11='Programming 1'!$A$3,1,"") | K11: =IF($D11='Programming 1'!$A$4,1,"") | L11: =IF($D11='Programming 1'!$A$5,1,"") | M11: =IF($D11='Programming 1'!$A$6,1,"")
A12: IR4.1.7 | B12: Other example of data use for RH/FP? | C12: (specify) | J12: =IF($D12='Programming 1'!$A$3,1,"") | K12: =IF($D12='Programming 1'!$A$4,1,"") | L12: =IF($D12='Programming 1'!$A$5,1,"") | M12: =IF($D12='Programming 1'!$A$6,1,"")
A13: IR4.2: Evidence of international family planning best practices incorporated into national health standards
A14: IR4.2.1 | B14: Do current national health standards exist? | J14: =IF(D14='Programming 1'!$A$10,1,"") | M14: =IF(D14='Programming 1'!$A$11,1,"")
B15: Do the national standards: | O15: IR4.2.1 is "No"
A16: IR4.2.2 | B16: ensure contraceptive choice by making a wide range of family planning methods available? | J16: =IF($O16=1,"",IF($D16='Programming 1'!$A$3,1,"")) | K16: =IF($O16=1,"",IF($D16='Programming 1'!$A$4,1,"")) | L16: =IF($O16=1,"",IF($D16='Programming 1'!$A$5,1,"")) | M16: =IF($O16=1,"",IF($D16='Programming 1'!$A$6,1,"")) | O16: =IF($M$14=1,1,"")
A17: IR4.2.3 | B17: train, equip, and support community health workers (CHWs) to provide a wide range of family planning methods? | J17: =IF($O17=1,"",IF($D17='Programming 1'!$A$3,1,"")) | K17: =IF($O17=1,"",IF($D17='Programming 1'!$A$4,1,"")) | L17: =IF($O17=1,"",IF($D17='Programming 1'!$A$5,1,"")) | M17: =IF($O17=1,"",IF($D17='Programming 1'!$A$6,1,"")) | O17: =IF($M$14=1,1,"")
A18: IR4.2.4 | B18: provide family planning counseling and services at the same time and location where women receive services related to spontaneous or induced abortion? | J18: =IF($O18=1,"",IF($D18='Programming 1'!$A$3,1,"")) | K18: =IF($O18=1,"",IF($D18='Programming 1'!$A$4,1,"")) | L18: =IF($O18=1,"",IF($D18='Programming 1'!$A$5,1,"")) | M18: =IF($O18=1,"",IF($D18='Programming 1'!$A$6,1,"")) | O18: =IF($M$14=1,1,"")
A19: IR4.2.5 | B19: support distribution of a wide range of family planning methods and promotion of healthy contraceptive behaviors through social marketing? | J19: =IF($O19=1,"",IF($D19='Programming 1'!$A$3,1,"")) | K19: =IF($O19=1,"",IF($D19='Programming 1'!$A$4,1,"")) | L19: =IF($O19=1,"",IF($D19='Programming 1'!$A$5,1,"")) | M19: =IF($O19=1,"",IF($D19='Programming 1'!$A$6,1,"")) | O19: =IF($M$14=1,1,"")
A20: IR4.2.6 | B20: provide a wide range of family planning methods through mobile outreach services? | J20: =IF($O20=1,"",IF($D20='Programming 1'!$A$3,1,"")) | K20: =IF($O20=1,"",IF($D20='Programming 1'!$A$4,1,"")) | L20: =IF($O20=1,"",IF($D20='Programming 1'!$A$5,1,"")) | M20: =IF($O20=1,"",IF($D20='Programming 1'!$A$6,1,"")) | O20: =IF($M$14=1,1,"")
A21: IR4.2.7 | B21: train and support pharmacists and drug shop keepers to provide a wide range of family planning methods? | J21: =IF($O21=1,"",IF($D21='Programming 1'!$A$3,1,"")) | K21: =IF($O21=1,"",IF($D21='Programming 1'!$A$4,1,"")) | L21: =IF($O21=1,"",IF($D21='Programming 1'!$A$5,1,"")) | M21: =IF($O21=1,"",IF($D21='Programming 1'!$A$6,1,"")) | O21: =IF($M$14=1,1,"")
A22: IR4.2.8 | B22: offer family planning services to postpartum women (up to 12 months after birth), such as screening women during routine child immunization contacts? | J22: =IF($O22=1,"",IF($D22='Programming 1'!$A$3,1,"")) | K22: =IF($O22=1,"",IF($D22='Programming 1'!$A$4,1,"")) | L22: =IF($O22=1,"",IF($D22='Programming 1'!$A$5,1,"")) | M22: =IF($O22=1,"",IF($D22='Programming 1'!$A$6,1,"")) | O22: =IF($M$14=1,1,"")
A23: IR4.3: Evidence of a defined and funded research agenda in family planning
A24: IR4.3.1 | B24: Is there a national research agenda for FP? | J24: =IF($D24='Programming 1'!$A$96,1,"") | K24: =IF($D24='Programming 1'!$A$97,1,"") | L24: =IF($D24='Programming 1'!$A$98,1,"") | M24: =IF($D24='Programming 1'!$A$99,1,"")
A25: IR4.3.2 | B25: Is there funding allocated to implement this research agenda? | J25: =IF($D$25='Programming 1'!$A103,1,"") | K25: =IF($D$25='Programming 1'!$A104,1,"") | L25: =IF($D$25='Programming 1'!$A105,1,"") | M25: =IF($D$25='Programming 1'!$A106,1,"") | O25: IR4.3.1 is "Not started" or "Just started"
A26: IR4.3.3 | B26: Are there currently any research projects ongoing from this agenda? | J26: =IF($O26=1,"",IF($D26='Programming 1'!$A$3,1,"")) | K26: =IF($O26=1,"",IF($D26='Programming 1'!$A$4,1,"")) | L26: =IF($O26=1,"",IF($D26='Programming 1'!$A$5,1,"")) | M26: =IF($O26=1,"",IF($D26='Programming 1'!$A$6,1,"")) | O26: =IF(OR($M$24=1,$L$24=1),1,"")
A27: IR4.3.4 | B27: Were there any research projects from this agenda completed within the last year? | J27: =IF($O27=1,"",IF(D27='Programming 1'!$A$10,1,"")) | M27: =IF($O27=1,"",IF(D27='Programming 1'!$A$11,1,"")) | O27: =IF(OR($M$24=1,$L$24=1),1,"")
A28: IR4.4: Evidence of in-country organizational technical capacity for the collection, analysis and communication of FP information
B29: Does the ministry responsible for FP have staff with the knowledge needed to:
A30: IR4.4.1 | B30: Collect data | J30: =IF($D30='Programming 1'!$A$3,1,"") | K30: =IF($D30='Programming 1'!$A$4,1,"") | L30: =IF($D30='Programming 1'!$A$5,1,"") | M30: =IF($D30='Programming 1'!$A$6,1,"")
A31: IR4.4.2 | B31: Analyze data | J31: =IF($D31='Programming 1'!$A$3,1,"") | K31: =IF($D31='Programming 1'!$A$4,1,"") | L31: =IF($D31='Programming 1'!$A$5,1,"") | M31: =IF($D31='Programming 1'!$A$6,1,"")
A32: IR4.4.3 | B32: Interpret data | J32: =IF($D32='Programming 1'!$A$3,1,"") | K32: =IF($D32='Programming 1'!$A$4,1,"") | L32: =IF($D32='Programming 1'!$A$5,1,"") | M32: =IF($D32='Programming 1'!$A$6,1,"")
A33: IR4.4.4 | B33: Communicate data | J33: =IF($D33='Programming 1'!$A$3,1,"") | K33: =IF($D33='Programming 1'!$A$4,1,"") | L33: =IF($D33='Programming 1'!$A$5,1,"") | M33: =IF($D33='Programming 1'!$A$6,1,"")
B34: Does the ministry responsible for FP have the resources (computer, software, etc.) needed to:
A35: IR4.4.5 | B35: Collect data | J35: =IF($D35='Programming 1'!$A$3,1,"") | K35: =IF($D35='Programming 1'!$A$4,1,"") | L35: =IF($D35='Programming 1'!$A$5,1,"") | M35: =IF($D35='Programming 1'!$A$6,1,"")
A36: IR4.4.6 | B36: Analyze data | J36: =IF($D36='Programming 1'!$A$3,1,"") | K36: =IF($D36='Programming 1'!$A$4,1,"") | L36: =IF($D36='Programming 1'!$A$5,1,"") | M36: =IF($D36='Programming 1'!$A$6,1,"")
A37: IR4.4.7 | B37: Interpret data | J37: =IF($D37='Programming 1'!$A$3,1,"") | K37: =IF($D37='Programming 1'!$A$4,1,"") | L37: =IF($D37='Programming 1'!$A$5,1,"") | M37: =IF($D37='Programming 1'!$A$6,1,"")
A38: IR4.4.8 | B38: Communicate data | J38: =IF($D38='Programming 1'!$A$3,1,"") | K38: =IF($D38='Programming 1'!$A$4,1,"") | L38: =IF($D38='Programming 1'!$A$5,1,"") | M38: =IF($D38='Programming 1'!$A$6,1,"")
B39: Does the ministry responsible for FP have sufficient staff to:
A40: IR4.4.9 | B40: Collect data | J40: =IF($D40='Programming 1'!$A$3,1,"") | K40: =IF($D40='Programming 1'!$A$4,1,"") | L40: =IF($D40='Programming 1'!$A$5,1,"") | M40: =IF($D40='Programming 1'!$A$6,1,"")
...

Sheet IR5
A1: Intermediate Result 5 | J1: Hide these columns
A2: Individual or institutional capacity strengthened in the public sector, civil society, and private sector to assume leadership and/or support the family planning agenda
A3: Country: | D3: Date:
A4: Indicator | C4: Response | D4: Score | E4: Comments
A5: IR5.1: Evidence of entities provided with donor assistance that demonstrate capacity to independently implement repositioning family planning activities | J5: Green | K5: Yellow | L5: Orange | M5: Red
A6: IR5.1.1 | B6: Are local CBOs independently implementing repositioning FP activities? | J6: =IF($C6='Programming 1'!$A$3,1,"") | K6: =IF($C6='Programming 1'!$A$4,1,"") | L6: =IF($C6='Programming 1'!$A$5,1,"") | M6: =IF($C6='Programming 1'!$A$6,1,"")
A7: IR5.1.2 | B7: Is the public sector independently implementing repositioning FP activities? | J7: =IF($C7='Programming 1'!$A$3,1,"") | K7: =IF($C7='Programming 1'!$A$4,1,"") | L7: =IF($C7='Programming 1'!$A$5,1,"") | M7: =IF($C7='Programming 1'!$A$6,1,"")
A8: IR5.1.3 | B8: Are local civil society groups independently implementing repositioning FP activities? | J8: =IF($C8='Programming 1'!$A$3,1,"") | K8: =IF($C8='Programming 1'!$A$4,1,"") | L8: =IF($C8='Programming 1'!$A$5,1,"") | M8: =IF($C8='Programming 1'!$A$6,1,"")
A9: IR5.1.4 | B9: Is the private sector independently implementing repositioning FP activities? | J9: =IF($C9='Programming 1'!$A$3,1,"") | K9: =IF($C9='Programming 1'!$A$4,1,"") | L9: =IF($C9='Programming 1'!$A$5,1,"") | M9: =IF($C9='Programming 1'!$A$6,1,"")
A10: IR5.1.5 | B10: Evidence of civil society involved in FP/population program design, budgeting, or implementation | J10: =IF($C10='Programming 1'!$A$3,1,"") | K10: =IF($C10='Programming 1'!$A$4,1,"") | L10: =IF($C10='Programming 1'!$A$5,1,"") | M10: =IF($C10='Programming 1'!$A$6,1,"")
A11: IR5.2: Evidence of government departments or other entities established or strengthened to support the family planning agenda
A12: IR5.2.1 | B12: Is there a government led family planning program? | J12: =IF(C12='Programming 1'!$A$10,1,"") | M12: =IF(C12='Programming 1'!$A$11,1,"")
A13: IR5.2.2 | B13: Is the FP program located within the appropriate ministry? | J13: =IF(C13='Programming 1'!$A$10,1,"") | M13: =IF(C13='Programming 1'!$A$11,1,"")
A14: IR5.2.3 | B14: Is the head of the FP program located in the heirarchy of the ministry in a position that provides adequate authority to accomplish objectives? | J14: =IF(C14='Programming 1'!$A$10,1,"") | M14: =IF(C14='Programming 1'!$A$11,1,"")
A15: IR5.2.4 | B15: Is there a parliamentary sub-committee on SRH/FP? | J15: =IF($C15='Programming 1'!$A$110,1,"") | K15: =IF($C15='Programming 1'!$A$111,1,"") | M15: =IF($C15='Programming 1'!$A$112,1,"")
A16: IR5.2.5 | B16: What is the level of activity of the sub-committee? | J16: =IF($C16='Programming 1'!$A$115,1,"") | K16: =IF($C16='Programming 1'!$A$116,1,"") | L16: =IF($C16='Programming 1'!$A$117,1,"") | M16: =IF($C16='Programming 1'!$A$118,1,"")
A17: IR5.3: Evidence of targeted public and private sector officials, FBO, or community leaders publicly demonstrating new or increased commitment to FP
A18: IR5.3.1 | B18: Do recent speeches, written statements, Op-ed pieces, blogs, etc. by traditional or religious leaders show support for FP? | J18: =IF($C18='Programming 1'!$A$69,1,"") | K18: =IF($C18='Programming 1'!$A$70,1,"") | L18: =IF($C18='Programming 1'!$A$71,1,"") | M18: =IF($C18='Programming 1'!$A$72,1,"")
A19: IR5.3.2 | B19: Do recent speeches, written statements, Op-ed pieces, blogs, etc. by public sector leaders show support for FP? | J19: =IF($C19='Programming 1'!$A$69,1,"") | K19: =IF($C19='Programming 1'!$A$70,1,"") | L19: =IF($C19='Programming 1'!$A$71,1,"") | M19: =IF($C19='Programming 1'!$A$72,1,"")
