Workbook
Name _Toc482013231: Introduction!$A$2

Sheet Introduction
A2: Système national des services sociaux pour les orphelins et les enfants vulnérables
A3: Outil pour la gestion, l'analyse et l'utilisation des données
A5: Le renforcement des systèmes est reconnu à l'échelle mondiale comme une étape logique et efficace dans l'amélioration de la performance, de la qualité et de la pérennité de la prestation de services. L'initiative MEASURE Evaluation financée par l'USAID et le PEPFAR a développé un cadre de planification, de suivi et d'évaluation pour, en partie, combler les lacunes existantes dès lors qu'il s'agit de démontrer l'impact que le renforcement des systèmes peut avoir sur la santé infantile, en fournissant des indicateurs et des conseils pour mesurer la performance des systèmes. Ces indicateurs mesurent les résultats des interventions axées sur le renforcement des systèmes dans cinq domaines clés étant définis par le PEPFAR comme étant des composantes du renforcement du système des services sociaux : (1) structures en matière de leadership et de gouvernance ; (2) effectifs des services sociaux ; (3) financement ; (4) systèmes de gestion de l'information et redevabilité ; et (5) mécanismes de coordination et réseaux. MEASURE Evaluation a publié un document de référence complet définissant ces indicateurs et offrant des conseils quant à leur application dans un pays ou dans le cadre d'un programme. Il s'agit d'un outil Excel appuyant la gestion, l'analyse et l'utilisation des données lors de la mise en œuvre des indicateurs. Cet outil doit être utilisé pour recueillir et stocker des informations ayant trait à l'ensemble des indicateurs. Il doit également être utilisé pour faciliter l'interprétation et l'application des résultats permettant de renforcer le système.
A19: Instructions : 1. Complétez la matrice du participant ci-dessous, en indiquant le nom, le poste et l'organisation de chaque intervenant prenant part à cette évaluation. 2. Dans l'onglet réservé à chaque composante du système, donnez une réponse pour chacun des référentiels. Les réponses à la plupart des questions figurent dans des menus déroulants. Certaines questions nécessitent de saisir des chiffres. 3. Au fur et à mesure que vous répondez à chaque référentiel, fournissez une description écrite ou une justification expliquant pourquoi vous avez attribué un tel score. 4. Les tableaux de bord à l'intérieur du document procèdent à des calculs automatiques. Après avoir donné vos réponses pour l'ensemble des indicateurs, utilisez les tableaux de bord pour analyser et interpréter les informations. 5. Développez un plan d'action, une stratégie ou un document équivalent fondé sur les domaines d'amélioration définis.
A20: Remplissez le tableau ci-dessous pour l'ensemble des intervenants prenant part à cette évaluation.
B22: Prénom | F22: Nom | J22: Intitulé de poste | N22: Organisation / Agence
A23: 1
A24: 2
A25: 3
A26: 4
A27: 5
A28: 6
A29: 7
A30: 8
A31: 9
A32: 10
A33: 11
A34: 12
... A42: 20

Sheet 1. Leadership et gouvernance
C1: 1. Leadership et gouvernance
C2: Instructions: Il y a 10 indicateurs dans cette composante du système. Attribuez un score pour chacun des référentiels listés. Pour chacun des référentiels, ajoutez une justification pour expliquer le score attribué. Chaque référentiel est défini en détail dans la fiche de référence de l'indicateur correspondant.
A4: Rédigez un bref résumé des progrès réalisés à ce jour et des travaux actuellement entrepris dans les domaines du leadership et de la gouvernance
A5: Indicateur | C5: Chaque standard | D5: {hide} | E5: Scores | F5: Résumé justificatif du score attribué | G5: Indicator | H5: Number of Benchmarks | I5: Denominator | J5: Numerator
A6: 1.1 | B6: Existence d’un cadre légal et politique pour la protection sociale sensible à l’enfant | C6: Des politiques et des lois nationales en matière de protection sociale existent et comportent des dispositions explicites concernant les droits et prestations des enfants et des familles. | D6: =IF(E6="0-Aucun résultat",0,IF(E6="1-Légers résultats",1,IF(E6="2-Bons résultats",2,IF(E6="3-Résultats remarquables",3)))) -> 1 | E6: 1-Légers résultats | G6: 1.1 | H6: =COUNTA(C6:C11) -> 4 | I6: =H6*3 -> 12 | J6: =SUM(D6:D11) -> 6
C7: Des politiques/lois nationales de protection sociale incluent des provisions explicites pour les droits légaux et sociaux des enfants et des familles. | D7: =IF(E7="0-Aucun résultat",0,IF(E7="1-Légers résultats",1,IF(E7="2-Bons résultats",2,IF(E7="3-Résultats remarquables",3)))) -> 2 | E7: 2-Bons résultats | G7: 1.2 | H7: =COUNTA(C12:C16) -> 3 | I7: =H7*3 -> 9 | J7: =SUM(D12:D16) -> 6
C8: Des directives et processus opérationnels existent pour mettre en oeuvre des politiques et des lois générales en matière de protection sociale et ces documents ont été approuvés. | D8: =IF(E8="0-Aucun résultat",0,IF(E8="1-Légers résultats",1,IF(E8="2-Bons résultats",2,IF(E8="3-Résultats remarquables",3)))) -> 3 | E8: 3-Résultats remarquables | G8: 1.3 | H8: =COUNTA(C17:C25) -> 7 | I8: =H8*3 -> 21 | J8: =SUM(D17:D25) -> 8
C9: Des directives opérationnelles et des processus pour la mise en œuvre des politiques et lois de protection sociale ont été validées. | D9: =IF(E9="0-Aucun résultat",0,IF(E9="1-Légers résultats",1,IF(E9="2-Bons résultats",2,IF(E9="3-Résultats remarquables",3)))) -> 0 | E9: 0-Aucun résultat | G9: 1.4 | H9: =COUNTA(C26:C34) -> 7 | I9: =H9*3 -> 21 | J9: =SUM(D26:D34) -> 6
D10: =IF(E10="0-Aucun résultat",0,IF(E10="1-Légers résultats",1,IF(E10="2-Bons résultats",2,IF(E10="3-Résultats remarquables",3)))) -> FALSE | G10: 1.5 | H10: =COUNTA(C35:C43) -> 7 | I10: =H10*3 -> 21 | J10: =SUM(D35:D43) -> 6
D11: =IF(E11="0-Aucun résultat",0,IF(E11="1-Légers résultats",1,IF(E11="2-Bons résultats",2,IF(E11="3-Résultats remarquables",3)))) -> FALSE | G11: 1.6 | H11: =COUNTA(C44:C51) -> 6 | I11: =H11*3 -> 18 | J11: =SUM(D44:D51) -> 6
A12: 1.2 | B12: Existence d’un cadre légal et politique pour la protection de l’enfance | C12: Des politiques et des lois nationales de protection de l’enfance existent et sont en accord avec la Convention internationale relative aux droits de l’enfant. | D12: =IF(E12="0-Aucun résultat",0,IF(E12="1-Légers résultats",1,IF(E12="2-Bons résultats",2,IF(E12="3-Résultats remarquables",3)))) -> 1 | E12: 1-Légers résultats | G12: 1.7 | H12: =COUNTA(C52:C57) -> 4 | I12: =H12*3 -> 12 | J12: =SUM(D52:D57) -> 5
C13: Des politiques et des lois nationales pour la protection de l'enfance existent et ont été traduites dans des langues appropriées pour faciliter leur dissémination et leur instauration. | D13: =IF(E13="0-Aucun résultat",0,IF(E13="1-Légers résultats",1,IF(E13="2-Bons résultats",2,IF(E13="3-Résultats remarquables",3)))) -> 2 | E13: 2-Bons résultats
C14: La loi nationale de protection de l’enfance a été validée. | D14: =IF(E14="0-Aucun résultat",0,IF(E14="1-Légers résultats",1,IF(E14="2-Bons résultats",2,IF(E14="3-Résultats remarquables",3)))) -> 3 | E14: 3-Résultats remarquables
D15: =IF(E15="0-Aucun résultat",0,IF(E15="1-Légers résultats",1,IF(E15="2-Bons résultats",2,IF(E15="3-Résultats remarquables",3)))) -> FALSE
D16: =IF(E16="0-Aucun résultat",0,IF(E16="1-Légers résultats",1,IF(E16="2-Bons résultats",2,IF(E16="3-Résultats remarquables",3)))) -> FALSE
A17: 1.3 | B17: Existence d’un plan national stratégique de bonne qualité traitant de la protection sociale sensible à l’enfant | C17: Un plan stratégique national à vision multisectorielle pour la protection sociale existe Indicateur 1.1). | D17: =IF(E17="0-Aucun résultat",0,IF(E17="1-Légers résultats",1,IF(E17="2-Bons résultats",2,IF(E17="3-Résultats remarquables",3)))) -> 1 | E17: 1-Légers résultats
C18: Le plan recouvre plusieurs années | D18: =IF(E18="0-Aucun résultat",0,IF(E18="1-Légers résultats",1,IF(E18="2-Bons résultats",2,IF(E18="3-Résultats remarquables",3)))) -> 0 | E18: 0-Aucun résultat
C19: Il est à jour. | D19: =IF(E19="0-Aucun résultat",0,IF(E19="1-Légers résultats",1,IF(E19="2-Bons résultats",2,IF(E19="3-Résultats remarquables",3)))) -> 3 | E19: 3-Résultats remarquables
C20: Il a été officiellement validé par une autorité gouvernementale compétente. | D20: =IF(E20="0-Aucun résultat",0,IF(E20="1-Légers résultats",1,IF(E20="2-Bons résultats",2,IF(E20="3-Résultats remarquables",3)))) -> 0 | E20: 0-Aucun résultat
C21: Son élaboration a été inclusive : en d’autres termes, les parties prenantes des ministères pertinents et les acteurs de la société civile ont participé à sa formulation. | D21: =IF(E21="0-Aucun résultat",0,IF(E21="1-Légers résultats",1,IF(E21="2-Bons résultats",2,IF(E21="3-Résultats remarquables",3)))) -> 2 | E21: 2-Bons résultats
C22: Son coût a été estimé pour chaque année de sa mise en œuvre : en d’autres termes, les coûts de mise en œuvre du plan ont été estimés | D22: =IF(E22="0-Aucun résultat",0,IF(E22="1-Légers résultats",1,IF(E22="2-Bons résultats",2,IF(E22="3-Résultats remarquables",3)))) -> 0 | E22: 0-Aucun résultat
C23: Les données disponibles ont servi à l’élaboration du plan : en d’autres termes, le plan reflète les décisions prises en fonction des recommandations mondiales ou des résultats de recherche pertinents | D23: =IF(E23="0-Aucun résultat",0,IF(E23="1-Légers résultats",1,IF(E23="2-Bons résultats",2,IF(E23="3-Résultats remarquables",3)))) -> 2 | E23: 2-Bons résultats
D24: =IF(E24="0-Aucun résultat",0,IF(E24="1-Légers résultats",1,IF(E24="2-Bons résultats",2,IF(E24="3-Résultats remarquables",3)))) -> FALSE
D25: =IF(E25="0-Aucun résultat",0,IF(E25="1-Légers résultats",1,IF(E25="2-Bons résultats",2,IF(E25="3-Résultats remarquables",3)))) -> FALSE
A26: 1.4 | B26: Preuve de la mise en œuvre du plan stratégique national traitant de la protection sociale sensible à l’enfant | C26: Un plan stratégique a été approuvé par l'autorité compétente. | D26: =IF(E26="0-Aucun résultat",0,IF(E26="1-Légers résultats",1,IF(E26="2-Bons résultats",2,IF(E26="3-Résultats remarquables",3)))) -> 1 | E26: 1-Légers résultats
C27: Le document du plan stratégique, et tout autre document afférent, ont été disséminés auprès des bureaux de subdivisions administratives régionales et divisionnaires et d’autres parties prenantes. | D27: =IF(E27="0-Aucun résultat",0,IF(E27="1-Légers résultats",1,IF(E27="2-Bons résultats",2,IF(E27="3-Résultats remarquables",3)))) -> 2 | E27: 2-Bons résultats
C28: Les parties prenantes nationales, régionales et divisionnaires ont suivi une formation sur la mise en œuvre du plan stratégique. | D28: =IF(E28="0-Aucun résultat",0,IF(E28="1-Légers résultats",1,IF(E28="2-Bons résultats",2,IF(E28="3-Résultats remarquables",3)))) -> 0 | E28: 0-Aucun résultat
C29: Le plan de travail annuel et le budget, qui inclut des dispositions pour la protection de l’enfance, ont été approuvés par l’Assemblée nationale. | D29: =IF(E29="0-Aucun résultat",0,IF(E29="1-Légers résultats",1,IF(E29="2-Bons résultats",2,IF(E29="3-Résultats remarquables",3)))) -> 3 | E29: 3-Résultats remarquables
C30: Les ressources ont été dépensées dans la mise en œuvre du plan de travail annuel. | D30: =IF(E30="0-Aucun résultat",0,IF(E30="1-Légers résultats",1,IF(E30="2-Bons résultats",2,IF(E30="3-Résultats remarquables",3)))) -> 0 | E30: 0-Aucun résultat
C31: Un mécanisme de suivi a été établi pour suivre et évaluer le plan stratégique national. | D31: =IF(E31="0-Aucun résultat",0,IF(E31="1-Légers résultats",1,IF(E31="2-Bons résultats",2,IF(E31="3-Résultats remarquables",3)))) -> 0 | E31: 0-Aucun résultat
C32: Des révisions de programme de routine du plan stratégique sont menées en interne au sein du Ministère dans les délais standards (ex : tous les ans). | D32: =IF(E32="0-Aucun résultat",0,IF(E32="1-Légers résultats",1,IF(E32="2-Bons résultats",2,IF(E32="3-Résultats remarquables",3)))) -> 0 | E32: 0-Aucun résultat
D33: =IF(E33="0-Aucun résultat",0,IF(E33="1-Légers résultats",1,IF(E33="2-Bons résultats",2,IF(E33="3-Résultats remarquables",3)))) -> FALSE
D34: =IF(E34="0-Aucun résultat",0,IF(E34="1-Légers résultats",1,IF(E34="2-Bons résultats",2,IF(E34="3-Résultats remarquables",3)))) -> FALSE
A35: 1.5 | B35: Existence d’un plan stratégique national de bonne qualité traitant de la protection de l’enfance | C35: Un plan national stratégique pour la protection de l’enfance existe et est aligné avec la politique nationale de protection de l’enfance (Indicateur 1.2) | D35: =IF(E35="0-Aucun résultat",0,IF(E35="1-Légers résultats",1,IF(E35="2-Bons résultats",2,IF(E35="3-Résultats remarquables",3)))) -> 2 | E35: 2-Bons résultats
C36: Le plan recouvre plusieurs années | D36: =IF(E36="0-Aucun résultat",0,IF(E36="1-Légers résultats",1,IF(E36="2-Bons résultats",2,IF(E36="3-Résultats remarquables",3)))) -> 0 | E36: 0-Aucun résultat
C37: Il est à jour. | D37: =IF(E37="0-Aucun résultat",0,IF(E37="1-Légers résultats",1,IF(E37="2-Bons résultats",2,IF(E37="3-Résultats remarquables",3)))) -> 0 | E37: 0-Aucun résultat
C38: Il a été officiellement validé par l'autorité gouvernementale compétente. | D38: =IF(E38="0-Aucun résultat",0,IF(E38="1-Légers résultats",1,IF(E38="2-Bons résultats",2,IF(E38="3-Résultats remarquables",3)))) -> 3 | E38: 3-Résultats remarquables
C39: Son élaboration a été inclusive : en d’autres termes, les parties prenantes des ministères pertinents et les acteurs de la société civile ont participé à sa formulation. | D39: =IF(E39="0-Aucun résultat",0,IF(E39="1-Légers résultats",1,IF(E39="2-Bons résultats",2,IF(E39="3-Résultats remarquables",3)))) -> 0 | E39: 0-Aucun résultat
C40: Son coût a été estimé pour chaque année de sa mise en œuvre : en d’autres termes, les coûts de mise en œuvre du plan ont été estimés | D40: =IF(E40="0-Aucun résultat",0,IF(E40="1-Légers résultats",1,IF(E40="2-Bons résultats",2,IF(E40="3-Résultats remarquables",3)))) -> 1 | E40: 1-Légers résultats
C41: Les données disponibles ont servi à l’élaboration du plan : en d’autres termes, le plan reflète les décisions prises en fonction des recommandations mondiales ou des résultats de recherche pertinents | D41: =IF(E41="0-Aucun résultat",0,IF(E41="1-Légers résultats",1,IF(E41="2-Bons résultats",2,IF(E41="3-Résultats remarquables",3)))) -> 0 | E41: 0-Aucun résultat
...

Sheet 2. Personnel du secteur social
C1: 2. Personnel du secteur social
C2: Instructions: Il y a 9 indicateurs dans cette composante du système. Attribuez un score pour chacun des référentiels listés. Pour chacun des référentiels, ajoutez une justification pour expliquer le score attribué. Chaque référentiel est défini en détail dans la fiche de référence de l'indicateur correspondant. Pour les indicateurs 2.6 et 2.7, des catégories spécifiques de personnel doivent être citées par l'équipe d'évaluation.
A4: Rédigez un bref résumé des progrès réalisés et du travail actuellement entrepris concernant les effectifs des services sociaux
A5: Indicateur | C5: Chaque standard | D5: {hide} | E5: Scores | F5: Résumé justificatif du score attribué | G5: Indicator | H5: Number of Benchmarks | I5: Denominator | J5: Numerator
A6: 2.1 | B6: Existence d’un cadre régulateur national pour le personnel du secteur social | C6: Les qualifications professionnelles et standards des travailleurs sociaux ont été définis dans le cadre régulateur. | D6: =IF(E6="0-Aucun résultat",0,IF(E6="1-Légers résultats",1,IF(E6="2-Bons résultats",2,IF(E6="3-Résultats remarquables",3)))) -> 0 | E6: 0-Aucun résultat | G6: 2.1 | H6: =COUNTA(C6:C15) -> 8 | I6: =H6*3 -> 24 | J6: =SUM(D6:D15) -> 8
C7: Les obligations et standards pour travailler avec les enfants ont été identifés dans le cadre régulateur. | D7: =IF(E7="0-Aucun résultat",0,IF(E7="1-Légers résultats",1,IF(E7="2-Bons résultats",2,IF(E7="3-Résultats remarquables",3)))) -> 1 | E7: 1-Légers résultats | G7: 2.2 | H7: =COUNTA(C16:C25) -> 8 | I7: =H7*3 -> 24 | J7: =SUM(D16:D25) -> 6
C8: Les rôles et responsabilités des différentes catégories de travailleurs sociaux sont définis dans le cadre régulateur pour préciser comment ils doivent interagir les uns avec les autres. | D8: =IF(E8="0-Aucun résultat",0,IF(E8="1-Légers résultats",1,IF(E8="2-Bons résultats",2,IF(E8="3-Résultats remarquables",3)))) -> 2 | E8: 2-Bons résultats | G8: 2.3 | H8: =COUNTA(C26:C36) -> 9 | I8: =H8*3 -> 27 | J8: =SUM(D26:D36) -> 6
C9: Les rôles et responsabilités des différentes catégories de travailleurs sociaux sont définis dans le cadre régulateur pour préciser comment ils doivent interagir avec d’autres secteurs (santé, éducation, justice, etc.). | D9: =IF(E9="0-Aucun résultat",0,IF(E9="1-Légers résultats",1,IF(E9="2-Bons résultats",2,IF(E9="3-Résultats remarquables",3)))) -> 3 | E9: 3-Résultats remarquables | G9: 2.4 | H9: =COUNTA(C37:C45) -> 7 | I9: =H9*3 -> 21 | J9: =SUM(D37:D45) -> 6
C10: Un processus de certification, d’accréditation, ou de délivrance de licence pour le personnel du secteur social a été décrit dans le cadre régulateur. | D10: =IF(E10="0-Aucun résultat",0,IF(E10="1-Légers résultats",1,IF(E10="2-Bons résultats",2,IF(E10="3-Résultats remarquables",3)))) -> 0 | E10: 0-Aucun résultat | G10: 2.5 | H10: =COUNTA(C46:C52) -> 5 | I10: =H10*3 -> 15 | J10: =SUM(D46:D52) -> 6
C11: Un système d’évaluation de routine de tous les fonctionnaires travaillant pour les services sociaux est décrit dans le cadre régulateur. | D11: =IF(E11="0-Aucun résultat",0,IF(E11="1-Légers résultats",1,IF(E11="2-Bons résultats",2,IF(E11="3-Résultats remarquables",3)))) -> 2 | E11: 2-Bons résultats
C12: Le cadre régulateur est en accord avec la politique nationale cadre de protection sociale sensible à l’enfant (Indicateur 1.1). | D12: =IF(E12="0-Aucun résultat",0,IF(E12="1-Légers résultats",1,IF(E12="2-Bons résultats",2,IF(E12="3-Résultats remarquables",3)))) -> 0 | E12: 0-Aucun résultat
C13: Le cadre régulateur est en accord avec la politique nationale cadre de protection de l’enfance (Indicateur 1.2). | D13: =IF(E13="0-Aucun résultat",0,IF(E13="1-Légers résultats",1,IF(E13="2-Bons résultats",2,IF(E13="3-Résultats remarquables",3)))) -> 0 | E13: 0-Aucun résultat
D14: =IF(E14="0-Aucun résultat",0,IF(E14="1-Légers résultats",1,IF(E14="2-Bons résultats",2,IF(E14="3-Résultats remarquables",3)))) -> FALSE
D15: =IF(E15="0-Aucun résultat",0,IF(E15="1-Légers résultats",1,IF(E15="2-Bons résultats",2,IF(E15="3-Résultats remarquables",3)))) -> FALSE
A16: 2.2 | B16: Existence d’un organisme régulateur national fonctionnel pour le personnel du secteur social | C16: Un code de conduite défini. | D16: =IF(E16="0-Aucun résultat",0,IF(E16="1-Légers résultats",1,IF(E16="2-Bons résultats",2,IF(E16="3-Résultats remarquables",3)))) -> 0 | E16: 0-Aucun résultat
C17: Délivre les licences et certificats aux travailleurs sociaux et autres professionnels travaillant dans le secteur social en accord avec le cadre régulateur national du personnel du secteur social (Indicateur 2.1). | D17: =IF(E17="0-Aucun résultat",0,IF(E17="1-Légers résultats",1,IF(E17="2-Bons résultats",2,IF(E17="3-Résultats remarquables",3)))) -> 1 | E17: 1-Légers résultats
C18: Délivre des licences et certificats aux personnes achevant leur formation et/ou études et qui ont été été acréditées. | D18: =IF(E18="0-Aucun résultat",0,IF(E18="1-Légers résultats",1,IF(E18="2-Bons résultats",2,IF(E18="3-Résultats remarquables",3)))) -> 2 | E18: 2-Bons résultats
C19: Un mécanisme existe pour suivre la conformité des pratiques des travailleurs sociaux avec le code de conduite | D19: =IF(E19="0-Aucun résultat",0,IF(E19="1-Légers résultats",1,IF(E19="2-Bons résultats",2,IF(E19="3-Résultats remarquables",3)))) -> 3 | E19: 3-Résultats remarquables
C20: Le mécanisme remédie aux actes non conformes. | D20: =IF(E20="0-Aucun résultat",0,IF(E20="1-Légers résultats",1,IF(E20="2-Bons résultats",2,IF(E20="3-Résultats remarquables",3)))) -> 0 | E20: 0-Aucun résultat
C21: Favorise l’amélioration continue des travailleurs sociaux. | D21: =IF(E21="0-Aucun résultat",0,IF(E21="1-Légers résultats",1,IF(E21="2-Bons résultats",2,IF(E21="3-Résultats remarquables",3)))) -> 0 | E21: 0-Aucun résultat
C22: Est gouverné par des représentants professionnellement et légalement qualifiés, en accord avec les politiques et standards nationaux. | D22: =IF(E22="0-Aucun résultat",0,IF(E22="1-Légers résultats",1,IF(E22="2-Bons résultats",2,IF(E22="3-Résultats remarquables",3)))) -> 0 | E22: 0-Aucun résultat
C23: Est gouverné par des représentants qui participent activement à la régulation. | D23: =IF(E23="0-Aucun résultat",0,IF(E23="1-Légers résultats",1,IF(E23="2-Bons résultats",2,IF(E23="3-Résultats remarquables",3)))) -> 0 | E23: 0-Aucun résultat
D24: =IF(E24="0-Aucun résultat",0,IF(E24="1-Légers résultats",1,IF(E24="2-Bons résultats",2,IF(E24="3-Résultats remarquables",3)))) -> FALSE
D25: =IF(E25="0-Aucun résultat",0,IF(E25="1-Légers résultats",1,IF(E25="2-Bons résultats",2,IF(E25="3-Résultats remarquables",3)))) -> FALSE
A26: 2.3 | B26: Disponibilité de données de bonne qualité sur le personnel du secteur social | C26: Consolidées au niveau national | D26: =IF(E26="0-Aucun résultat",0,IF(E26="1-Légers résultats",1,IF(E26="2-Bons résultats",2,IF(E26="3-Résultats remarquables",3)))) -> 0 | E26: 0-Aucun résultat
C27: Inclusives pour englober toutes les catégories de travailleurs | D27: =IF(E27="0-Aucun résultat",0,IF(E27="1-Légers résultats",1,IF(E27="2-Bons résultats",2,IF(E27="3-Résultats remarquables",3)))) -> 1 | E27: 1-Légers résultats
C28: Désagrégées par catégorie de travailleurs | D28: =IF(E28="0-Aucun résultat",0,IF(E28="1-Légers résultats",1,IF(E28="2-Bons résultats",2,IF(E28="3-Résultats remarquables",3)))) -> 2 | E28: 2-Bons résultats
C29: Désagrégées par sexe (hommes et femmes) | D29: =IF(E29="0-Aucun résultat",0,IF(E29="1-Légers résultats",1,IF(E29="2-Bons résultats",2,IF(E29="3-Résultats remarquables",3)))) -> 3 | E29: 3-Résultats remarquables
C30: Désagrégées par âge | D30: =IF(E30="0-Aucun résultat",0,IF(E30="1-Légers résultats",1,IF(E30="2-Bons résultats",2,IF(E30="3-Résultats remarquables",3)))) -> 0 | E30: 0-Aucun résultat
C31: Désagrégées par subdivision géographique (c’est-à-dire les régions, provinces, divisions, districts) | D31: =IF(E31="0-Aucun résultat",0,IF(E31="1-Légers résultats",1,IF(E31="2-Bons résultats",2,IF(E31="3-Résultats remarquables",3)))) -> 0 | E31: 0-Aucun résultat
C32: Actualisées | D32: =IF(E32="0-Aucun résultat",0,IF(E32="1-Légers résultats",1,IF(E32="2-Bons résultats",2,IF(E32="3-Résultats remarquables",3)))) -> 0 | E32: 0-Aucun résultat
C33: Les données sont globales. | D33: =IF(E33="0-Aucun résultat",0,IF(E33="1-Légers résultats",1,IF(E33="2-Bons résultats",2,IF(E33="3-Résultats remarquables",3)))) -> 0 | E33: 0-Aucun résultat
C34: Les données sont de bonne qualité. | D34: =IF(E34="0-Aucun résultat",0,IF(E34="1-Légers résultats",1,IF(E34="2-Bons résultats",2,IF(E34="3-Résultats remarquables",3)))) -> 0 | E34: 0-Aucun résultat
D35: =IF(E35="0-Aucun résultat",0,IF(E35="1-Légers résultats",1,IF(E35="2-Bons résultats",2,IF(E35="3-Résultats remarquables",3)))) -> FALSE
D36: =IF(E36="0-Aucun résultat",0,IF(E36="1-Légers résultats",1,IF(E36="2-Bons résultats",2,IF(E36="3-Résultats remarquables",3)))) -> FALSE
A37: 2.4 | B37: Existence d’un plan national stratégique de bonne qualité comprenant le renforcement du personnel du secteur social | C37: Recouvre plusieurs années | D37: =IF(E37="0-Aucun résultat",0,IF(E37="1-Légers résultats",1,IF(E37="2-Bons résultats",2,IF(E37="3-Résultats remarquables",3)))) -> 1 | E37: 1-Légers résultats
C38: Autorisé/approuvé | D38: =IF(E38="0-Aucun résultat",0,IF(E38="1-Légers résultats",1,IF(E38="2-Bons résultats",2,IF(E38="3-Résultats remarquables",3)))) -> 2 | E38: 2-Bons résultats
C39: Actualisé | D39: =IF(E39="0-Aucun résultat",0,IF(E39="1-Légers résultats",1,IF(E39="2-Bons résultats",2,IF(E39="3-Résultats remarquables",3)))) -> 0 | E39: 0-Aucun résultat
C40: Coûts estimés | D40: =IF(E40="0-Aucun résultat",0,IF(E40="1-Légers résultats",1,IF(E40="2-Bons résultats",2,IF(E40="3-Résultats remarquables",3)))) -> 0 | E40: 0-Aucun résultat
C41: Comprend toutes les catégories du personnel du secteur social | D41: =IF(E41="0-Aucun résultat",0,IF(E41="1-Légers résultats",1,IF(E41="2-Bons résultats",2,IF(E41="3-Résultats remarquables",3)))) -> 3 | E41: 3-Résultats remarquables
...

Sheet 3. Financement
C1: 3. Financement
C2: Instructions: Il y a 6 indicateurs dans cette composante du système. Attribuez un score pour chacun des référentiels listés. Pour chacun des référentiels, ajoutez une justification pour expliquer le score attribué. Chaque référentiel est défini en détail dans la fiche de référence de l'indicateur correspondant.
A4: Rédigez un bref résumé des progrès réalisés à ce jour et du travail actuellement entrepris en termes de financement
A5: Indicateur | C5: Chaque standard | D5: {hide} | E5: Scores | F5: Résumé justificatif du score attribué | G5: Indicator | H5: Number of Benchmarks | I5: Denominator | J5: Numerator
A6: 3.1 | B6: Le cadre des dépenses à moyen terme (ou son équivalent) national comprend la politique et le programme de protection sociale sensible à l’enfant | C6: Référence explicite à la politique nationale de protection sociale | D6: =IF(E6="0-Aucun résultat",0,IF(E6="1-Légers résultats",1,IF(E6="2-Bons résultats",2,IF(E6="3-Résultats remarquables",3)))) -> 0 | E6: 0-Aucun résultat | G6: 3.1 | H6: =COUNTA(C6:C12) -> 5 | I6: =H6*3 -> 15 | J6: =SUM(D6:D12) -> 6
C7: Référence explicite aux programmes de protection sociale « sensibles à l’enfant » | D7: =IF(E7="0-Aucun résultat",0,IF(E7="1-Légers résultats",1,IF(E7="2-Bons résultats",2,IF(E7="3-Résultats remarquables",3)))) -> 1 | E7: 1-Légers résultats | G7: 3.2 | H7: =COUNTA(C13:C18) -> 4 | I7: =H7*3 -> 12 | J7: =SUM(D13:D18) -> 6
C8: Contient une enveloppe budgétaire (des ressources disponibles) pour la protection sociale | D8: =IF(E8="0-Aucun résultat",0,IF(E8="1-Légers résultats",1,IF(E8="2-Bons résultats",2,IF(E8="3-Résultats remarquables",3)))) -> 2 | E8: 2-Bons résultats
C9: Contient des estimations cumulatives des coûts actuels et à moyen terme des programmes existants de protection sociale | D9: =IF(E9="0-Aucun résultat",0,IF(E9="1-Légers résultats",1,IF(E9="2-Bons résultats",2,IF(E9="3-Résultats remarquables",3)))) -> 3 | E9: 3-Résultats remarquables
C10: Correspondance entre les coûts estimés et les ressources disponibles pour la protection sociale | D10: =IF(E10="0-Aucun résultat",0,IF(E10="1-Légers résultats",1,IF(E10="2-Bons résultats",2,IF(E10="3-Résultats remarquables",3)))) -> 0 | E10: 0-Aucun résultat
D11: =IF(E11="0-Aucun résultat",0,IF(E11="1-Légers résultats",1,IF(E11="2-Bons résultats",2,IF(E11="3-Résultats remarquables",3)))) -> FALSE
D12: =IF(E12="0-Aucun résultat",0,IF(E12="1-Légers résultats",1,IF(E12="2-Bons résultats",2,IF(E12="3-Résultats remarquables",3)))) -> FALSE
A13: 3.2 | B13: Le cadre de dépenses nationales à moyen terme (ou son équivalent) inclut la politique et le programme de protection de l’enfance | C13: Référence explicite à la politique nationale cadre de protection de l’enfance | D13: =IF(E13="0-Aucun résultat",0,IF(E13="1-Légers résultats",1,IF(E13="2-Bons résultats",2,IF(E13="3-Résultats remarquables",3)))) -> 0 | E13: 0-Aucun résultat
C14: Contient une enveloppe budgétaire (des ressources disponibles) pour la protection de l’enfance | D14: =IF(E14="0-Aucun résultat",0,IF(E14="1-Légers résultats",1,IF(E14="2-Bons résultats",2,IF(E14="3-Résultats remarquables",3)))) -> 1 | E14: 1-Légers résultats
C15: Contient des estimations cumulatives des coûts actuels et à moyen terme des programmes de protection de l’enfance | D15: =IF(E15="0-Aucun résultat",0,IF(E15="1-Légers résultats",1,IF(E15="2-Bons résultats",2,IF(E15="3-Résultats remarquables",3)))) -> 2 | E15: 2-Bons résultats
C16: Correspondance entre les coûts estimés et les ressources disponibles pour la protection de l’enfance | D16: =IF(E16="0-Aucun résultat",0,IF(E16="1-Légers résultats",1,IF(E16="2-Bons résultats",2,IF(E16="3-Résultats remarquables",3)))) -> 3 | E16: 3-Résultats remarquables
D17: =IF(E17="0-Aucun résultat",0,IF(E17="1-Légers résultats",1,IF(E17="2-Bons résultats",2,IF(E17="3-Résultats remarquables",3)))) -> FALSE
D18: =IF(E18="0-Aucun résultat",0,IF(E18="1-Légers résultats",1,IF(E18="2-Bons résultats",2,IF(E18="3-Résultats remarquables",3)))) -> FALSE
A19: 3.3 | B19: Allocation budgétaire annuelle totale du gouvernement pour la protection sociale sensible à l’enfant | C19: Allocation budgétaire annuelle totale du gouvernement à la protection sensible à l’enfant, mesurée en unités monétaires (ex : USD)
A20: 3.4 | B20: Allocation budgétaire annuelle totale du gouvernement pour la protection de l’enfance | C20: Allocation budgétaire annuelle totale du gouvernement pour la protection de l’enfance, mesurée en unités monétaires (ex : USD)
A21: 3.5 | B21: Dépenses annuelles totales du gouvernement pour la protection sociale sensible à l’enfant | C21: Dépenses annuelles totales du gouvernement pour la protection sociale sensible à l’enfant, mesurées en unités monétaires (ex : USD)
A22: 3.6 | B22: Dépenses annuelles totales du gouvernement pour la protection de l’enfance | C22: Dépenses annuelles totales du gouvernement pour la protection de l’enfance, mesurées en unités monétaires (ex : USD)
A24: Rédigez un résumé des forces, des faiblesses et des recommandations identifiées

Sheet 4. Systèmes de gestion de l’inf
C1: 4. Systèmes de gestion de l’information et de redevabilité
C2: Instructions: Il y a 6 indicateurs dans cette composante du système. Attribuez un score pour chacun des référentiels listés. Pour chacun des référentiels, ajoutez une justification pour expliquer le score attribué. Chaque référentiel est défini en détail dans la fiche de référence de l'indicateur correspondant.
A4: Rédigez un bref résumé des progrès réalisés à ce jour et du travail actuellement entrepris en termes de gestion de l'information et de redevabilité
A5: Indicateur | C5: Chaque standard | D5: {hide} | E5: Scores | F5: Résumé justificatif du score attribué | G5: Indicator | H5: Number of Benchmarks | I5: Denominator | J5: Numerator
A6: 4.1 | B6: Existence d’un plan de suivi et évaluation national de bonne qualité comprenant la protection sociale sensible à l’enfant | C6: Inclusion d'un cadre de résultats. | D6: =IF(E6="0-Aucun résultat",0,IF(E6="1-Légers résultats",1,IF(E6="2-Bons résultats",2,IF(E6="3-Résultats remarquables",3)))) -> 1 | E6: 1-Légers résultats | G6: 4.1 | H6: =COUNTA(C6:C13) -> 6 | I6: =H6*3 -> 18 | J6: =SUM(D6:D13) -> 6
C7: Inclusion de définitions détaillées des indicateurs et de protocoles. | D7: =IF(E7="0-Aucun résultat",0,IF(E7="1-Légers résultats",1,IF(E7="2-Bons résultats",2,IF(E7="3-Résultats remarquables",3)))) -> 2 | E7: 2-Bons résultats | G7: 4.2 | H7: =COUNTA(C14:C23) -> 10 | I7: =H7*3 -> 30 | J7: =SUM(D14:D23) -> 8
C8: Des rôles et responsabilités de S&E sont clairement définis pour les parties prenantes nationales, régionales et divisionnaires | D8: =IF(E8="0-Aucun résultat",0,IF(E8="1-Légers résultats",1,IF(E8="2-Bons résultats",2,IF(E8="3-Résultats remarquables",3)))) -> 3 | E8: 3-Résultats remarquables | G8: 4.3 | H8: =COUNTA(C26:C33) -> 6 | I8: =H8*3 -> 18 | J8: =SUM(D26:D33) -> 9
C9: Des estimations de coûts pour la mise en œuvre des activités de S&E soutenant le paquet d’assistance sociale national existent | D9: =IF(E9="0-Aucun résultat",0,IF(E9="1-Légers résultats",1,IF(E9="2-Bons résultats",2,IF(E9="3-Résultats remarquables",3)))) -> 0 | E9: 0-Aucun résultat | G9: 4.4 | H9: =COUNTA(C34:C46) -> 11 | I9: =H9*3 -> 33 | J9: =SUM(D34:D46) -> 6
C10: Il comporte des conseils quant à la manière dont les données peuvent être utilisées par les parties prenantes nationales et sous-nationales. | D10: =IF(E10="0-Aucun résultat",0,IF(E10="1-Légers résultats",1,IF(E10="2-Bons résultats",2,IF(E10="3-Résultats remarquables",3)))) -> 0 | E10: 0-Aucun résultat
C11: Il a été approuvé par l'autorité compétente. | D11: =IF(E11="0-Aucun résultat",0,IF(E11="1-Légers résultats",1,IF(E11="2-Bons résultats",2,IF(E11="3-Résultats remarquables",3)))) -> 0 | E11: 0-Aucun résultat
D12: =IF(E12="0-Aucun résultat",0,IF(E12="1-Légers résultats",1,IF(E12="2-Bons résultats",2,IF(E12="3-Résultats remarquables",3)))) -> FALSE
D13: =IF(E13="0-Aucun résultat",0,IF(E13="1-Légers résultats",1,IF(E13="2-Bons résultats",2,IF(E13="3-Résultats remarquables",3)))) -> FALSE
A14: 4.2 | B14: Disponibilité de données de bonne qualité sur la protection sociale sensible à l’enfant | C14: Des données décrivant la prestation du paquet d’assistance sociale national existent | D14: =IF(E14="0-Aucun résultat",0,IF(E14="1-Légers résultats",1,IF(E14="2-Bons résultats",2,IF(E14="3-Résultats remarquables",3)))) -> 1 | E14: 1-Légers résultats
C15: Les données décrivent la taille estimée des populations dans le besoin. | D15: =IF(E15="0-Aucun résultat",0,IF(E15="1-Légers résultats",1,IF(E15="2-Bons résultats",2,IF(E15="3-Résultats remarquables",3)))) -> 2 | E15: 2-Bons résultats
C16: Les données sont consolidées au niveau national. | D16: =IF(E16="0-Aucun résultat",0,IF(E16="1-Légers résultats",1,IF(E16="2-Bons résultats",2,IF(E16="3-Résultats remarquables",3)))) -> 3 | E16: 3-Résultats remarquables
C17: Les données sont désagrégées par sexe | D17: =IF(E17="0-Aucun résultat",0,IF(E17="1-Légers résultats",1,IF(E17="2-Bons résultats",2,IF(E17="3-Résultats remarquables",3)))) -> 0 | E17: 0-Aucun résultat
C18: Les données sont désagrégées par âge | D18: =IF(E18="0-Aucun résultat",0,IF(E18="1-Légers résultats",1,IF(E18="2-Bons résultats",2,IF(E18="3-Résultats remarquables",3)))) -> 2 | E18: 2-Bons résultats
C19: Les données sont désagrégées par sous-population cible | D19: =IF(E19="0-Aucun résultat",0,IF(E19="1-Légers résultats",1,IF(E19="2-Bons résultats",2,IF(E19="3-Résultats remarquables",3)))) -> 0 | E19: 0-Aucun résultat
C20: Les données sont validées au niveau national, régional et divisionnaire | D20: =IF(E20="0-Aucun résultat",0,IF(E20="1-Légers résultats",1,IF(E20="2-Bons résultats",2,IF(E20="3-Résultats remarquables",3)))) -> 0 | E20: 0-Aucun résultat
C21: Les données sont actualisées | D21: =IF(E21="0-Aucun résultat",0,IF(E21="1-Légers résultats",1,IF(E21="2-Bons résultats",2,IF(E21="3-Résultats remarquables",3)))) -> 0 | E21: 0-Aucun résultat
C22: Les données sont complètes | D22: =IF(E22="0-Aucun résultat",0,IF(E22="1-Légers résultats",1,IF(E22="2-Bons résultats",2,IF(E22="3-Résultats remarquables",3)))) -> 0 | E22: 0-Aucun résultat
C23: Les données sont exactes | D23: =IF(E23="0-Aucun résultat",0,IF(E23="1-Légers résultats",1,IF(E23="2-Bons résultats",2,IF(E23="3-Résultats remarquables",3)))) -> 0 | E23: 0-Aucun résultat
D24: =IF(E24="0-Aucun résultat",0,IF(E24="1-Légers résultats",1,IF(E24="2-Bons résultats",2,IF(E24="3-Résultats remarquables",3)))) -> FALSE
D25: =IF(E25="0-Aucun résultat",0,IF(E25="1-Légers résultats",1,IF(E25="2-Bons résultats",2,IF(E25="3-Résultats remarquables",3)))) -> FALSE
A26: 4.3 | B26: Existence d’un plan de suivi et évaluation national de bonne qualité comprenant la protection de l’enfance | C26: Il inclut un cadre de résultats. | D26: =IF(E26="0-Aucun résultat",0,IF(E26="1-Légers résultats",1,IF(E26="2-Bons résultats",2,IF(E26="3-Résultats remarquables",3)))) -> 1 | E26: 1-Légers résultats
C27: Il inclut des définitions détaillées des indicateurs et des protocoles. | D27: =IF(E27="0-Aucun résultat",0,IF(E27="1-Légers résultats",1,IF(E27="2-Bons résultats",2,IF(E27="3-Résultats remarquables",3)))) -> 2 | E27: 2-Bons résultats
C28: Les rôles et les responsabilités en matière de S&E sont clairement définis pour les parties prenantes nationales et sous-nationales. | D28: =IF(E28="0-Aucun résultat",0,IF(E28="1-Légers résultats",1,IF(E28="2-Bons résultats",2,IF(E28="3-Résultats remarquables",3)))) -> 3 | E28: 3-Résultats remarquables
C29: Il inclut un plan de travail chiffré. | D29: =IF(E29="0-Aucun résultat",0,IF(E29="1-Légers résultats",1,IF(E29="2-Bons résultats",2,IF(E29="3-Résultats remarquables",3)))) -> 0 | E29: 0-Aucun résultat
C30: Il inclut des conseils quant à la manière dont les données peuvent être utilisées aussi bien par les parties prenantes nationales que par les acteurs sous-nationaux. | D30: =IF(E30="0-Aucun résultat",0,IF(E30="1-Légers résultats",1,IF(E30="2-Bons résultats",2,IF(E30="3-Résultats remarquables",3)))) -> 3 | E30: 3-Résultats remarquables
C31: Il a été approuvé par l'autorité compétente. | D31: =IF(E31="0-Aucun résultat",0,IF(E31="1-Légers résultats",1,IF(E31="2-Bons résultats",2,IF(E31="3-Résultats remarquables",3)))) -> 0 | E31: 0-Aucun résultat
D32: =IF(E32="0-Aucun résultat",0,IF(E32="1-Légers résultats",1,IF(E32="2-Bons résultats",2,IF(E32="3-Résultats remarquables",3)))) -> FALSE
D33: =IF(E33="0-Aucun résultat",0,IF(E33="1-Légers résultats",1,IF(E33="2-Bons résultats",2,IF(E33="3-Résultats remarquables",3)))) -> FALSE
A34: 4.4 | B34: Disponibilité de données de bonne qualité sur la protection de l’enfance | C34: Des données décrivant la prestation des programmes de protection de l’enfance existent | D34: =IF(E34="0-Aucun résultat",0,IF(E34="1-Légers résultats",1,IF(E34="2-Bons résultats",2,IF(E34="3-Résultats remarquables",3)))) -> 0 | E34: 0-Aucun résultat
C35: Les données décrivent la taille estimée de la population dans le besoin. | D35: =IF(E35="0-Aucun résultat",0,IF(E35="1-Légers résultats",1,IF(E35="2-Bons résultats",2,IF(E35="3-Résultats remarquables",3)))) -> 1 | E35: 1-Légers résultats
C36: Les données sont consolidées au niveau national. | D36: =IF(E36="0-Aucun résultat",0,IF(E36="1-Légers résultats",1,IF(E36="2-Bons résultats",2,IF(E36="3-Résultats remarquables",3)))) -> 2 | E36: 2-Bons résultats
C37: Les données sont désagrégées par sexe | D37: =IF(E37="0-Aucun résultat",0,IF(E37="1-Légers résultats",1,IF(E37="2-Bons résultats",2,IF(E37="3-Résultats remarquables",3)))) -> 3 | E37: 3-Résultats remarquables
C38: Les données sont désagrégées par âge | D38: =IF(E38="0-Aucun résultat",0,IF(E38="1-Légers résultats",1,IF(E38="2-Bons résultats",2,IF(E38="3-Résultats remarquables",3)))) -> 0 | E38: 0-Aucun résultat
C39: Les données sont désagrégées par violation de la protection de l’enfant | D39: =IF(E39="0-Aucun résultat",0,IF(E39="1-Légers résultats",1,IF(E39="2-Bons résultats",2,IF(E39="3-Résultats remarquables",3)))) -> 0 | E39: 0-Aucun résultat
C40: 5. Les données sont désagrégées par région, division et sous-division | D40: =IF(E40="0-Aucun résultat",0,IF(E40="1-Légers résultats",1,IF(E40="2-Bons résultats",2,IF(E40="3-Résultats remarquables",3)))) -> 0 | E40: 0-Aucun résultat
C41: Les données sont actuelles | D41: =IF(E41="0-Aucun résultat",0,IF(E41="1-Légers résultats",1,IF(E41="2-Bons résultats",2,IF(E41="3-Résultats remarquables",3)))) -> 0 | E41: 0-Aucun résultat
...

Sheet 5. Coordination et réseautage
C1: 5. Mécanisme de coordination et réseautage
C2: Instructions: Il y a 6 indicateurs dans cette composante du système. Attribuez un score pour chacun des référentiels listés. Pour chacun des référentiels, ajoutez une justification pour expliquer le score attribué. Chaque référentiel est défini en détail dans la fiche de référence de l'indicateur correspondant.
A4: Rédigez un bref résumé des progrès réalisés à ce jour et du travail actuellement entrepris en matière de coordination et de réseautage
A5: Indicateur | C5: Chaque standard | D5: {hide} | E5: Scores | F5: Résumé justificatif du score attribué | G5: Indicator | H5: Number of Benchmarks | I5: Denominator | J5: Numerator
A6: 5.1 | B6: Existence d’un organisme national multisectoriel fonctionnel supervisant la mise en œuvre de la politique cadre de protection sociale sensible à l’enfant | C6: L'organisme dispose de fonctions de supervision globale. | D6: =IF(E6="0-Aucun résultat",0,IF(E6="1-Légers résultats",1,IF(E6="2-Bons résultats",2,IF(E6="3-Résultats remarquables",3)))) -> 0 | E6: 0-Aucun résultat | G6: 2.1 | H6: =COUNTA(C6:C14) -> 7 | I6: =H6*3 -> 21 | J6: =SUM(D6:D14) -> 9
C7: Financé pour occuper ses rôles et responsabilités | D7: =IF(E7="0-Aucun résultat",0,IF(E7="1-Légers résultats",1,IF(E7="2-Bons résultats",2,IF(E7="3-Résultats remarquables",3)))) -> 2 | E7: 2-Bons résultats | G7: 2.2 | H7: =COUNTA(C15:C23) -> 7 | I7: =H7*3 -> 21 | J7: =SUM(D15:D23) -> 16
C8: Fonction spécifique relative à la protection sociale sensible à l’enfant | D8: =IF(E8="0-Aucun résultat",0,IF(E8="1-Légers résultats",1,IF(E8="2-Bons résultats",2,IF(E8="3-Résultats remarquables",3)))) -> 3 | E8: 3-Résultats remarquables
C9: Autorisé | D9: =IF(E9="0-Aucun résultat",0,IF(E9="1-Légers résultats",1,IF(E9="2-Bons résultats",2,IF(E9="3-Résultats remarquables",3)))) -> 0 | E9: 0-Aucun résultat
C10: Multisectoriel | D10: =IF(E10="0-Aucun résultat",0,IF(E10="1-Légers résultats",1,IF(E10="2-Bons résultats",2,IF(E10="3-Résultats remarquables",3)))) -> 1 | E10: 1-Légers résultats
C11: Mandat clair | D11: =IF(E11="0-Aucun résultat",0,IF(E11="1-Légers résultats",1,IF(E11="2-Bons résultats",2,IF(E11="3-Résultats remarquables",3)))) -> 3 | E11: 3-Résultats remarquables
C12: Réunions régulières, en accord avec les termes de référence de l’organisme | D12: =IF(E12="0-Aucun résultat",0,IF(E12="1-Légers résultats",1,IF(E12="2-Bons résultats",2,IF(E12="3-Résultats remarquables",3)))) -> FALSE
D13: =IF(E13="0-Aucun résultat",0,IF(E13="1-Légers résultats",1,IF(E13="2-Bons résultats",2,IF(E13="3-Résultats remarquables",3)))) -> FALSE
D14: =IF(E14="0-Aucun résultat",0,IF(E14="1-Légers résultats",1,IF(E14="2-Bons résultats",2,IF(E14="3-Résultats remarquables",3)))) -> FALSE
A15: 5.2 | B15: Existence d’un organisme national multisectoriel fonctionnel supervisant la mise en œuvre de la politique cadre de protection de l’enfance | C15: L'organisme dispose d'une fonction de supervision globale. | D15: =IF(E15="0-Aucun résultat",0,IF(E15="1-Légers résultats",1,IF(E15="2-Bons résultats",2,IF(E15="3-Résultats remarquables",3)))) -> 2 | E15: 2-Bons résultats
C16: Financé pour occuper ses rôles et responsabilités | D16: =IF(E16="0-Aucun résultat",0,IF(E16="1-Légers résultats",1,IF(E16="2-Bons résultats",2,IF(E16="3-Résultats remarquables",3)))) -> 2 | E16: 2-Bons résultats
C17: L'organisme dispose d'une fonction de supervision propre à la protection de l'enfant. | D17: =IF(E17="0-Aucun résultat",0,IF(E17="1-Légers résultats",1,IF(E17="2-Bons résultats",2,IF(E17="3-Résultats remarquables",3)))) -> 3 | E17: 3-Résultats remarquables
C18: L’organisme a été validé par le gouvernement | D18: =IF(E18="0-Aucun résultat",0,IF(E18="1-Légers résultats",1,IF(E18="2-Bons résultats",2,IF(E18="3-Résultats remarquables",3)))) -> 2 | E18: 2-Bons résultats
C19: L’organisme est multisectoriel | D19: =IF(E19="0-Aucun résultat",0,IF(E19="1-Légers résultats",1,IF(E19="2-Bons résultats",2,IF(E19="3-Résultats remarquables",3)))) -> 3 | E19: 3-Résultats remarquables
C20: L’organisme dispose d’un mandat clair | D20: =IF(E20="0-Aucun résultat",0,IF(E20="1-Légers résultats",1,IF(E20="2-Bons résultats",2,IF(E20="3-Résultats remarquables",3)))) -> 2 | E20: 2-Bons résultats
C21: L’organisme a des réunions régulières, en accord avec ses termes de référence | D21: =IF(E21="0-Aucun résultat",0,IF(E21="1-Légers résultats",1,IF(E21="2-Bons résultats",2,IF(E21="3-Résultats remarquables",3)))) -> 2 | E21: 2-Bons résultats
D22: =IF(E22="0-Aucun résultat",0,IF(E22="1-Légers résultats",1,IF(E22="2-Bons résultats",2,IF(E22="3-Résultats remarquables",3)))) -> FALSE
D23: =IF(E23="0-Aucun résultat",0,IF(E23="1-Légers résultats",1,IF(E23="2-Bons résultats",2,IF(E23="3-Résultats remarquables",3)))) -> FALSE
A24: 5.3 | B24: Nombre et pourcentage de régions avec au moins un organisme de coordination multisectoriel fonctionnel supervisant la mise en œuvre de la politique cadre de protection sociale sensible à l’enfant | C24: Numérateur: Nombre de régions avec au moins un organisme de coordination multisectoriel veillant à la conformité avec les politiques de protection sociale et à leur supervision
C25: Dénominateur: Nombre total de régions du pays
C26: Pourcentage (calcul automatique) | E26: =E24/E25 -> #DIV/0!
A27: 5.4 | B27: Nombre et pourcentage de régions avec au moins un organisme de coordination multisectoriel fonctionnel supervisant la mise en œuvre de la politique cadre de protection de l’enfance | C27: Numérateur: Nombre de régions avec au moins un organisme de coordination multisectoriel supervisant et veillant à la conformité aux politiques de protection de l’enfance
C28: Dénominateur: Nombre total de régions du pays
C29: Pourcentage (calcul automatique) | E29: =E27/E28 -> #DIV/0!
A31: Rédigez un résumé des forces, des faiblesses et des recommandations identifiées

Sheet Résultats
B1: Summary of Results Across All Components
A3: Component | B3: System Component | C3: Indicator No. | D3: Indicator Name | E3: Number of Benchmarks | F3: Denominator | G3: Numerator | H3: % score | I3: Scoring category | L3: L&G | M3: SS | N3: Financing | O3: IM&A | P3: Coordination and Networking
A4: Leadership and Governance | B4: Leadership et gouvernance | C4: 1.1 | D4: Existence d’un cadre légal et politique pour la protection sociale sensible à l’enfant | E4: ='1. Leadership et gouvernance'!H6 -> 4 | F4: ='1. Leadership et gouvernance'!I6 -> 12 | G4: ='1. Leadership et gouvernance'!J6 -> 6 | H4: =(G4/F4) -> 0.5 | I4: =VLOOKUP(H4,Sheet5!A1:B4,2) -> Légers résultats ; améliorations modérées exigées | K4: Aucun résultat ; améliorations significatives exigées | L4: =COUNTIF(I4:I12,"Aucun résultat ; améliorations significatives exigées") -> 0 | M4: =COUNTIF(I13:I21,"Aucun résultat ; améliorations significatives exigées") -> 1 | N4: =COUNTIF(I22:I27,"Aucun résultat ; améliorations significatives exigées") -> 0 | O4: =COUNTIF(I28:I32,"Aucun résultat ; améliorations significatives exigées") -> 1 | P4: =COUNTIF(I33:I36,"Aucun résultat ; améliorations significatives exigées") -> 0
A5: Leadership and Governance | C5: 1.2 | D5: Existence d’un cadre légal et politique pour la protection de l’enfance | E5: ='1. Leadership et gouvernance'!H7 -> 3 | F5: ='1. Leadership et gouvernance'!I7 -> 9 | G5: ='1. Leadership et gouvernance'!J7 -> 6 | H5: =(G5/F5) -> 0.66666667 | I5: =VLOOKUP(H5,Sheet5!A1:B4,2) -> Légers résultats ; améliorations modérées exigées | K5: Légers résultats ; améliorations modérées exigées | L5: =COUNTIF(I4:I12,"Légers résultats ; améliorations modérées exigées") -> 7 | M5: =COUNTIF(I13:I21,"Légers résultats ; améliorations modérées exigées") -> 4 | N5: =COUNTIF(I22:I27,"Légers résultats ; améliorations modérées exigées") -> 2 | O5: =COUNTIF(I28:I32,"Légers résultats ; améliorations modérées exigées") -> 3 | P5: =COUNTIF(I33:I36,"Légers résultats ; améliorations modérées exigées") -> 1
A6: Leadership and Governance | C6: 1.3 | D6: Existence d’un plan national stratégique de bonne qualité traitant de la protection sociale sensible à l’enfant | E6: ='1. Leadership et gouvernance'!H8 -> 7 | F6: ='1. Leadership et gouvernance'!I8 -> 21 | G6: ='1. Leadership et gouvernance'!J8 -> 8 | H6: =(G6/F6) -> 0.38095238 | I6: =VLOOKUP(H6,Sheet5!A1:B4,2) -> Légers résultats ; améliorations modérées exigées | K6: Bons résultats ; améliorations mineures exigées | L6: =COUNTIF(I4:I12,"Bons résultats ; améliorations mineures exigées") -> 0 | M6: =COUNTIF(I13:I21,"Bons résultats ; améliorations mineures exigées") -> 0 | N6: =COUNTIF(I22:I27,"Bons résultats ; améliorations mineures exigées") -> 0 | O6: =COUNTIF(I28:I32,"Bons résultats ; améliorations mineures exigées") -> 0 | P6: =COUNTIF(I33:I36,"Bons résultats ; améliorations mineures exigées") -> 1
A7: Leadership and Governance | C7: 1.4 | D7: Preuve de la mise en œuvre du plan stratégique national traitant de la protection sociale sensible à l’enfant | E7: ='1. Leadership et gouvernance'!H9 -> 7 | F7: ='1. Leadership et gouvernance'!I9 -> 21 | G7: ='1. Leadership et gouvernance'!J9 -> 6 | H7: =(G7/F7) -> 0.28571429 | I7: =VLOOKUP(H7,Sheet5!A1:B4,2) -> Légers résultats ; améliorations modérées exigées | K7: Résultats remarquables ; aucune amélioration exigée | L7: =COUNTIF(I4:I12,"Résultats remarquables ; aucune amélioration exigée") -> 0 | M7: =COUNTIF(I13:I21,"Résultats remarquables ; aucune amélioration exigée") -> 0 | N7: =COUNTIF(I22:I27,"Résultats remarquables ; aucune amélioration exigée") -> 0 | O7: =COUNTIF(I28:I32,"Résultats remarquables ; aucune amélioration exigée") -> 0 | P7: =COUNTIF(I33:I36,"Résultats remarquables ; aucune amélioration exigée") -> 0
A8: Leadership and Governance | C8: 1.5 | D8: Existence d’un plan stratégique national de bonne qualité traitant de la protection de l’enfance | E8: ='1. Leadership et gouvernance'!H10 -> 7 | F8: ='1. Leadership et gouvernance'!I10 -> 21 | G8: ='1. Leadership et gouvernance'!J10 -> 6 | H8: =(G8/F8) -> 0.28571429 | I8: =VLOOKUP(H8,Sheet5!A1:B4,2) -> Légers résultats ; améliorations modérées exigées
A9: Leadership and Governance | C9: 1.6 | D9: Preuve de la mise en œuvre du plan stratégique national traitant de la protection de l’enfance | E9: ='1. Leadership et gouvernance'!H11 -> 6 | F9: ='1. Leadership et gouvernance'!I11 -> 18 | G9: ='1. Leadership et gouvernance'!J11 -> 6 | H9: =(G9/F9) -> 0.33333333 | I9: =VLOOKUP(H9,Sheet5!A1:B4,2) -> Légers résultats ; améliorations modérées exigées
A10: Leadership and Governance | C10: 1.7 | D10: Le ministère des Services sociaux (ou son équivalent) dispose de capacités organisationnelles élémentaires | E10: ='1. Leadership et gouvernance'!H12 -> 4 | F10: ='1. Leadership et gouvernance'!I12 -> 12 | G10: ='1. Leadership et gouvernance'!J12 -> 5 | H10: =(G10/F10) -> 0.41666667 | I10: =VLOOKUP(H10,Sheet5!A1:B4,2) -> Légers résultats ; améliorations modérées exigées
A11: Leadership and Governance | C11: 1.8 | D11: Nombre et pourcentage de régions (ou son équivalent) ayant un plan stratégique de bonne qualité traitant de la protection sociale sensible à l’enfant | F11: ='1. Leadership et gouvernance'!E59 -> 0 | G11: ='1. Leadership et gouvernance'!E58 -> 0 | H11: =(G11/F11) -> #DIV/0! | I11: =VLOOKUP(H11,Sheet5!A1:B4,2) -> #DIV/0!
A12: Leadership and Governance | C12: 1.9 | D12: Nombre et pourcentage de régions ayant un plan stratégique de bonne qualité traitant de la protection de l’enfance | F12: ='1. Leadership et gouvernance'!E62 -> 0 | G12: ='1. Leadership et gouvernance'!E61 -> 0 | H12: =(G12/F12) -> #DIV/0! | I12: =VLOOKUP(H12,Sheet5!A1:B4,2) -> #DIV/0!
A13: Social service Workforce | B13: Personnel du secteur social | C13: 2.1 | D13: Existence d’un cadre régulateur national pour le personnel du secteur social | E13: ='2. Personnel du secteur social'!H6 -> 8 | F13: ='2. Personnel du secteur social'!I6 -> 24 | G13: ='2. Personnel du secteur social'!J6 -> 8 | H13: =G13/F13 -> 0.33333333 | I13: =VLOOKUP(H13,Sheet5!A1:B4,2) -> Légers résultats ; améliorations modérées exigées
A14: Social service Workforce | C14: 2.2 | D14: Existence d’un organisme régulateur national fonctionnel pour le personnel du secteur social | E14: ='2. Personnel du secteur social'!H7 -> 8 | F14: ='2. Personnel du secteur social'!I7 -> 24 | G14: ='2. Personnel du secteur social'!J7 -> 6 | H14: =G14/F14 -> 0.25 | I14: =VLOOKUP(H14,Sheet5!A1:B4,2) -> Légers résultats ; améliorations modérées exigées
A15: Social service Workforce | C15: 2.3 | D15: Disponibilité de données de bonne qualité sur le personnel du secteur social | E15: ='2. Personnel du secteur social'!H8 -> 9 | F15: ='2. Personnel du secteur social'!I8 -> 27 | G15: ='2. Personnel du secteur social'!J8 -> 6 | H15: =G15/F15 -> 0.22222222 | I15: =VLOOKUP(H15,Sheet5!A1:B4,2) -> Aucun résultat ; améliorations significatives exigées
A16: Social service Workforce | C16: 2.4 | D16: Existence d’un plan national stratégique de bonne qualité comprenant le renforcement du personnel du secteur social | E16: ='2. Personnel du secteur social'!H9 -> 7 | F16: ='2. Personnel du secteur social'!I9 -> 21 | G16: ='2. Personnel du secteur social'!J9 -> 6 | H16: =G16/F16 -> 0.28571429 | I16: =VLOOKUP(H16,Sheet5!A1:B4,2) -> Légers résultats ; améliorations modérées exigées
A17: Social service Workforce | C17: 2.5 | D17: Existence d’une association professionnelle nationale fonctionnelle pour les praticiens du secteur social | E17: ='2. Personnel du secteur social'!H10 -> 5 | F17: ='2. Personnel du secteur social'!I10 -> 15 | G17: ='2. Personnel du secteur social'!J10 -> 6 | H17: =G17/F17 -> 0.4 | I17: =VLOOKUP(H17,Sheet5!A1:B4,2) -> Légers résultats ; améliorations modérées exigées
A18: Social service Workforce | C18: 2.6 | D18: Nombre de travailleurs de services sociaux certifiés, par catégorie
A19: Social service Workforce | C19: 2.7 | D19: Nombre de travailleurs de services sociaux inscrits, par catégorie
A20: Social service Workforce | C20: 2.8 | D20: Ratio des travailleurs des services sociaux chargés du bien-être de l’enfant pour la population infantile totale | F20: ='2. Personnel du secteur social'!E66 -> 0 | G20: ='2. Personnel du secteur social'!E65 -> 0 | H20: =G20/F20 -> #DIV/0! | I20: =VLOOKUP(H20,Sheet5!A1:B4,2) -> #DIV/0!
A21: Social service Workforce | C21: 2.9 | D21: Taux de vacances des postes de fonctionnaires du secteur social, par type de poste | F21: ='2. Personnel du secteur social'!E69 -> 0 | G21: ='2. Personnel du secteur social'!E68 -> 0 | H21: =G21/F21 -> #DIV/0! | I21: =VLOOKUP(H21,Sheet5!A1:B4,2) -> #DIV/0!
A22: Financing | B22: Financement | C22: 3.1 | D22: Le cadre des dépenses à moyen terme (ou son équivalent) national comprend la politique et le programme de protection sociale sensible à l’enfant | E22: ='3. Financement'!H6 -> 5 | F22: ='3. Financement'!I6 -> 15 | G22: ='3. Financement'!J6 -> 6 | H22: =G22/F22 -> 0.4 | I22: =VLOOKUP(H22,Sheet5!A1:B4,2) -> Légers résultats ; améliorations modérées exigées
A23: Financing | C23: 3.2 | D23: Le cadre de dépenses nationales à moyen terme (ou son équivalent) inclut la politique et le programme de protection de l’enfance | E23: ='3. Financement'!H7 -> 4 | F23: ='3. Financement'!I7 -> 12 | G23: ='3. Financement'!J7 -> 6 | H23: =G23/F23 -> 0.5 | I23: =VLOOKUP(H23,Sheet5!A1:B4,2) -> Légers résultats ; améliorations modérées exigées
A24: Financing | C24: 3.3 | D24: Allocation budgétaire annuelle totale du gouvernement pour la protection sociale sensible à l’enfant | G24: ='3. Financement'!D19 -> 0
A25: Financing | C25: 3.4 | D25: Allocation budgétaire annuelle totale du gouvernement pour la protection de l’enfance | G25: ='3. Financement'!D20 -> 0
A26: Financing | C26: 3.5 | D26: Dépenses annuelles totales du gouvernement pour la protection sociale sensible à l’enfant | G26: ='3. Financement'!D21 -> 0
A27: Financing | C27: 3.6 | D27: Dépenses annuelles totales du gouvernement pour la protection de l’enfance | G27: ='3. Financement'!D22 -> 0
A28: Information Management and Accountability | B28: Systèmes de gestion de l’information et de redevabilité | C28: 4.1 | D28: Existence d’un plan de suivi et évaluation national de bonne qualité comprenant la protection sociale sensible à l’enfant | E28: ='4. Systèmes de gestion de l’inf'!H6 -> 6 | F28: ='4. Systèmes de gestion de l’inf'!I6 -> 18 | G28: ='4. Systèmes de gestion de l’inf'!J6 -> 6 | H28: =G28/F28 -> 0.33333333 | I28: =VLOOKUP(H28,Sheet5!A1:B4,2) -> Légers résultats ; améliorations modérées exigées
A29: Information Management and Accountability | C29: 4.2 | D29: Disponibilité de données de bonne qualité sur la protection sociale sensible à l’enfant | E29: ='4. Systèmes de gestion de l’inf'!H7 -> 10 | F29: ='4. Systèmes de gestion de l’inf'!I7 -> 30 | G29: ='4. Systèmes de gestion de l’inf'!J7 -> 8 | H29: =G29/F29 -> 0.26666667 | I29: =VLOOKUP(H29,Sheet5!A1:B4,2) -> Légers résultats ; améliorations modérées exigées
A30: Information Management and Accountability | C30: 4.3 | D30: Existence d’un plan de suivi et évaluation national de bonne qualité comprenant la protection de l’enfance | E30: ='4. Systèmes de gestion de l’inf'!H8 -> 6 | F30: ='4. Systèmes de gestion de l’inf'!I8 -> 18 | G30: ='4. Systèmes de gestion de l’inf'!J8 -> 9 | H30: =G30/F30 -> 0.5 | I30: =VLOOKUP(H30,Sheet5!A1:B4,2) -> Légers résultats ; améliorations modérées exigées
A31: Information Management and Accountability | C31: 4.4 | D31: Disponibilité de données de bonne qualité sur la protection de l’enfance | E31: ='4. Systèmes de gestion de l’inf'!H9 -> 11 | F31: ='4. Systèmes de gestion de l’inf'!I9 -> 33 | G31: ='4. Systèmes de gestion de l’inf'!J9 -> 6 | H31: =G31/F31 -> 0.18181818 | I31: =VLOOKUP(H31,Sheet5!A1:B4,2) -> Aucun résultat ; améliorations significatives exigées
A32: Information Management and Accountability | C32: 4.5 | D32: Pourcentage de régions soumettant des données complètes dans les délais prescrits au ministère national des services sociaux (ou son équivalent) concernant les services sociaux sensibles à l'enfant | E32: ='4. Systèmes de gestion de l’inf'!D48 -> 0 | F32: ='4. Systèmes de gestion de l’inf'!E48 -> 0 | G32: ='4. Systèmes de gestion de l’inf'!E47 -> 0 | H32: =G32/F32 -> #DIV/0!
A33: Coordination and Networking | B33: Mécanisme de coordination et réseautage | C33: 5.1 | D33: Existence d’un organisme national multisectoriel fonctionnel supervisant la mise en œuvre de la politique cadre de protection sociale sensible à l’enfant | E33: ='5. Coordination et réseautage'!H6 -> 7 | F33: ='5. Coordination et réseautage'!I6 -> 21 | G33: ='5. Coordination et réseautage'!J6 -> 9 | H33: =G33/F33 -> 0.42857143 | I33: =VLOOKUP(H33,Sheet5!A1:B4,2) -> Légers résultats ; améliorations modérées exigées
A34: Coordination and Networking | C34: 5.2 | D34: Existence d’un organisme national multisectoriel fonctionnel supervisant la mise en œuvre de la politique cadre de protection de l’enfance | E34: ='5. Coordination et réseautage'!H7 -> 7 | F34: ='5. Coordination et réseautage'!I7 -> 21 | G34: ='5. Coordination et réseautage'!J7 -> 16 | H34: =G34/F34 -> 0.76190476 | I34: =VLOOKUP(H34,Sheet5!A1:B4,2) -> Bons résultats ; améliorations mineures exigées
A35: Coordination and Networking | C35: 5.3 | D35: Nombre et pourcentage de régions avec au moins un organisme de coordination multisectoriel fonctionnel supervisant la mise en œuvre de la politique cadre de protection sociale sensible à l’enfant | F35: ='5. Coordination et réseautage'!E25 -> 0 | G35: ='5. Coordination et réseautage'!E24 -> 0 | H35: =G35/F35 -> #DIV/0!
A36: Coordination and Networking | C36: 5.4 | D36: Nombre et pourcentage de régions avec au moins un organisme de coordination multisectoriel fonctionnel supervisant la mise en œuvre de la politique cadre de protection de l’enfance | F36: ='5. Coordination et réseautage'!E28 -> 0 | G36: ='5. Coordination et réseautage'!E27 -> 0 | H36: =G36/F36 -> #DIV/0!

Sheet Sheet5
A1: 1e-10 | B1: Aucun résultat ; améliorations significatives exigées | D1: Count of Component | E1: Column Labels
A2: 0.25 | B2: Légers résultats ; améliorations modérées exigées | D2: Row Labels | E2: Financing | F2: Information Management and Accountability | G2: Leadership and Governance | H2: Social service Workforce | I2: Coordination and Networking | J2: Grand Total
A3: 0.75 | B3: Bons résultats ; améliorations mineures exigées | D3: Légers résultats ; améliorations modérées exigées | E3: 2 | F3: 3 | G3: 7 | H3: 4 | I3: 1 | J3: 17
A4: 1 | B4: Résultats remarquables ; aucune amélioration exigée | D4: Aucun résultat ; améliorations significatives exigées | F4: 1 | H4: 1 | J4: 2
D5: Bons résultats ; améliorations mineures exigées | I5: 1 | J5: 1
A6: 1e-10 | B6: 1 | D6: Grand Total | E6: 2 | F6: 4 | G6: 7 | H6: 5 | I6: 2 | J6: 20
A7: 0.25 | B7: 2
A8: 0.5 | B8: 3
A9: 0.75 | B9: 4

Sheet 1.Leadership et gov Dashboard
B2: Aperçu: Leadership et gouvernance
B28: Indicateurs et référentiels

Sheet 2. Personnel Dashboard
B2: Aperçu: Personnel du secteur social
B28: Indicateurs et référentiels

Sheet 3.Financement Dashboard
B2: Aperçu: Financement
B28: Indicateurs et référentiels

Sheet 4.  Gestion de l’info Dashboard
B2: Aperçu: Systèmes de gestion de l’information et de redevabilité
B28: Indicateurs et référentiels

Sheet 5.Coordination et rés Dashboard
B2: Aperçu: Mécanisme de coordination et réseautage
